BEGIN:VCALENDAR
VERSION:2.0
PRODID:-//Good Shepherd Lutheran Church and School - ECPv6.11.2//NONSGML v1.0//EN
CALSCALE:GREGORIAN
METHOD:PUBLISH
X-WR-CALNAME:Good Shepherd Lutheran Church and School
X-ORIGINAL-URL:https://goodshepherdsarasota.org
X-WR-CALDESC:Events for Good Shepherd Lutheran Church and School
REFRESH-INTERVAL;VALUE=DURATION:PT1H
X-Robots-Tag:noindex
X-PUBLISHED-TTL:PT1H
BEGIN:VTIMEZONE
TZID:UTC
BEGIN:STANDARD
TZOFFSETFROM:+0000
TZOFFSETTO:+0000
TZNAME:UTC
DTSTART:20260101T000000
END:STANDARD
END:VTIMEZONE
BEGIN:VEVENT
DTSTART;TZID=UTC:20260405T071500
DTEND;TZID=UTC:20260405T084500
DTSTAMP:20260421T132113
CREATED:20260121T173123Z
LAST-MODIFIED:20260121T173123Z
UID:3429-1775373300-1775378700@goodshepherdsarasota.org
SUMMARY:Easter Sunrise Sunday "Standing in Victory"
DESCRIPTION:
URL:https://goodshepherdsarasota.org/event/easter-sunrise-sunday-standing-in-victory/
END:VEVENT
BEGIN:VEVENT
DTSTART;TZID=UTC:20260405T091500
DTEND;TZID=UTC:20260405T104500
DTSTAMP:20260421T132113
CREATED:20260121T173217Z
LAST-MODIFIED:20260121T173217Z
UID:3431-1775380500-1775385900@goodshepherdsarasota.org
SUMMARY:Easter Sunday "Standing in Victory"
DESCRIPTION:
URL:https://goodshepherdsarasota.org/event/easter-sunday-standing-in-victory/
END:VEVENT
END:VCALENDAR