BEGIN:VCALENDAR
VERSION:2.0
PRODID:-//Good Shepherd Lutheran Church and School - ECPv6.11.2//NONSGML v1.0//EN
CALSCALE:GREGORIAN
METHOD:PUBLISH
X-WR-CALNAME:Good Shepherd Lutheran Church and School
X-ORIGINAL-URL:https://goodshepherdsarasota.org
X-WR-CALDESC:Events for Good Shepherd Lutheran Church and School
REFRESH-INTERVAL;VALUE=DURATION:PT1H
X-Robots-Tag:noindex
X-PUBLISHED-TTL:PT1H
BEGIN:VTIMEZONE
TZID:UTC
BEGIN:STANDARD
TZOFFSETFROM:+0000
TZOFFSETTO:+0000
TZNAME:UTC
DTSTART:20260101T000000
END:STANDARD
END:VTIMEZONE
BEGIN:VEVENT
DTSTART;TZID=UTC:20260407T174500
DTEND;TZID=UTC:20260407T184500
DTSTAMP:20260421T204752
CREATED:20260226T183939Z
LAST-MODIFIED:20260226T183939Z
UID:3490-1775583900-1775587500@goodshepherdsarasota.org
SUMMARY:School Board Meeting
DESCRIPTION:
URL:https://goodshepherdsarasota.org/event/school-board-meeting-14/
END:VEVENT
BEGIN:VEVENT
DTSTART;VALUE=DATE:20260406
DTEND;VALUE=DATE:20260407
DTSTAMP:20260421T204752
CREATED:20260113T151228Z
LAST-MODIFIED:20260113T152534Z
UID:3387-1775433600-1775519999@goodshepherdsarasota.org
SUMMARY:Easter Monday-School Closed
DESCRIPTION:
URL:https://goodshepherdsarasota.org/event/easter-monday-school-closed/
END:VEVENT
BEGIN:VEVENT
DTSTART;TZID=UTC:20260405T091500
DTEND;TZID=UTC:20260405T104500
DTSTAMP:20260421T204752
CREATED:20260121T173217Z
LAST-MODIFIED:20260121T173217Z
UID:3431-1775380500-1775385900@goodshepherdsarasota.org
SUMMARY:Easter Sunday "Standing in Victory"
DESCRIPTION:
URL:https://goodshepherdsarasota.org/event/easter-sunday-standing-in-victory/
END:VEVENT
BEGIN:VEVENT
DTSTART;TZID=UTC:20260405T071500
DTEND;TZID=UTC:20260405T084500
DTSTAMP:20260421T204752
CREATED:20260121T173123Z
LAST-MODIFIED:20260121T173123Z
UID:3429-1775373300-1775378700@goodshepherdsarasota.org
SUMMARY:Easter Sunrise Sunday "Standing in Victory"
DESCRIPTION:
URL:https://goodshepherdsarasota.org/event/easter-sunrise-sunday-standing-in-victory/
END:VEVENT
BEGIN:VEVENT
DTSTART;TZID=UTC:20260403T190000
DTEND;TZID=UTC:20260403T200000
DTSTAMP:20260421T204752
CREATED:20260121T172919Z
LAST-MODIFIED:20260121T172919Z
UID:3427-1775242800-1775246400@goodshepherdsarasota.org
SUMMARY:Good Friday "Standing in Forgiveness"
DESCRIPTION:
URL:https://goodshepherdsarasota.org/event/good-friday-standing-in-forgiveness/
END:VEVENT
BEGIN:VEVENT
DTSTART;TZID=UTC:20260403T080000
DTEND;TZID=UTC:20260403T130000
DTSTAMP:20260421T204752
CREATED:20260113T151134Z
LAST-MODIFIED:20260113T151134Z
UID:3385-1775203200-1775221200@goodshepherdsarasota.org
SUMMARY:Good Friday\, Egg Hunt School Closed
DESCRIPTION:
URL:https://goodshepherdsarasota.org/event/good-friday-egg-hunt-school-closed/
END:VEVENT
BEGIN:VEVENT
DTSTART;TZID=UTC:20260402T190000
DTEND;TZID=UTC:20260402T200000
DTSTAMP:20260421T204752
CREATED:20260121T172822Z
LAST-MODIFIED:20260121T172822Z
UID:3425-1775156400-1775160000@goodshepherdsarasota.org
SUMMARY:Maundy Thursday "Standing in Faith"
DESCRIPTION:
URL:https://goodshepherdsarasota.org/event/maundy-thursday-standing-in-faith/
END:VEVENT
BEGIN:VEVENT
DTSTART;TZID=UTC:20260330T190000
DTEND;TZID=UTC:20260330T200000
DTSTAMP:20260421T204752
CREATED:20260226T184240Z
LAST-MODIFIED:20260226T184240Z
UID:3494-1774897200-1774900800@goodshepherdsarasota.org
SUMMARY:Lector & Usher Training
DESCRIPTION:Good Shepherd is always looking for more people to serve as lectors and ushers. Please let the church office or Gary Schroeder know if you want to serve in those capacities. “OKAY…BUT WHAT DO I DO?” Good question. There will be a Lector and Usher Training session on Monday\, March 30th at 7 PM. Everyone interested in serving or getting some updated training should join us on that evening!
URL:https://goodshepherdsarasota.org/event/lector-usher-training/
END:VEVENT
BEGIN:VEVENT
DTSTART;TZID=UTC:20260329T091500
DTEND;TZID=UTC:20260329T104500
DTSTAMP:20260421T204752
CREATED:20260121T172729Z
LAST-MODIFIED:20260121T172729Z
UID:3423-1774775700-1774781100@goodshepherdsarasota.org
SUMMARY:Palm Sunday "Standing in Humility"
DESCRIPTION:
URL:https://goodshepherdsarasota.org/event/palm-sunday-standing-in-humility/
END:VEVENT
BEGIN:VEVENT
DTSTART;TZID=UTC:20260325T190000
DTEND;TZID=UTC:20260325T200000
DTSTAMP:20260421T204752
CREATED:20260121T172447Z
LAST-MODIFIED:20260121T172544Z
UID:3421-1774465200-1774468800@goodshepherdsarasota.org
SUMMARY:Lent Service "Standing in Truth"
DESCRIPTION:
URL:https://goodshepherdsarasota.org/event/lent-service-standing-in-truth/
END:VEVENT
BEGIN:VEVENT
DTSTART;TZID=UTC:20260323T180000
DTEND;TZID=UTC:20260323T190000
DTSTAMP:20260421T204752
CREATED:20260226T184043Z
LAST-MODIFIED:20260226T184043Z
UID:3492-1774288800-1774292400@goodshepherdsarasota.org
SUMMARY:Elder's Meeting
DESCRIPTION:
URL:https://goodshepherdsarasota.org/event/elders-meeting-11/
END:VEVENT
BEGIN:VEVENT
DTSTART;TZID=UTC:20260318T190000
DTEND;TZID=UTC:20260318T200000
DTSTAMP:20260421T204752
CREATED:20260121T172330Z
LAST-MODIFIED:20260121T172330Z
UID:3419-1773860400-1773864000@goodshepherdsarasota.org
SUMMARY:Lent Service "Standing Through Persecution"
DESCRIPTION:
URL:https://goodshepherdsarasota.org/event/lent-service-standing-through-persecution/
END:VEVENT
BEGIN:VEVENT
DTSTART;TZID=UTC:20260316T180000
DTEND;TZID=UTC:20260316T190000
DTSTAMP:20260421T204752
CREATED:20260218T171943Z
LAST-MODIFIED:20260218T172458Z
UID:3462-1773684000-1773687600@goodshepherdsarasota.org
SUMMARY:Church Council Meeting
DESCRIPTION:
URL:https://goodshepherdsarasota.org/event/church-council-meeting-20/
END:VEVENT
BEGIN:VEVENT
DTSTART;VALUE=DATE:20260316
DTEND;VALUE=DATE:20260324
DTSTAMP:20260421T204752
CREATED:20260113T151017Z
LAST-MODIFIED:20260113T151350Z
UID:3383-1773619200-1774310399@goodshepherdsarasota.org
SUMMARY:Spring Break- School Closed
DESCRIPTION:
URL:https://goodshepherdsarasota.org/event/spring-break-2/
END:VEVENT
BEGIN:VEVENT
DTSTART;VALUE=DATE:20260313
DTEND;VALUE=DATE:20260314
DTSTAMP:20260421T204752
CREATED:20260113T150937Z
LAST-MODIFIED:20260113T150937Z
UID:3381-1773360000-1773446399@goodshepherdsarasota.org
SUMMARY:Parent Teacher Conference Day School Closed
DESCRIPTION:
URL:https://goodshepherdsarasota.org/event/parent-teacher-conference-day-school-closed-2/
END:VEVENT
BEGIN:VEVENT
DTSTART;TZID=UTC:20260311T190000
DTEND;TZID=UTC:20260311T200000
DTSTAMP:20260421T204752
CREATED:20260121T172235Z
LAST-MODIFIED:20260121T172235Z
UID:3417-1773255600-1773259200@goodshepherdsarasota.org
SUMMARY:Lent Service "Standing in Suffering"
DESCRIPTION:
URL:https://goodshepherdsarasota.org/event/lent-service-standing-in-suffering/
END:VEVENT
BEGIN:VEVENT
DTSTART;TZID=UTC:20260304T190000
DTEND;TZID=UTC:20260304T200000
DTSTAMP:20260421T204752
CREATED:20260121T172134Z
LAST-MODIFIED:20260121T172134Z
UID:3415-1772650800-1772654400@goodshepherdsarasota.org
SUMMARY:Lent Service "Standing Unafraid"
DESCRIPTION:
URL:https://goodshepherdsarasota.org/event/lent-service-standing-unafraid/
END:VEVENT
BEGIN:VEVENT
DTSTART;TZID=UTC:20260302T080000
DTEND;TZID=UTC:20260303T130000
DTSTAMP:20260421T204752
CREATED:20260113T150823Z
LAST-MODIFIED:20260113T150823Z
UID:3379-1772438400-1772542800@goodshepherdsarasota.org
SUMMARY:Spring Pictures
DESCRIPTION:
URL:https://goodshepherdsarasota.org/event/spring-pictures/
END:VEVENT
BEGIN:VEVENT
DTSTART;TZID=UTC:20260228T100000
DTEND;TZID=UTC:20260228T140000
DTSTAMP:20260421T204752
CREATED:20260113T150623Z
LAST-MODIFIED:20260115T183746Z
UID:3377-1772272800-1772287200@goodshepherdsarasota.org
SUMMARY:Building Bash
DESCRIPTION:
URL:https://goodshepherdsarasota.org/event/building-bash-2/
END:VEVENT
BEGIN:VEVENT
DTSTART;TZID=UTC:20260225T190000
DTEND;TZID=UTC:20260225T200000
DTSTAMP:20260421T204752
CREATED:20260121T172030Z
LAST-MODIFIED:20260121T172030Z
UID:3413-1772046000-1772049600@goodshepherdsarasota.org
SUMMARY:Lent Service " Standing in Prayer"
DESCRIPTION:
URL:https://goodshepherdsarasota.org/event/lent-service-standing-in-prayer/
END:VEVENT
BEGIN:VEVENT
DTSTART;TZID=UTC:20260225T110000
DTEND;TZID=UTC:20260225T113000
DTSTAMP:20260421T204752
CREATED:20260218T171750Z
LAST-MODIFIED:20260218T171750Z
UID:3460-1772017200-1772019000@goodshepherdsarasota.org
SUMMARY:Tour New School Buliding
DESCRIPTION:On Wednesday\, February 25\, you are invited to tour the new school building between 11:00–11:30 AM. Join the children as they write inspiring chalk messages!
URL:https://goodshepherdsarasota.org/event/tour-new-school-buliding/
END:VEVENT
BEGIN:VEVENT
DTSTART;TZID=UTC:20260224T174500
DTEND;TZID=UTC:20260224T183000
DTSTAMP:20260421T204752
CREATED:20260121T171735Z
LAST-MODIFIED:20260121T171735Z
UID:3407-1771955100-1771957800@goodshepherdsarasota.org
SUMMARY:School Board Meeting
DESCRIPTION:
URL:https://goodshepherdsarasota.org/event/school-board-meeting-13/
END:VEVENT
BEGIN:VEVENT
DTSTART;TZID=UTC:20260223T180000
DTEND;TZID=UTC:20260223T190000
DTSTAMP:20260421T204752
CREATED:20260218T165921Z
LAST-MODIFIED:20260218T165921Z
UID:3458-1771869600-1771873200@goodshepherdsarasota.org
SUMMARY:Elder's Meeting
DESCRIPTION:
URL:https://goodshepherdsarasota.org/event/elders-meeting-10/
END:VEVENT
BEGIN:VEVENT
DTSTART;TZID=UTC:20260218T190000
DTEND;TZID=UTC:20260218T200000
DTSTAMP:20260421T204752
CREATED:20260121T171827Z
LAST-MODIFIED:20260121T171827Z
UID:3409-1771441200-1771444800@goodshepherdsarasota.org
SUMMARY:Ash Wednesday Service
DESCRIPTION:
URL:https://goodshepherdsarasota.org/event/ash-wednesday-service-2/
END:VEVENT
BEGIN:VEVENT
DTSTART;TZID=UTC:20260216T180000
DTEND;TZID=UTC:20260216T190000
DTSTAMP:20260421T204752
CREATED:20260121T171632Z
LAST-MODIFIED:20260121T171632Z
UID:3405-1771264800-1771268400@goodshepherdsarasota.org
SUMMARY:Church Council Meeting
DESCRIPTION:
URL:https://goodshepherdsarasota.org/event/church-council-meeting-19/
END:VEVENT
BEGIN:VEVENT
DTSTART;VALUE=DATE:20260216
DTEND;VALUE=DATE:20260217
DTSTAMP:20260421T204752
CREATED:20260113T150540Z
LAST-MODIFIED:20260113T150540Z
UID:3375-1771200000-1771286399@goodshepherdsarasota.org
SUMMARY:President's Day
DESCRIPTION:
URL:https://goodshepherdsarasota.org/event/presidents-day-2/
END:VEVENT
BEGIN:VEVENT
DTSTART;TZID=UTC:20260212T173000
DTEND;TZID=UTC:20260212T193000
DTSTAMP:20260421T204752
CREATED:20260121T171938Z
LAST-MODIFIED:20260121T171938Z
UID:3411-1770917400-1770924600@goodshepherdsarasota.org
SUMMARY:Fellowship Dinner at Olive Garden
DESCRIPTION:
URL:https://goodshepherdsarasota.org/event/fellowship-dinner-at-olive-garden/
END:VEVENT
BEGIN:VEVENT
DTSTART;TZID=UTC:20260131T103000
DTEND;TZID=UTC:20260131T120000
DTSTAMP:20260421T204752
CREATED:20260106T191605Z
LAST-MODIFIED:20260106T191605Z
UID:3364-1769855400-1769860800@goodshepherdsarasota.org
SUMMARY:Memorial Service Goldie Ankley
DESCRIPTION:There will be a Memorial Service to celebrate the life of Goldie Ankley on Saturday\, January 31\, 2026\, starting at 10:30 AM. There will be a luncheon afterwards in Mennicke Hall.
URL:https://goodshepherdsarasota.org/event/memorial-service-goldie-ankley/
END:VEVENT
BEGIN:VEVENT
DTSTART;TZID=UTC:20260128T190000
DTEND;TZID=UTC:20260128T210000
DTSTAMP:20260421T204752
CREATED:20251217T171003Z
LAST-MODIFIED:20251217T171003Z
UID:3334-1769626800-1769634000@goodshepherdsarasota.org
SUMMARY:Stonehaven HOA Meeting
DESCRIPTION:
URL:https://goodshepherdsarasota.org/event/stonehaven-hoa-meeting/
END:VEVENT
BEGIN:VEVENT
DTSTART;TZID=UTC:20260126T180000
DTEND;TZID=UTC:20260126T190000
DTSTAMP:20260421T204752
CREATED:20260121T171523Z
LAST-MODIFIED:20260121T171523Z
UID:3403-1769450400-1769454000@goodshepherdsarasota.org
SUMMARY:Elders Meeting
DESCRIPTION:
URL:https://goodshepherdsarasota.org/event/elders-meeting-9/
END:VEVENT
END:VCALENDAR