BEGIN:VCALENDAR
VERSION:2.0
PRODID:-//Good Shepherd Lutheran Church and School - ECPv6.11.2//NONSGML v1.0//EN
CALSCALE:GREGORIAN
METHOD:PUBLISH
X-WR-CALNAME:Good Shepherd Lutheran Church and School
X-ORIGINAL-URL:https://goodshepherdsarasota.org
X-WR-CALDESC:Events for Good Shepherd Lutheran Church and School
REFRESH-INTERVAL;VALUE=DURATION:PT1H
X-Robots-Tag:noindex
X-PUBLISHED-TTL:PT1H
BEGIN:VTIMEZONE
TZID:UTC
BEGIN:STANDARD
TZOFFSETFROM:+0000
TZOFFSETTO:+0000
TZNAME:UTC
DTSTART:20240101T000000
END:STANDARD
END:VTIMEZONE
BEGIN:VEVENT
DTSTART;TZID=UTC:20250420T070000
DTEND;TZID=UTC:20250420T083000
DTSTAMP:20260422T221807
CREATED:20250205T203756Z
LAST-MODIFIED:20250205T203756Z
UID:2862-1745132400-1745137800@goodshepherdsarasota.org
SUMMARY:Easter Morning Sunrise Service
DESCRIPTION:“The Hand of the Lord Who Is Risen”
URL:https://goodshepherdsarasota.org/event/easter-morning-sunrise-service/
LOCATION:Good Shepherd Lutheran Church\, 5659 Honore Ave\, Sarasota\, FL\, 34233\, United States
END:VEVENT
BEGIN:VEVENT
DTSTART;TZID=UTC:20250418T190000
DTEND;TZID=UTC:20250418T203000
DTSTAMP:20260422T221807
CREATED:20250205T203351Z
LAST-MODIFIED:20250205T203655Z
UID:2860-1745002800-1745008200@goodshepherdsarasota.org
SUMMARY:Good Friday
DESCRIPTION:“The Hand of the Lord Who Was Pierced for Us”
URL:https://goodshepherdsarasota.org/event/good-friday/
LOCATION:Good Shepherd Lutheran Church\, 5659 Honore Ave\, Sarasota\, FL\, 34233\, United States
END:VEVENT
BEGIN:VEVENT
DTSTART;TZID=UTC:20250418T084500
DTEND;TZID=UTC:20250418T100000
DTSTAMP:20260422T221807
CREATED:20240826T202225Z
LAST-MODIFIED:20240826T202225Z
UID:2604-1744965900-1744970400@goodshepherdsarasota.org
SUMMARY:Easter Egg Hunt
DESCRIPTION:Join us for our annual Easter Egg Hunt and Bike Raffle! \nThis event is FREE and open to the community…come join us!
URL:https://goodshepherdsarasota.org/event/easter-egg-hunt-5/
LOCATION:Good Shepherd Lutheran School\, 5651 Honore Ave\, Sarasota\, FL\, 34233\, United States
END:VEVENT
BEGIN:VEVENT
DTSTART;TZID=UTC:20250417T190000
DTEND;TZID=UTC:20250417T203000
DTSTAMP:20260422T221807
CREATED:20250205T203222Z
LAST-MODIFIED:20250205T203222Z
UID:2858-1744916400-1744921800@goodshepherdsarasota.org
SUMMARY:Maundy Thursday
DESCRIPTION:“The Hand of the Lord Who Serves and Feeds Us”
URL:https://goodshepherdsarasota.org/event/maundy-thursday/
LOCATION:Good Shepherd Lutheran Church\, 5659 Honore Ave\, Sarasota\, FL\, 34233\, United States
END:VEVENT
BEGIN:VEVENT
DTSTART;TZID=UTC:20250414T190000
DTEND;TZID=UTC:20250414T203000
DTSTAMP:20260422T221807
CREATED:20250205T203135Z
LAST-MODIFIED:20250224T200521Z
UID:2856-1744657200-1744662600@goodshepherdsarasota.org
SUMMARY:Monday in Holy Week
DESCRIPTION:“Christ in the Passover Presentation”
URL:https://goodshepherdsarasota.org/event/monday-in-holy-week/
LOCATION:Good Shepherd Lutheran Church\, 5659 Honore Ave\, Sarasota\, FL\, 34233\, United States
END:VEVENT
BEGIN:VEVENT
DTSTART;TZID=UTC:20250413T091500
DTEND;TZID=UTC:20250413T103000
DTSTAMP:20260422T221807
CREATED:20250205T203036Z
LAST-MODIFIED:20250205T203036Z
UID:2854-1744535700-1744540200@goodshepherdsarasota.org
SUMMARY:Palm Sunday
DESCRIPTION:” The Cross and Passion of Our Lord are His Glory”
URL:https://goodshepherdsarasota.org/event/palm-sunday-2/
LOCATION:Good Shepherd Lutheran Church\, 5659 Honore Ave\, Sarasota\, FL\, 34233\, United States
END:VEVENT
BEGIN:VEVENT
DTSTART;TZID=UTC:20250412T100000
DTEND;TZID=UTC:20250412T160000
DTSTAMP:20260422T221807
CREATED:20250224T200850Z
LAST-MODIFIED:20250224T200850Z
UID:2883-1744452000-1744473600@goodshepherdsarasota.org
SUMMARY:Building Bash
DESCRIPTION:
URL:https://goodshepherdsarasota.org/event/building-bash/
LOCATION:Good Shepherd Lutheran School\, 5651 Honore Ave\, Sarasota\, FL\, 34233\, United States
END:VEVENT
BEGIN:VEVENT
DTSTART;TZID=UTC:20250409T190000
DTEND;TZID=UTC:20250409T203000
DTSTAMP:20260422T221807
CREATED:20250205T202946Z
LAST-MODIFIED:20250205T202946Z
UID:2852-1744225200-1744230600@goodshepherdsarasota.org
SUMMARY:Lent Midweek #5
DESCRIPTION:“The Hand of the Lord who Holds All Things”
URL:https://goodshepherdsarasota.org/event/lent-midweek-5/
LOCATION:Good Shepherd Lutheran Church\, 5659 Honore Ave\, Sarasota\, FL\, 34233\, United States
END:VEVENT
BEGIN:VEVENT
DTSTART;TZID=UTC:20250406T091500
DTEND;TZID=UTC:20250406T103000
DTSTAMP:20260422T221807
CREATED:20250205T202827Z
LAST-MODIFIED:20250205T202827Z
UID:2850-1743930900-1743935400@goodshepherdsarasota.org
SUMMARY:5th Sunday in Lent
DESCRIPTION:“God’s Beloved Son has Redeemed Us”
URL:https://goodshepherdsarasota.org/event/5th-sunday-in-lent/
LOCATION:Good Shepherd Lutheran Church\, 5659 Honore Ave\, Sarasota\, FL\, 34233\, United States
END:VEVENT
BEGIN:VEVENT
DTSTART;TZID=UTC:20250402T190000
DTEND;TZID=UTC:20250402T203000
DTSTAMP:20260422T221807
CREATED:20250205T202731Z
LAST-MODIFIED:20250205T202731Z
UID:2848-1743620400-1743625800@goodshepherdsarasota.org
SUMMARY:Lent Midweek #4
DESCRIPTION:“The Hand of the Lord Who Raises the Dead”
URL:https://goodshepherdsarasota.org/event/lent-midweek-4/
LOCATION:Good Shepherd Lutheran Church\, 5659 Honore Ave\, Sarasota\, FL\, 34233\, United States
END:VEVENT
BEGIN:VEVENT
DTSTART;TZID=UTC:20250330T091500
DTEND;TZID=UTC:20250330T103000
DTSTAMP:20260422T221807
CREATED:20250205T202617Z
LAST-MODIFIED:20250205T202617Z
UID:2846-1743326100-1743330600@goodshepherdsarasota.org
SUMMARY:4th Sunday in Lent
DESCRIPTION:“Jesus Christ has Reconciled Us to the Father”
URL:https://goodshepherdsarasota.org/event/4th-sunday-in-lent/
LOCATION:Good Shepherd Lutheran Church\, 5659 Honore Ave\, Sarasota\, FL\, 34233\, United States
END:VEVENT
BEGIN:VEVENT
DTSTART;TZID=UTC:20250326T190000
DTEND;TZID=UTC:20250326T203000
DTSTAMP:20260422T221807
CREATED:20250205T202527Z
LAST-MODIFIED:20250205T202527Z
UID:2844-1743015600-1743021000@goodshepherdsarasota.org
SUMMARY:Lent Midweek #3
DESCRIPTION:“The Hand of the Lord Who Heals the Sick”
URL:https://goodshepherdsarasota.org/event/lent-midweek-3/
LOCATION:Good Shepherd Lutheran Church\, 5659 Honore Ave\, Sarasota\, FL\, 34233\, United States
END:VEVENT
BEGIN:VEVENT
DTSTART;TZID=UTC:20250323T091500
DTEND;TZID=UTC:20250323T103000
DTSTAMP:20260422T221807
CREATED:20250205T202441Z
LAST-MODIFIED:20250205T202441Z
UID:2842-1742721300-1742725800@goodshepherdsarasota.org
SUMMARY:3rd Sunday in Lent
DESCRIPTION:“Jesus Calls You to Repentance”
URL:https://goodshepherdsarasota.org/event/3rd-sunday-in-lent/
LOCATION:Good Shepherd Lutheran Church\, 5659 Honore Ave\, Sarasota\, FL\, 34233\, United States
END:VEVENT
BEGIN:VEVENT
DTSTART;TZID=UTC:20250319T190000
DTEND;TZID=UTC:20250319T200000
DTSTAMP:20260422T221807
CREATED:20250204T203508Z
LAST-MODIFIED:20250204T203508Z
UID:2839-1742410800-1742414400@goodshepherdsarasota.org
SUMMARY:Lent Midweek #2
DESCRIPTION:“The Hand of the Lord Who Casts Out Demons”
URL:https://goodshepherdsarasota.org/event/lent-midweek-2/
LOCATION:Good Shepherd Lutheran Church\, 5659 Honore Ave\, Sarasota\, FL\, 34233\, United States
END:VEVENT
BEGIN:VEVENT
DTSTART;VALUE=DATE:20250317
DTEND;VALUE=DATE:20250322
DTSTAMP:20260422T221807
CREATED:20240812T204823Z
LAST-MODIFIED:20240812T204823Z
UID:2591-1742169600-1742601599@goodshepherdsarasota.org
SUMMARY:Spring Break - No School
DESCRIPTION:
URL:https://goodshepherdsarasota.org/event/spring-break-no-school/
END:VEVENT
BEGIN:VEVENT
DTSTART;TZID=UTC:20250316T091500
DTEND;TZID=UTC:20250316T103000
DTSTAMP:20260422T221807
CREATED:20250204T203406Z
LAST-MODIFIED:20250204T203406Z
UID:2837-1742116500-1742121000@goodshepherdsarasota.org
SUMMARY:2nd Sunday in Lent
DESCRIPTION:“Jesus Rescues Us from Death and Brings Heaven”
URL:https://goodshepherdsarasota.org/event/2nd-sunday-in-lent/
LOCATION:Good Shepherd Lutheran Church\, 5659 Honore Ave\, Sarasota\, FL\, 34233\, United States
END:VEVENT
BEGIN:VEVENT
DTSTART;TZID=UTC:20250312T190000
DTEND;TZID=UTC:20250312T203000
DTSTAMP:20260422T221807
CREATED:20250204T203302Z
LAST-MODIFIED:20250204T203302Z
UID:2835-1741806000-1741811400@goodshepherdsarasota.org
SUMMARY:Lent Midweek Service #1
DESCRIPTION:“The Hand of the Lord Who Creates and Saves”
URL:https://goodshepherdsarasota.org/event/lent-midweek-service-1/
LOCATION:Good Shepherd Lutheran Church\, 5659 Honore Ave\, Sarasota\, FL\, 34233\, United States
END:VEVENT
BEGIN:VEVENT
DTSTART;TZID=UTC:20250309T091500
DTEND;TZID=UTC:20250309T103000
DTSTAMP:20260422T221807
CREATED:20250204T203213Z
LAST-MODIFIED:20250204T203213Z
UID:2833-1741511700-1741516200@goodshepherdsarasota.org
SUMMARY:1st Sunday in Lent
DESCRIPTION:“Jesus Christ Is Our Champion Against the Devil”
URL:https://goodshepherdsarasota.org/event/1st-sunday-in-lent/
LOCATION:Good Shepherd Lutheran Church\, 5659 Honore Ave\, Sarasota\, FL\, 34233\, United States
END:VEVENT
BEGIN:VEVENT
DTSTART;TZID=UTC:20250305T190000
DTEND;TZID=UTC:20250305T203000
DTSTAMP:20260422T221807
CREATED:20250204T203113Z
LAST-MODIFIED:20250204T203113Z
UID:2831-1741201200-1741206600@goodshepherdsarasota.org
SUMMARY:Ash Wednesday
DESCRIPTION:“The Hand of the Lord Who Freely Gives”
URL:https://goodshepherdsarasota.org/event/ash-wednesday/
LOCATION:Good Shepherd Lutheran Church\, 5659 Honore Ave\, Sarasota\, FL\, 34233\, United States
END:VEVENT
BEGIN:VEVENT
DTSTART;VALUE=DATE:20250217
DTEND;VALUE=DATE:20250218
DTSTAMP:20260422T221807
CREATED:20240812T204151Z
LAST-MODIFIED:20240812T204151Z
UID:2589-1739750400-1739836799@goodshepherdsarasota.org
SUMMARY:President's Day - No School
DESCRIPTION:
URL:https://goodshepherdsarasota.org/event/presidents-day-no-school/
LOCATION:Good Shepherd Lutheran School\, 5651 Honore Ave\, Sarasota\, FL\, 34233\, United States
END:VEVENT
BEGIN:VEVENT
DTSTART;VALUE=DATE:20250205
DTEND;VALUE=DATE:20250206
DTSTAMP:20260422T221807
CREATED:20250128T181921Z
LAST-MODIFIED:20250128T181921Z
UID:2804-1738713600-1738799999@goodshepherdsarasota.org
SUMMARY:100th Day of School!
DESCRIPTION:It’s time to celebrate our 100th day of school!
URL:https://goodshepherdsarasota.org/event/100th-day-of-school-2/
LOCATION:Good Shepherd Lutheran School\, 5651 Honore Ave\, Sarasota\, FL\, 34233\, United States
END:VEVENT
BEGIN:VEVENT
DTSTART;VALUE=DATE:20250127
DTEND;VALUE=DATE:20250201
DTSTAMP:20260422T221807
CREATED:20240812T204105Z
LAST-MODIFIED:20240812T204105Z
UID:2587-1737936000-1738367999@goodshepherdsarasota.org
SUMMARY:National Lutheran Schools Week
DESCRIPTION:Join us in celebrating Lutheran Schools! Each day will have a different theme to celebrate!
URL:https://goodshepherdsarasota.org/event/national-lutheran-schools-week-2/
END:VEVENT
BEGIN:VEVENT
DTSTART;VALUE=DATE:20250120
DTEND;VALUE=DATE:20250121
DTSTAMP:20260422T221807
CREATED:20240812T203955Z
LAST-MODIFIED:20240812T203955Z
UID:2585-1737331200-1737417599@goodshepherdsarasota.org
SUMMARY:MLK Jr. Day - No School
DESCRIPTION:
URL:https://goodshepherdsarasota.org/event/mlk-jr-day-no-school-2/
END:VEVENT
BEGIN:VEVENT
DTSTART;TZID=UTC:20241224T200000
DTEND;TZID=UTC:20241224T210000
DTSTAMP:20260422T221807
CREATED:20241105T180849Z
LAST-MODIFIED:20241105T180849Z
UID:2769-1735070400-1735074000@goodshepherdsarasota.org
SUMMARY:Christmas Eve Service
DESCRIPTION:Theme: The Word Made Flesh
URL:https://goodshepherdsarasota.org/event/christmas-eve-service-3/
LOCATION:Good Shepherd Lutheran Church\, 5659 Honore Ave\, Sarasota\, FL\, 34233\, United States
END:VEVENT
BEGIN:VEVENT
DTSTART;TZID=UTC:20241224T173000
DTEND;TZID=UTC:20241224T190000
DTSTAMP:20260422T221807
CREATED:20241105T180810Z
LAST-MODIFIED:20241105T180810Z
UID:2767-1735061400-1735066800@goodshepherdsarasota.org
SUMMARY:Christmas Eve Service
DESCRIPTION:Theme: The Word Made Flesh
URL:https://goodshepherdsarasota.org/event/christmas-eve-service-2/
LOCATION:Good Shepherd Lutheran Church\, 5659 Honore Ave\, Sarasota\, FL\, 34233\, United States
END:VEVENT
BEGIN:VEVENT
DTSTART;VALUE=DATE:20241223
DTEND;VALUE=DATE:20250107
DTSTAMP:20260422T221807
CREATED:20240812T203742Z
LAST-MODIFIED:20240812T203742Z
UID:2583-1734912000-1736207999@goodshepherdsarasota.org
SUMMARY:Christmas Break - No School
DESCRIPTION:
URL:https://goodshepherdsarasota.org/event/christmas-break-no-school/
LOCATION:Good Shepherd Lutheran School\, 5651 Honore Ave\, Sarasota\, FL\, 34233\, United States
END:VEVENT
BEGIN:VEVENT
DTSTART;TZID=UTC:20241222T090000
DTEND;TZID=UTC:20241222T103000
DTSTAMP:20260422T221807
CREATED:20241105T180652Z
LAST-MODIFIED:20241105T180652Z
UID:2765-1734858000-1734863400@goodshepherdsarasota.org
SUMMARY:4th Sunday in Advent
DESCRIPTION:Theme: The Lord Comes to Visit Us in Peace
URL:https://goodshepherdsarasota.org/event/4th-sunday-in-advent-2/
LOCATION:Good Shepherd Lutheran Church\, 5659 Honore Ave\, Sarasota\, FL\, 34233\, United States
END:VEVENT
BEGIN:VEVENT
DTSTART;TZID=UTC:20241218T190000
DTEND;TZID=UTC:20241218T203000
DTSTAMP:20260422T221807
CREATED:20241105T180606Z
LAST-MODIFIED:20241105T180606Z
UID:2763-1734548400-1734553800@goodshepherdsarasota.org
SUMMARY:Advent Midweek #3
DESCRIPTION:Theme: Rock of Ages
URL:https://goodshepherdsarasota.org/event/advent-midweek-3-3/
LOCATION:Good Shepherd Lutheran Church\, 5659 Honore Ave\, Sarasota\, FL\, 34233\, United States
END:VEVENT
BEGIN:VEVENT
DTSTART;TZID=UTC:20241215T090000
DTEND;TZID=UTC:20241215T103000
DTSTAMP:20260422T221807
CREATED:20241105T180523Z
LAST-MODIFIED:20241105T180523Z
UID:2761-1734253200-1734258600@goodshepherdsarasota.org
SUMMARY:3rd Sunday in Advent
DESCRIPTION:Theme: The Coming of Jesus Enables Us to Rejoice
URL:https://goodshepherdsarasota.org/event/3rd-sunday-in-advent-3/
LOCATION:Good Shepherd Lutheran Church\, 5659 Honore Ave\, Sarasota\, FL\, 34233\, United States
END:VEVENT
BEGIN:VEVENT
DTSTART;TZID=UTC:20241213T180000
DTEND;TZID=UTC:20241213T190000
DTSTAMP:20260422T221807
CREATED:20240812T203704Z
LAST-MODIFIED:20240812T203704Z
UID:2581-1734112800-1734116400@goodshepherdsarasota.org
SUMMARY:VPK Christmas Program
DESCRIPTION:
URL:https://goodshepherdsarasota.org/event/vpk-christmas-program-2/
LOCATION:Good Shepherd Lutheran Church\, 5659 Honore Ave\, Sarasota\, FL\, 34233\, United States
END:VEVENT
END:VCALENDAR