BEGIN:VCALENDAR
VERSION:2.0
PRODID:-//Good Shepherd Lutheran Church and School - ECPv6.11.2//NONSGML v1.0//EN
CALSCALE:GREGORIAN
METHOD:PUBLISH
X-WR-CALNAME:Good Shepherd Lutheran Church and School
X-ORIGINAL-URL:https://goodshepherdsarasota.org
X-WR-CALDESC:Events for Good Shepherd Lutheran Church and School
REFRESH-INTERVAL;VALUE=DURATION:PT1H
X-Robots-Tag:noindex
X-PUBLISHED-TTL:PT1H
BEGIN:VTIMEZONE
TZID:UTC
BEGIN:STANDARD
TZOFFSETFROM:+0000
TZOFFSETTO:+0000
TZNAME:UTC
DTSTART:20240101T000000
END:STANDARD
END:VTIMEZONE
BEGIN:VEVENT
DTSTART;TZID=UTC:20250309T091500
DTEND;TZID=UTC:20250309T103000
DTSTAMP:20260422T215821
CREATED:20250204T203213Z
LAST-MODIFIED:20250204T203213Z
UID:2833-1741511700-1741516200@goodshepherdsarasota.org
SUMMARY:1st Sunday in Lent
DESCRIPTION:“Jesus Christ Is Our Champion Against the Devil”
URL:https://goodshepherdsarasota.org/event/1st-sunday-in-lent/
LOCATION:Good Shepherd Lutheran Church\, 5659 Honore Ave\, Sarasota\, FL\, 34233\, United States
END:VEVENT
BEGIN:VEVENT
DTSTART;TZID=UTC:20250305T190000
DTEND;TZID=UTC:20250305T203000
DTSTAMP:20260422T215821
CREATED:20250204T203113Z
LAST-MODIFIED:20250204T203113Z
UID:2831-1741201200-1741206600@goodshepherdsarasota.org
SUMMARY:Ash Wednesday
DESCRIPTION:“The Hand of the Lord Who Freely Gives”
URL:https://goodshepherdsarasota.org/event/ash-wednesday/
LOCATION:Good Shepherd Lutheran Church\, 5659 Honore Ave\, Sarasota\, FL\, 34233\, United States
END:VEVENT
BEGIN:VEVENT
DTSTART;VALUE=DATE:20250217
DTEND;VALUE=DATE:20250218
DTSTAMP:20260422T215821
CREATED:20240812T204151Z
LAST-MODIFIED:20240812T204151Z
UID:2589-1739750400-1739836799@goodshepherdsarasota.org
SUMMARY:President's Day - No School
DESCRIPTION:
URL:https://goodshepherdsarasota.org/event/presidents-day-no-school/
LOCATION:Good Shepherd Lutheran School\, 5651 Honore Ave\, Sarasota\, FL\, 34233\, United States
END:VEVENT
BEGIN:VEVENT
DTSTART;VALUE=DATE:20250205
DTEND;VALUE=DATE:20250206
DTSTAMP:20260422T215821
CREATED:20250128T181921Z
LAST-MODIFIED:20250128T181921Z
UID:2804-1738713600-1738799999@goodshepherdsarasota.org
SUMMARY:100th Day of School!
DESCRIPTION:It’s time to celebrate our 100th day of school!
URL:https://goodshepherdsarasota.org/event/100th-day-of-school-2/
LOCATION:Good Shepherd Lutheran School\, 5651 Honore Ave\, Sarasota\, FL\, 34233\, United States
END:VEVENT
BEGIN:VEVENT
DTSTART;VALUE=DATE:20250127
DTEND;VALUE=DATE:20250201
DTSTAMP:20260422T215821
CREATED:20240812T204105Z
LAST-MODIFIED:20240812T204105Z
UID:2587-1737936000-1738367999@goodshepherdsarasota.org
SUMMARY:National Lutheran Schools Week
DESCRIPTION:Join us in celebrating Lutheran Schools! Each day will have a different theme to celebrate!
URL:https://goodshepherdsarasota.org/event/national-lutheran-schools-week-2/
LOCATION:FL
END:VEVENT
BEGIN:VEVENT
DTSTART;VALUE=DATE:20250120
DTEND;VALUE=DATE:20250121
DTSTAMP:20260422T215821
CREATED:20240812T203955Z
LAST-MODIFIED:20240812T203955Z
UID:2585-1737331200-1737417599@goodshepherdsarasota.org
SUMMARY:MLK Jr. Day - No School
DESCRIPTION:
URL:https://goodshepherdsarasota.org/event/mlk-jr-day-no-school-2/
LOCATION:FL
END:VEVENT
BEGIN:VEVENT
DTSTART;TZID=UTC:20241224T200000
DTEND;TZID=UTC:20241224T210000
DTSTAMP:20260422T215821
CREATED:20241105T180849Z
LAST-MODIFIED:20241105T180849Z
UID:2769-1735070400-1735074000@goodshepherdsarasota.org
SUMMARY:Christmas Eve Service
DESCRIPTION:Theme: The Word Made Flesh
URL:https://goodshepherdsarasota.org/event/christmas-eve-service-3/
LOCATION:Good Shepherd Lutheran Church\, 5659 Honore Ave\, Sarasota\, FL\, 34233\, United States
END:VEVENT
BEGIN:VEVENT
DTSTART;TZID=UTC:20241224T173000
DTEND;TZID=UTC:20241224T190000
DTSTAMP:20260422T215821
CREATED:20241105T180810Z
LAST-MODIFIED:20241105T180810Z
UID:2767-1735061400-1735066800@goodshepherdsarasota.org
SUMMARY:Christmas Eve Service
DESCRIPTION:Theme: The Word Made Flesh
URL:https://goodshepherdsarasota.org/event/christmas-eve-service-2/
LOCATION:Good Shepherd Lutheran Church\, 5659 Honore Ave\, Sarasota\, FL\, 34233\, United States
END:VEVENT
BEGIN:VEVENT
DTSTART;VALUE=DATE:20241223
DTEND;VALUE=DATE:20250107
DTSTAMP:20260422T215821
CREATED:20240812T203742Z
LAST-MODIFIED:20240812T203742Z
UID:2583-1734912000-1736207999@goodshepherdsarasota.org
SUMMARY:Christmas Break - No School
DESCRIPTION:
URL:https://goodshepherdsarasota.org/event/christmas-break-no-school/
LOCATION:Good Shepherd Lutheran School\, 5651 Honore Ave\, Sarasota\, FL\, 34233\, United States
END:VEVENT
BEGIN:VEVENT
DTSTART;TZID=UTC:20241222T090000
DTEND;TZID=UTC:20241222T103000
DTSTAMP:20260422T215821
CREATED:20241105T180652Z
LAST-MODIFIED:20241105T180652Z
UID:2765-1734858000-1734863400@goodshepherdsarasota.org
SUMMARY:4th Sunday in Advent
DESCRIPTION:Theme: The Lord Comes to Visit Us in Peace
URL:https://goodshepherdsarasota.org/event/4th-sunday-in-advent-2/
LOCATION:Good Shepherd Lutheran Church\, 5659 Honore Ave\, Sarasota\, FL\, 34233\, United States
END:VEVENT
BEGIN:VEVENT
DTSTART;TZID=UTC:20241218T190000
DTEND;TZID=UTC:20241218T203000
DTSTAMP:20260422T215821
CREATED:20241105T180606Z
LAST-MODIFIED:20241105T180606Z
UID:2763-1734548400-1734553800@goodshepherdsarasota.org
SUMMARY:Advent Midweek #3
DESCRIPTION:Theme: Rock of Ages
URL:https://goodshepherdsarasota.org/event/advent-midweek-3-3/
LOCATION:Good Shepherd Lutheran Church\, 5659 Honore Ave\, Sarasota\, FL\, 34233\, United States
END:VEVENT
BEGIN:VEVENT
DTSTART;TZID=UTC:20241215T090000
DTEND;TZID=UTC:20241215T103000
DTSTAMP:20260422T215821
CREATED:20241105T180523Z
LAST-MODIFIED:20241105T180523Z
UID:2761-1734253200-1734258600@goodshepherdsarasota.org
SUMMARY:3rd Sunday in Advent
DESCRIPTION:Theme: The Coming of Jesus Enables Us to Rejoice
URL:https://goodshepherdsarasota.org/event/3rd-sunday-in-advent-3/
LOCATION:Good Shepherd Lutheran Church\, 5659 Honore Ave\, Sarasota\, FL\, 34233\, United States
END:VEVENT
BEGIN:VEVENT
DTSTART;TZID=UTC:20241213T180000
DTEND;TZID=UTC:20241213T190000
DTSTAMP:20260422T215821
CREATED:20240812T203704Z
LAST-MODIFIED:20240812T203704Z
UID:2581-1734112800-1734116400@goodshepherdsarasota.org
SUMMARY:VPK Christmas Program
DESCRIPTION:
URL:https://goodshepherdsarasota.org/event/vpk-christmas-program-2/
LOCATION:Good Shepherd Lutheran Church\, 5659 Honore Ave\, Sarasota\, FL\, 34233\, United States
END:VEVENT
BEGIN:VEVENT
DTSTART;TZID=UTC:20241212T180000
DTEND;TZID=UTC:20241212T190000
DTSTAMP:20260422T215821
CREATED:20240812T203633Z
LAST-MODIFIED:20240812T203633Z
UID:2579-1734026400-1734030000@goodshepherdsarasota.org
SUMMARY:2 and 3 Year Old Christmas Program
DESCRIPTION:
URL:https://goodshepherdsarasota.org/event/2-and-3-year-old-christmas-program/
LOCATION:Good Shepherd Lutheran Church\, 5659 Honore Ave\, Sarasota\, FL\, 34233\, United States
END:VEVENT
BEGIN:VEVENT
DTSTART;TZID=UTC:20241211T190000
DTEND;TZID=UTC:20241211T203000
DTSTAMP:20260422T215821
CREATED:20241105T180409Z
LAST-MODIFIED:20241105T180409Z
UID:2759-1733943600-1733949000@goodshepherdsarasota.org
SUMMARY:Advent Midweek #2
DESCRIPTION:Theme: Salt of the Earth
URL:https://goodshepherdsarasota.org/event/advent-midweek-2-3/
LOCATION:Good Shepherd Lutheran Church\, 5659 Honore Ave\, Sarasota\, FL\, 34233\, United States
END:VEVENT
BEGIN:VEVENT
DTSTART;TZID=UTC:20241208T090000
DTEND;TZID=UTC:20241208T103000
DTSTAMP:20260422T215821
CREATED:20241105T180221Z
LAST-MODIFIED:20241105T180221Z
UID:2757-1733648400-1733653800@goodshepherdsarasota.org
SUMMARY:2nd Sunday in Advent
DESCRIPTION:Theme: Repentance Prepares Us for the Second Coming
URL:https://goodshepherdsarasota.org/event/2nd-sunday-in-advent-3/
LOCATION:Good Shepherd Lutheran Church\, 5659 Honore Ave\, Sarasota\, FL\, 34233\, United States
END:VEVENT
BEGIN:VEVENT
DTSTART;TZID=UTC:20241206T180000
DTEND;TZID=UTC:20241206T200000
DTSTAMP:20260422T215821
CREATED:20240812T203015Z
LAST-MODIFIED:20240812T203417Z
UID:2577-1733508000-1733515200@goodshepherdsarasota.org
SUMMARY:Santa Visit: Last Names L-Z
DESCRIPTION:Join us for our Santa Visit!
URL:https://goodshepherdsarasota.org/event/santa-visit-last-names-l-z-2/
LOCATION:Mennicke Hall\, 5659 Honore Avenue\, Sarasota\, FL\, 34233\, United States
END:VEVENT
BEGIN:VEVENT
DTSTART;TZID=UTC:20241205T180000
DTEND;TZID=UTC:20241205T200000
DTSTAMP:20260422T215821
CREATED:20240812T202918Z
LAST-MODIFIED:20240812T202918Z
UID:2575-1733421600-1733428800@goodshepherdsarasota.org
SUMMARY:Santa Visit: Last Names A-K
DESCRIPTION:Join us for our Santa Visit!
URL:https://goodshepherdsarasota.org/event/santa-visit-last-names-a-k-2/
LOCATION:Mennicke Hall\, 5659 Honore Avenue\, Sarasota\, FL\, 34233\, United States
END:VEVENT
BEGIN:VEVENT
DTSTART;TZID=UTC:20241204T190000
DTEND;TZID=UTC:20241204T203000
DTSTAMP:20260422T215821
CREATED:20241105T180135Z
LAST-MODIFIED:20241105T180135Z
UID:2755-1733338800-1733344200@goodshepherdsarasota.org
SUMMARY:Advent Midweek #1
DESCRIPTION:Theme: The Bread of Life
URL:https://goodshepherdsarasota.org/event/advent-midweek-1-2/
LOCATION:Good Shepherd Lutheran Church\, 5659 Honore Ave\, Sarasota\, FL\, 34233\, United States
END:VEVENT
BEGIN:VEVENT
DTSTART;TZID=UTC:20241201T090000
DTEND;TZID=UTC:20241201T103000
DTSTAMP:20260422T215821
CREATED:20241105T180054Z
LAST-MODIFIED:20241105T180054Z
UID:2753-1733043600-1733049000@goodshepherdsarasota.org
SUMMARY:1st Sunday in Advent
DESCRIPTION:Theme: The Lord Jesus Comes in Humility to Redeem Us
URL:https://goodshepherdsarasota.org/event/1st-sunday-in-advent-3/
LOCATION:Good Shepherd Lutheran Church\, 5659 Honore Ave\, Sarasota\, FL\, 34233\, United States
END:VEVENT
BEGIN:VEVENT
DTSTART;TZID=UTC:20241127T190000
DTEND;TZID=UTC:20241127T203000
DTSTAMP:20260422T215821
CREATED:20241105T175947Z
LAST-MODIFIED:20241105T175947Z
UID:2751-1732734000-1732739400@goodshepherdsarasota.org
SUMMARY:Thanksgiving Eve Worship
DESCRIPTION:Theme: Give thanks to the Lord
URL:https://goodshepherdsarasota.org/event/thanksgiving-eve-worship-3/
LOCATION:Good Shepherd Lutheran Church\, 5659 Honore Ave\, Sarasota\, FL\, 34233\, United States
END:VEVENT
BEGIN:VEVENT
DTSTART;VALUE=DATE:20241125
DTEND;VALUE=DATE:20241130
DTSTAMP:20260422T215821
CREATED:20240812T202810Z
LAST-MODIFIED:20240812T202810Z
UID:2573-1732492800-1732924799@goodshepherdsarasota.org
SUMMARY:Thanksgiving Break - No School
DESCRIPTION:
URL:https://goodshepherdsarasota.org/event/thanksgiving-break-no-school/
LOCATION:FL
END:VEVENT
BEGIN:VEVENT
DTSTART;TZID=UTC:20241124T093000
DTEND;TZID=UTC:20241124T100000
DTSTAMP:20260422T215821
CREATED:20241029T164736Z
LAST-MODIFIED:20241029T164736Z
UID:2733-1732440600-1732442400@goodshepherdsarasota.org
SUMMARY:Budget Vote
DESCRIPTION:
URL:https://goodshepherdsarasota.org/event/budget-vote/
LOCATION:Good Shepherd Lutheran Church\, 5659 Honore Ave\, Sarasota\, FL\, 34233\, United States
END:VEVENT
BEGIN:VEVENT
DTSTART;TZID=UTC:20241124T090000
DTEND;TZID=UTC:20241124T100000
DTSTAMP:20260422T215821
CREATED:20240827T170736Z
LAST-MODIFIED:20240827T170736Z
UID:2666-1732438800-1732442400@goodshepherdsarasota.org
SUMMARY:Budget Presentation
DESCRIPTION:We will be presenting both the school and church budget.
URL:https://goodshepherdsarasota.org/event/budget-presentation/
LOCATION:Good Shepherd Lutheran Church\, 5659 Honore Ave\, Sarasota\, FL\, 34233\, United States
END:VEVENT
BEGIN:VEVENT
DTSTART;TZID=UTC:20241121T103000
DTEND;TZID=UTC:20241121T110000
DTSTAMP:20260422T215821
CREATED:20240812T202742Z
LAST-MODIFIED:20240812T202742Z
UID:2571-1732185000-1732186800@goodshepherdsarasota.org
SUMMARY:VPK Thanksgiving Program
DESCRIPTION:Come join us in the church to see our VPK students perform on stage!
URL:https://goodshepherdsarasota.org/event/vpk-thanksgiving-program-2/
LOCATION:Good Shepherd Lutheran Church\, 5659 Honore Ave\, Sarasota\, FL\, 34233\, United States
END:VEVENT
BEGIN:VEVENT
DTSTART;TZID=UTC:20241121T093000
DTEND;TZID=UTC:20241121T100000
DTSTAMP:20260422T215821
CREATED:20240812T202644Z
LAST-MODIFIED:20240812T202644Z
UID:2569-1732181400-1732183200@goodshepherdsarasota.org
SUMMARY:2 and 3 year old Thanksgiving Program
DESCRIPTION:Come see our 2 and 3 year old students sing on stage in the church!
URL:https://goodshepherdsarasota.org/event/2-and-3-year-old-thanksgiving-program/
LOCATION:Good Shepherd Lutheran Church\, 5659 Honore Ave\, Sarasota\, FL\, 34233\, United States
END:VEVENT
BEGIN:VEVENT
DTSTART;TZID=UTC:20241117T103000
DTEND;TZID=UTC:20241117T110000
DTSTAMP:20260422T215821
CREATED:20241029T164645Z
LAST-MODIFIED:20241029T164645Z
UID:2731-1731839400-1731841200@goodshepherdsarasota.org
SUMMARY:Welcome Back Potluck
DESCRIPTION:Join us for a time of fellowship following our Sunday church service.
URL:https://goodshepherdsarasota.org/event/welcome-back-potluck/
LOCATION:Mennicke Hall\, 5659 Honore Avenue\, Sarasota\, FL\, 34233\, United States
END:VEVENT
BEGIN:VEVENT
DTSTART;TZID=UTC:20241110T093000
DTEND;TZID=UTC:20241110T103000
DTSTAMP:20260422T215821
CREATED:20241029T164357Z
LAST-MODIFIED:20241029T164357Z
UID:2729-1731231000-1731234600@goodshepherdsarasota.org
SUMMARY:GSLC Veterans Photos
DESCRIPTION:Calling all veteran church members and family to join us for our annual picture!
URL:https://goodshepherdsarasota.org/event/gslc-veterans-photos/
LOCATION:Good Shepherd Lutheran Church\, 5659 Honore Ave\, Sarasota\, FL\, 34233\, United States
END:VEVENT
BEGIN:VEVENT
DTSTART;TZID=UTC:20241106T183000
DTEND;TZID=UTC:20241106T193000
DTSTAMP:20260422T215821
CREATED:20240918T161746Z
LAST-MODIFIED:20240918T161923Z
UID:2699-1730917800-1730921400@goodshepherdsarasota.org
SUMMARY:New Church Pictorial
DESCRIPTION: 
URL:https://goodshepherdsarasota.org/event/new-church-pictorial/
LOCATION:FL
END:VEVENT
BEGIN:VEVENT
DTSTART;TZID=UTC:20241025T180000
DTEND;TZID=UTC:20241025T200000
DTSTAMP:20260422T215821
CREATED:20240812T201710Z
LAST-MODIFIED:20240812T201710Z
UID:2567-1729879200-1729886400@goodshepherdsarasota.org
SUMMARY:Trunk or Treat
DESCRIPTION:Join us for a fun community event at our Trunk or Treat on Friday\, Oct. 25th.
URL:https://goodshepherdsarasota.org/event/trunk-or-treat-3/
LOCATION:Good Shepherd Lutheran School\, 5651 Honore Ave\, Sarasota\, FL\, 34233\, United States
END:VEVENT
END:VCALENDAR