BEGIN:VCALENDAR
VERSION:2.0
PRODID:-//Good Shepherd Lutheran Church and School - ECPv6.11.2//NONSGML v1.0//EN
CALSCALE:GREGORIAN
METHOD:PUBLISH
X-WR-CALNAME:Good Shepherd Lutheran Church and School
X-ORIGINAL-URL:https://goodshepherdsarasota.org
X-WR-CALDESC:Events for Good Shepherd Lutheran Church and School
REFRESH-INTERVAL;VALUE=DURATION:PT1H
X-Robots-Tag:noindex
X-PUBLISHED-TTL:PT1H
BEGIN:VTIMEZONE
TZID:UTC
BEGIN:STANDARD
TZOFFSETFROM:+0000
TZOFFSETTO:+0000
TZNAME:UTC
DTSTART:20240101T000000
END:STANDARD
END:VTIMEZONE
BEGIN:VEVENT
DTSTART;TZID=UTC:20241013T090000
DTEND;TZID=UTC:20241013T100000
DTSTAMP:20260423T060822
CREATED:20240827T170625Z
LAST-MODIFIED:20240827T170625Z
UID:2664-1728810000-1728813600@goodshepherdsarasota.org
SUMMARY:Church Worker Appreciation
DESCRIPTION:Join us for church as we celebrate and appreciate all our church workers!
URL:https://goodshepherdsarasota.org/event/church-worker-appreciation/
LOCATION:Good Shepherd Lutheran Church\, 5659 Honore Ave\, Sarasota\, FL\, 34233\, United States
END:VEVENT
BEGIN:VEVENT
DTSTART;TZID=UTC:20241013T090000
DTEND;TZID=UTC:20241013T100000
DTSTAMP:20260423T060822
CREATED:20240827T170532Z
LAST-MODIFIED:20240827T170532Z
UID:2662-1728810000-1728813600@goodshepherdsarasota.org
SUMMARY:Installation of Officers
DESCRIPTION:Join us as we install our new church officers.
URL:https://goodshepherdsarasota.org/event/installation-of-officers-2/
LOCATION:Good Shepherd Lutheran Church\, 5659 Honore Ave\, Sarasota\, FL\, 34233\, United States
END:VEVENT
BEGIN:VEVENT
DTSTART;TZID=UTC:20241012T080000
DTEND;TZID=UTC:20241012T170000
DTSTAMP:20260423T060822
CREATED:20240812T200206Z
LAST-MODIFIED:20240813T140621Z
UID:2556-1728720000-1728752400@goodshepherdsarasota.org
SUMMARY:3rd Annual Christine Larsen Golf Scramble
DESCRIPTION:Join us for our Golf Scramble\, Dinner and Silent Auction Fundraiser on Oct. 12 at Serenoa Golf Club! \nGolf Members and Visitors Packet 2024
URL:https://goodshepherdsarasota.org/event/3rd-annual-christine-larsen-golf-scramble/
LOCATION:Serenoa Golf Club
END:VEVENT
BEGIN:VEVENT
DTSTART;TZID=UTC:20241006T090000
DTEND;TZID=UTC:20241006T100000
DTSTAMP:20260423T060822
CREATED:20240827T170441Z
LAST-MODIFIED:20240827T170441Z
UID:2660-1728205200-1728208800@goodshepherdsarasota.org
SUMMARY:Election Of Officers
DESCRIPTION:Our congregation will be voting on new officers.
URL:https://goodshepherdsarasota.org/event/election-of-officers-3/
LOCATION:Good Shepherd Lutheran Church\, 5659 Honore Ave\, Sarasota\, FL\, 34233\, United States
END:VEVENT
BEGIN:VEVENT
DTSTART;VALUE=DATE:20240925
DTEND;VALUE=DATE:20240928
DTSTAMP:20260423T060822
CREATED:20240812T200938Z
LAST-MODIFIED:20240812T200938Z
UID:2563-1727222400-1727481599@goodshepherdsarasota.org
SUMMARY:FL GA Lutheran Conference - No School
DESCRIPTION:Our staff is attending the FL/GA district Lutheran Conference and receiving our Accreditation Certificate!
URL:https://goodshepherdsarasota.org/event/fl-ga-lutheran-conference-no-school/
LOCATION:FL
END:VEVENT
BEGIN:VEVENT
DTSTART;TZID=UTC:20240919T180000
DTEND;TZID=UTC:20240919T193000
DTSTAMP:20260423T060822
CREATED:20240812T200714Z
LAST-MODIFIED:20240812T200714Z
UID:2561-1726768800-1726774200@goodshepherdsarasota.org
SUMMARY:Literacy Night
DESCRIPTION:Join us for our school’s Literacy Night On Thursday\, Sept. 19th starting at 6:00PM. Travel to our classrooms doing different activities in each!
URL:https://goodshepherdsarasota.org/event/literacy-night-2/
LOCATION:Good Shepherd Lutheran School\, 5651 Honore Ave\, Sarasota\, FL\, 34233\, United States
END:VEVENT
BEGIN:VEVENT
DTSTART;TZID=UTC:20240916T180000
DTEND;TZID=UTC:20240916T190000
DTSTAMP:20260423T060822
CREATED:20240827T170823Z
LAST-MODIFIED:20240827T170823Z
UID:2668-1726509600-1726513200@goodshepherdsarasota.org
SUMMARY:Church Council
DESCRIPTION:Church Council Meeting
URL:https://goodshepherdsarasota.org/event/church-council/
LOCATION:Mennicke Hall\, 5659 Honore Avenue\, Sarasota\, FL\, 34233\, United States
END:VEVENT
BEGIN:VEVENT
DTSTART;TZID=UTC:20240910T174500
DTEND;TZID=UTC:20240910T183000
DTSTAMP:20260423T060822
CREATED:20240827T170917Z
LAST-MODIFIED:20240827T170917Z
UID:2670-1725990300-1725993000@goodshepherdsarasota.org
SUMMARY:School Board
DESCRIPTION:School Board Meeting
URL:https://goodshepherdsarasota.org/event/school-board/
LOCATION:Mennicke Hall\, 5659 Honore Avenue\, Sarasota\, FL\, 34233\, United States
END:VEVENT
BEGIN:VEVENT
DTSTART;TZID=UTC:20240908T090000
DTEND;TZID=UTC:20240908T100000
DTSTAMP:20260423T060822
CREATED:20240827T165912Z
LAST-MODIFIED:20240827T165912Z
UID:2654-1725786000-1725789600@goodshepherdsarasota.org
SUMMARY:Teacher Installation
DESCRIPTION:Join us as we kick off our new school year and install all our teachers and staff!
URL:https://goodshepherdsarasota.org/event/teacher-installation-2/
LOCATION:Good Shepherd Lutheran Church\, 5659 Honore Ave\, Sarasota\, FL\, 34233\, United States
END:VEVENT
BEGIN:VEVENT
DTSTART;VALUE=DATE:20240902
DTEND;VALUE=DATE:20240903
DTSTAMP:20260423T060822
CREATED:20240812T200449Z
LAST-MODIFIED:20240812T200449Z
UID:2559-1725235200-1725321599@goodshepherdsarasota.org
SUMMARY:Labor Day - No School
DESCRIPTION:
URL:https://goodshepherdsarasota.org/event/labor-day-no-school/
LOCATION:FL
END:VEVENT
BEGIN:VEVENT
DTSTART;VALUE=DATE:20240729
DTEND;VALUE=DATE:20240803
DTSTAMP:20260423T060822
CREATED:20240416T165803Z
LAST-MODIFIED:20240416T165803Z
UID:2477-1722211200-1722643199@goodshepherdsarasota.org
SUMMARY:Summer Camp: GSLS Spirit Week
DESCRIPTION:Week 10: July 29 – GSLS Spirit Week! \nWho doesn’t love a good Spirit Week?! Each day will have a different theme: from pj day\, to wacky day\, Campers are sure to end their summer in a fun way!
URL:https://goodshepherdsarasota.org/event/summer-camp-gsls-spirit-week/
LOCATION:Good Shepherd Lutheran School\, 5651 Honore Ave\, Sarasota\, FL\, 34233\, United States
END:VEVENT
BEGIN:VEVENT
DTSTART;VALUE=DATE:20240722
DTEND;VALUE=DATE:20240727
DTSTAMP:20260423T060822
CREATED:20240416T165716Z
LAST-MODIFIED:20240416T165716Z
UID:2475-1721606400-1722038399@goodshepherdsarasota.org
SUMMARY:Summer Camp: GSLS Summer Olympics
DESCRIPTION:Week 9: July 22 – GSLS Summer Olympics \nCampers will be divided into countries and compete for medals within their age groups. It’s sure to be a fun time exploring different Olympic events!
URL:https://goodshepherdsarasota.org/event/summer-camp-gsls-summer-olympics/
LOCATION:Good Shepherd Lutheran School\, 5651 Honore Ave\, Sarasota\, FL\, 34233\, United States
END:VEVENT
BEGIN:VEVENT
DTSTART;VALUE=DATE:20240715
DTEND;VALUE=DATE:20240720
DTSTAMP:20260423T060822
CREATED:20240416T165626Z
LAST-MODIFIED:20240416T165626Z
UID:2473-1721001600-1721433599@goodshepherdsarasota.org
SUMMARY:Summer Camp: Mad Science Week
DESCRIPTION:Week 8: July 15 – Mad Science Week \nTime to get messy and experimental! Mad science week is always BLAST!
URL:https://goodshepherdsarasota.org/event/summer-camp-mad-science-week/
LOCATION:Good Shepherd Lutheran School\, 5651 Honore Ave\, Sarasota\, FL\, 34233\, United States
END:VEVENT
BEGIN:VEVENT
DTSTART;VALUE=DATE:20240708
DTEND;VALUE=DATE:20240713
DTSTAMP:20260423T060822
CREATED:20240416T165537Z
LAST-MODIFIED:20240416T165537Z
UID:2471-1720396800-1720828799@goodshepherdsarasota.org
SUMMARY:Summer Camp: Cookin' Up a Good Time
DESCRIPTION:Week 7: July 8 – Cookin’ up a Good Time \nMixing\, stirring\, and cookin’ up some yummy treats! Campers will make a snack each day this week.
URL:https://goodshepherdsarasota.org/event/summer-camp-cookin-up-a-good-time/
LOCATION:Good Shepherd Lutheran School\, 5651 Honore Ave\, Sarasota\, FL\, 34233\, United States
END:VEVENT
BEGIN:VEVENT
DTSTART;VALUE=DATE:20240701
DTEND;VALUE=DATE:20240706
DTSTAMP:20260423T060822
CREATED:20240416T164814Z
LAST-MODIFIED:20240416T165327Z
UID:2468-1719792000-1720223999@goodshepherdsarasota.org
SUMMARY:Summer Camp: Wonderful World of Disney
DESCRIPTION:Week 6 : July 1 – Wonderful World of Disney \nDisney theme days are headed your way! Throughout the week will also have guessing games\, trivia\, and creating their own Disney character.
URL:https://goodshepherdsarasota.org/event/summer-camp-wonderful-world-of-disney/
LOCATION:Good Shepherd Lutheran School\, 5651 Honore Ave\, Sarasota\, FL\, 34233\, United States
END:VEVENT
BEGIN:VEVENT
DTSTART;VALUE=DATE:20240624
DTEND;VALUE=DATE:20240629
DTSTAMP:20260423T060822
CREATED:20240416T164533Z
LAST-MODIFIED:20240416T164533Z
UID:2463-1719187200-1719619199@goodshepherdsarasota.org
SUMMARY:Summer Camp: Yer a Wizard Camper!
DESCRIPTION:Week 5: June 24 – Yer a Wizard\, Camper! \nBack by popular demand\, we will be revisiting the magical world of GodWerks School of Wizardry! Students will be sorted into houses and work to earn house points throughout the week. Students will attend classes of different magical studies. Prepare for a magical week!
URL:https://goodshepherdsarasota.org/event/summer-camp-yer-a-wizard-camper/
LOCATION:Good Shepherd Lutheran School\, 5651 Honore Ave\, Sarasota\, FL\, 34233\, United States
END:VEVENT
BEGIN:VEVENT
DTSTART;VALUE=DATE:20240617
DTEND;VALUE=DATE:20240622
DTSTAMP:20260423T060822
CREATED:20240416T164713Z
LAST-MODIFIED:20240416T164713Z
UID:2466-1718582400-1719014399@goodshepherdsarasota.org
SUMMARY:Summer Camp: Who Did It?
DESCRIPTION:Week 4: June 17 – Who Did It? \nIt’s time to put those detective skills to the test! Something is missing from camp and we need to figure out who did it! Clues will be revealed throughout the week while eliminating possible suspects.
URL:https://goodshepherdsarasota.org/event/summer-camp-who-did-it-2/
LOCATION:Good Shepherd Lutheran School\, 5651 Honore Ave\, Sarasota\, FL\, 34233\, United States
END:VEVENT
BEGIN:VEVENT
DTSTART;TZID=UTC:20240614T073000
DTEND;TZID=UTC:20240614T090000
DTSTAMP:20260423T060822
CREATED:20240611T150758Z
LAST-MODIFIED:20240611T150853Z
UID:2533-1718350200-1718355600@goodshepherdsarasota.org
SUMMARY:Donuts with Dad
DESCRIPTION:Join us from 7:30-9:00 out under the pavilion to celebrate all the dads!
URL:https://goodshepherdsarasota.org/event/donuts-with-dad/
LOCATION:Good Shepherd Lutheran School Pavillion\, 5651 Honore Ave\, Sarasota\, FL\, 34233\, United States
END:VEVENT
BEGIN:VEVENT
DTSTART;VALUE=DATE:20240611
DTEND;VALUE=DATE:20240612
DTSTAMP:20260423T060822
CREATED:20240611T151007Z
LAST-MODIFIED:20240611T151007Z
UID:2535-1718064000-1718150399@goodshepherdsarasota.org
SUMMARY:4th of July - No School/Camp
DESCRIPTION:Camp is CLOSED in observance of Independence Day.
URL:https://goodshepherdsarasota.org/event/4th-of-july-no-school-camp/
LOCATION:FL
END:VEVENT
BEGIN:VEVENT
DTSTART;VALUE=DATE:20240610
DTEND;VALUE=DATE:20240615
DTSTAMP:20260423T060822
CREATED:20240416T163958Z
LAST-MODIFIED:20240416T164620Z
UID:2461-1717977600-1718409599@goodshepherdsarasota.org
SUMMARY:Summer Camp: Crafts Around the World
DESCRIPTION:Week 3: June 10 – Crafts Around the World! \nThis week we will be learning the styles  of different types of art from different countries and cultures. Get your passports ready for a creative trip around the world.
URL:https://goodshepherdsarasota.org/event/summer-camp-who-did-it/
LOCATION:Good Shepherd Lutheran School\, 5651 Honore Ave\, Sarasota\, FL\, 34233\, United States
END:VEVENT
BEGIN:VEVENT
DTSTART;VALUE=DATE:20240603
DTEND;VALUE=DATE:20240608
DTSTAMP:20260423T060822
CREATED:20240416T163855Z
LAST-MODIFIED:20240416T163855Z
UID:2459-1717372800-1717804799@goodshepherdsarasota.org
SUMMARY:Summer Camp: Minute to Win It
DESCRIPTION:Week 2: June 3 – Minute to Win It \n60 seconds makes up a minute\, and that’s all you have to win each game! Campers will be challenged to complete simple tasks\, but only have a minute to complete it. Who will be able to beat the clock?
URL:https://goodshepherdsarasota.org/event/summer-camp-minute-to-win-it/
LOCATION:Good Shepherd Lutheran School\, 5651 Honore Ave\, Sarasota\, FL\, 34233\, United States
END:VEVENT
BEGIN:VEVENT
DTSTART;VALUE=DATE:20240528
DTEND;VALUE=DATE:20240601
DTSTAMP:20260423T060822
CREATED:20240416T163725Z
LAST-MODIFIED:20240416T163725Z
UID:2457-1716854400-1717199999@goodshepherdsarasota.org
SUMMARY:Summer Camp: School's Out For Summer
DESCRIPTION:Week 1: \nSummer means its time for FUN! This week\, campers will get to know each other and our staff by playing games and doing team building activities.
URL:https://goodshepherdsarasota.org/event/summer-camp-schools-out-for-summer/
LOCATION:Good Shepherd Lutheran School\, 5651 Honore Ave\, Sarasota\, FL\, 34233\, United States
END:VEVENT
BEGIN:VEVENT
DTSTART;TZID=UTC:20240524T113000
DTEND;TZID=UTC:20240524T123000
DTSTAMP:20260423T060822
CREATED:20240430T172710Z
LAST-MODIFIED:20240430T172710Z
UID:2499-1716550200-1716553800@goodshepherdsarasota.org
SUMMARY:VPK Graduation
DESCRIPTION:Join us as we celebrate the 2023-2024 graduating VPK class! A short ceremony will be held in the church on May 24th at 11:30 AM. \nAftercare is not provided for VPK on this day!
URL:https://goodshepherdsarasota.org/event/vpk-graduation-2/
LOCATION:Good Shepherd Lutheran Church\, 5659 Honore Ave\, Sarasota\, FL\, 34233\, United States
END:VEVENT
BEGIN:VEVENT
DTSTART;TZID=UTC:20240510T073000
DTEND;TZID=UTC:20240510T090000
DTSTAMP:20260423T060822
CREATED:20240416T162856Z
LAST-MODIFIED:20240416T162856Z
UID:2454-1715326200-1715331600@goodshepherdsarasota.org
SUMMARY:Muffins with Mom
DESCRIPTION:Join us as we celebrate all moms for Mother’s Day! Our school will host a short Muffins with Mom during drop off from 7:30 AM – 9:00 AM.
URL:https://goodshepherdsarasota.org/event/muffins-with-mom/
LOCATION:Good Shepherd Lutheran School Pavillion\, 5651 Honore Ave\, Sarasota\, FL\, 34233\, United States
END:VEVENT
BEGIN:VEVENT
DTSTART;TZID=UTC:20240506T180000
DTEND;TZID=UTC:20240506T193000
DTSTAMP:20260423T060822
CREATED:20240430T171332Z
LAST-MODIFIED:20240430T171354Z
UID:2484-1715018400-1715023800@goodshepherdsarasota.org
SUMMARY:Accreditation Dinner
DESCRIPTION:Our accreditation team will be here May 5-7th! We are hosting a dinner with them on Monday\, May 6th at 6:00!
URL:https://goodshepherdsarasota.org/event/accreditation-dinner/
LOCATION:Mennicke Hall\, 5659 Honore Avenue\, Sarasota\, FL\, 34233\, United States
END:VEVENT
BEGIN:VEVENT
DTSTART;VALUE=DATE:20240505
DTEND;VALUE=DATE:20240508
DTSTAMP:20260423T060822
CREATED:20240402T171405Z
LAST-MODIFIED:20240416T163025Z
UID:2437-1714867200-1715126399@goodshepherdsarasota.org
SUMMARY:Accreditation
DESCRIPTION:The church and school are going through accreditation this year! We will have a team of people here from May 5th-7th evaluating our program.
URL:https://goodshepherdsarasota.org/event/accreditation/
LOCATION:Good Shepherd Lutheran School\, 5651 Honore Ave\, Sarasota\, FL\, 34233\, United States
END:VEVENT
BEGIN:VEVENT
DTSTART;VALUE=DATE:20240426
DTEND;VALUE=DATE:20240427
DTSTAMP:20260423T060822
CREATED:20240402T171649Z
LAST-MODIFIED:20240402T171649Z
UID:2439-1714089600-1714175999@goodshepherdsarasota.org
SUMMARY:$1 Dress Down Day
DESCRIPTION:Students may dress down on Friday\, April 26th by donating a dollar. No costumes\, sandals\, or pjs please!
URL:https://goodshepherdsarasota.org/event/1-dress-down-day/
LOCATION:Good Shepherd Lutheran School\, 5651 Honore Ave\, Sarasota\, FL\, 34233\, United States
END:VEVENT
BEGIN:VEVENT
DTSTART;TZID=UTC:20240421T110000
DTEND;TZID=UTC:20240421T120000
DTSTAMP:20260423T060822
CREATED:20240227T175039Z
LAST-MODIFIED:20240227T175039Z
UID:2391-1713697200-1713700800@goodshepherdsarasota.org
SUMMARY:Dessert Auction
DESCRIPTION:Join us after church for a Dessert Auction! If you’d like to donate a dessert\, contact the church office to sign up!
URL:https://goodshepherdsarasota.org/event/dessert-auction/
LOCATION:Mennicke Hall\, 5659 Honore Avenue\, Sarasota\, FL\, 34233\, United States
END:VEVENT
BEGIN:VEVENT
DTSTART;TZID=UTC:20240331T091500
DTEND;TZID=UTC:20240331T103000
DTSTAMP:20260423T060822
CREATED:20240115T154934Z
LAST-MODIFIED:20240115T154934Z
UID:2296-1711876500-1711881000@goodshepherdsarasota.org
SUMMARY:Easter Sunday Service
DESCRIPTION:Join us for worship on Sunday\, March 31st at 9:15 for our Easter Sunday Service.
URL:https://goodshepherdsarasota.org/event/easter-sunday-service/
LOCATION:Good Shepherd Lutheran Church\, 5659 Honore Ave\, Sarasota\, FL\, 34233\, United States
END:VEVENT
BEGIN:VEVENT
DTSTART;TZID=UTC:20240331T071500
DTEND;TZID=UTC:20240331T090000
DTSTAMP:20260423T060822
CREATED:20240115T154831Z
LAST-MODIFIED:20240115T154831Z
UID:2294-1711869300-1711875600@goodshepherdsarasota.org
SUMMARY:Easter Sunrise Service
DESCRIPTION:Join us for worship in Sunday\, March 31st at 7:15 AM for our Easter Sunrise Service.
URL:https://goodshepherdsarasota.org/event/easter-sunrise-service/
LOCATION:Good Shepherd Lutheran Church\, 5659 Honore Ave\, Sarasota\, FL\, 34233\, United States
END:VEVENT
END:VCALENDAR