BEGIN:VCALENDAR
VERSION:2.0
PRODID:-//Good Shepherd Lutheran Church and School - ECPv6.11.2//NONSGML v1.0//EN
CALSCALE:GREGORIAN
METHOD:PUBLISH
X-WR-CALNAME:Good Shepherd Lutheran Church and School
X-ORIGINAL-URL:https://goodshepherdsarasota.org
X-WR-CALDESC:Events for Good Shepherd Lutheran Church and School
REFRESH-INTERVAL;VALUE=DURATION:PT1H
X-Robots-Tag:noindex
X-PUBLISHED-TTL:PT1H
BEGIN:VTIMEZONE
TZID:UTC
BEGIN:STANDARD
TZOFFSETFROM:+0000
TZOFFSETTO:+0000
TZNAME:UTC
DTSTART:20240101T000000
END:STANDARD
END:VTIMEZONE
BEGIN:VEVENT
DTSTART;TZID=UTC:20240614T073000
DTEND;TZID=UTC:20240614T090000
DTSTAMP:20260422T221634
CREATED:20240611T150758Z
LAST-MODIFIED:20240611T150853Z
UID:2533-1718350200-1718355600@goodshepherdsarasota.org
SUMMARY:Donuts with Dad
DESCRIPTION:Join us from 7:30-9:00 out under the pavilion to celebrate all the dads!
URL:https://goodshepherdsarasota.org/event/donuts-with-dad/
LOCATION:Good Shepherd Lutheran School Pavillion\, 5651 Honore Ave\, Sarasota\, FL\, 34233\, United States
END:VEVENT
BEGIN:VEVENT
DTSTART;VALUE=DATE:20240611
DTEND;VALUE=DATE:20240612
DTSTAMP:20260422T221634
CREATED:20240611T151007Z
LAST-MODIFIED:20240611T151007Z
UID:2535-1718064000-1718150399@goodshepherdsarasota.org
SUMMARY:4th of July - No School/Camp
DESCRIPTION:Camp is CLOSED in observance of Independence Day.
URL:https://goodshepherdsarasota.org/event/4th-of-july-no-school-camp/
LOCATION:FL
END:VEVENT
BEGIN:VEVENT
DTSTART;VALUE=DATE:20240610
DTEND;VALUE=DATE:20240615
DTSTAMP:20260422T221634
CREATED:20240416T163958Z
LAST-MODIFIED:20240416T164620Z
UID:2461-1717977600-1718409599@goodshepherdsarasota.org
SUMMARY:Summer Camp: Crafts Around the World
DESCRIPTION:Week 3: June 10 – Crafts Around the World! \nThis week we will be learning the styles  of different types of art from different countries and cultures. Get your passports ready for a creative trip around the world.
URL:https://goodshepherdsarasota.org/event/summer-camp-who-did-it/
LOCATION:Good Shepherd Lutheran School\, 5651 Honore Ave\, Sarasota\, FL\, 34233\, United States
END:VEVENT
BEGIN:VEVENT
DTSTART;VALUE=DATE:20240603
DTEND;VALUE=DATE:20240608
DTSTAMP:20260422T221634
CREATED:20240416T163855Z
LAST-MODIFIED:20240416T163855Z
UID:2459-1717372800-1717804799@goodshepherdsarasota.org
SUMMARY:Summer Camp: Minute to Win It
DESCRIPTION:Week 2: June 3 – Minute to Win It \n60 seconds makes up a minute\, and that’s all you have to win each game! Campers will be challenged to complete simple tasks\, but only have a minute to complete it. Who will be able to beat the clock?
URL:https://goodshepherdsarasota.org/event/summer-camp-minute-to-win-it/
LOCATION:Good Shepherd Lutheran School\, 5651 Honore Ave\, Sarasota\, FL\, 34233\, United States
END:VEVENT
BEGIN:VEVENT
DTSTART;VALUE=DATE:20240528
DTEND;VALUE=DATE:20240601
DTSTAMP:20260422T221634
CREATED:20240416T163725Z
LAST-MODIFIED:20240416T163725Z
UID:2457-1716854400-1717199999@goodshepherdsarasota.org
SUMMARY:Summer Camp: School's Out For Summer
DESCRIPTION:Week 1: \nSummer means its time for FUN! This week\, campers will get to know each other and our staff by playing games and doing team building activities.
URL:https://goodshepherdsarasota.org/event/summer-camp-schools-out-for-summer/
LOCATION:Good Shepherd Lutheran School\, 5651 Honore Ave\, Sarasota\, FL\, 34233\, United States
END:VEVENT
BEGIN:VEVENT
DTSTART;TZID=UTC:20240524T113000
DTEND;TZID=UTC:20240524T123000
DTSTAMP:20260422T221634
CREATED:20240430T172710Z
LAST-MODIFIED:20240430T172710Z
UID:2499-1716550200-1716553800@goodshepherdsarasota.org
SUMMARY:VPK Graduation
DESCRIPTION:Join us as we celebrate the 2023-2024 graduating VPK class! A short ceremony will be held in the church on May 24th at 11:30 AM. \nAftercare is not provided for VPK on this day!
URL:https://goodshepherdsarasota.org/event/vpk-graduation-2/
LOCATION:Good Shepherd Lutheran Church\, 5659 Honore Ave\, Sarasota\, FL\, 34233\, United States
END:VEVENT
BEGIN:VEVENT
DTSTART;TZID=UTC:20240510T073000
DTEND;TZID=UTC:20240510T090000
DTSTAMP:20260422T221634
CREATED:20240416T162856Z
LAST-MODIFIED:20240416T162856Z
UID:2454-1715326200-1715331600@goodshepherdsarasota.org
SUMMARY:Muffins with Mom
DESCRIPTION:Join us as we celebrate all moms for Mother’s Day! Our school will host a short Muffins with Mom during drop off from 7:30 AM – 9:00 AM.
URL:https://goodshepherdsarasota.org/event/muffins-with-mom/
LOCATION:Good Shepherd Lutheran School Pavillion\, 5651 Honore Ave\, Sarasota\, FL\, 34233\, United States
END:VEVENT
BEGIN:VEVENT
DTSTART;TZID=UTC:20240506T180000
DTEND;TZID=UTC:20240506T193000
DTSTAMP:20260422T221634
CREATED:20240430T171332Z
LAST-MODIFIED:20240430T171354Z
UID:2484-1715018400-1715023800@goodshepherdsarasota.org
SUMMARY:Accreditation Dinner
DESCRIPTION:Our accreditation team will be here May 5-7th! We are hosting a dinner with them on Monday\, May 6th at 6:00!
URL:https://goodshepherdsarasota.org/event/accreditation-dinner/
LOCATION:Mennicke Hall\, 5659 Honore Avenue\, Sarasota\, FL\, 34233\, United States
END:VEVENT
BEGIN:VEVENT
DTSTART;VALUE=DATE:20240505
DTEND;VALUE=DATE:20240508
DTSTAMP:20260422T221634
CREATED:20240402T171405Z
LAST-MODIFIED:20240416T163025Z
UID:2437-1714867200-1715126399@goodshepherdsarasota.org
SUMMARY:Accreditation
DESCRIPTION:The church and school are going through accreditation this year! We will have a team of people here from May 5th-7th evaluating our program.
URL:https://goodshepherdsarasota.org/event/accreditation/
LOCATION:Good Shepherd Lutheran School\, 5651 Honore Ave\, Sarasota\, FL\, 34233\, United States
END:VEVENT
BEGIN:VEVENT
DTSTART;VALUE=DATE:20240426
DTEND;VALUE=DATE:20240427
DTSTAMP:20260422T221634
CREATED:20240402T171649Z
LAST-MODIFIED:20240402T171649Z
UID:2439-1714089600-1714175999@goodshepherdsarasota.org
SUMMARY:$1 Dress Down Day
DESCRIPTION:Students may dress down on Friday\, April 26th by donating a dollar. No costumes\, sandals\, or pjs please!
URL:https://goodshepherdsarasota.org/event/1-dress-down-day/
LOCATION:Good Shepherd Lutheran School\, 5651 Honore Ave\, Sarasota\, FL\, 34233\, United States
END:VEVENT
BEGIN:VEVENT
DTSTART;TZID=UTC:20240421T110000
DTEND;TZID=UTC:20240421T120000
DTSTAMP:20260422T221634
CREATED:20240227T175039Z
LAST-MODIFIED:20240227T175039Z
UID:2391-1713697200-1713700800@goodshepherdsarasota.org
SUMMARY:Dessert Auction
DESCRIPTION:Join us after church for a Dessert Auction! If you’d like to donate a dessert\, contact the church office to sign up!
URL:https://goodshepherdsarasota.org/event/dessert-auction/
LOCATION:Mennicke Hall\, 5659 Honore Avenue\, Sarasota\, FL\, 34233\, United States
END:VEVENT
BEGIN:VEVENT
DTSTART;TZID=UTC:20240331T091500
DTEND;TZID=UTC:20240331T103000
DTSTAMP:20260422T221634
CREATED:20240115T154934Z
LAST-MODIFIED:20240115T154934Z
UID:2296-1711876500-1711881000@goodshepherdsarasota.org
SUMMARY:Easter Sunday Service
DESCRIPTION:Join us for worship on Sunday\, March 31st at 9:15 for our Easter Sunday Service.
URL:https://goodshepherdsarasota.org/event/easter-sunday-service/
LOCATION:Good Shepherd Lutheran Church\, 5659 Honore Ave\, Sarasota\, FL\, 34233\, United States
END:VEVENT
BEGIN:VEVENT
DTSTART;TZID=UTC:20240331T071500
DTEND;TZID=UTC:20240331T090000
DTSTAMP:20260422T221634
CREATED:20240115T154831Z
LAST-MODIFIED:20240115T154831Z
UID:2294-1711869300-1711875600@goodshepherdsarasota.org
SUMMARY:Easter Sunrise Service
DESCRIPTION:Join us for worship in Sunday\, March 31st at 7:15 AM for our Easter Sunrise Service.
URL:https://goodshepherdsarasota.org/event/easter-sunrise-service/
LOCATION:Good Shepherd Lutheran Church\, 5659 Honore Ave\, Sarasota\, FL\, 34233\, United States
END:VEVENT
BEGIN:VEVENT
DTSTART;TZID=UTC:20240329T190000
DTEND;TZID=UTC:20240329T203000
DTSTAMP:20260422T221634
CREATED:20240115T154429Z
LAST-MODIFIED:20240115T154429Z
UID:2290-1711738800-1711744200@goodshepherdsarasota.org
SUMMARY:Good Friday Service
DESCRIPTION:Join us for worship on Friday\, March 29th at 7:00PM for our Good Friday Service.
URL:https://goodshepherdsarasota.org/event/good-friday-service/
LOCATION:Good Shepherd Lutheran Church\, 5659 Honore Ave\, Sarasota\, FL\, 34233\, United States
END:VEVENT
BEGIN:VEVENT
DTSTART;TZID=UTC:20240329T090000
DTEND;TZID=UTC:20240329T100000
DTSTAMP:20260422T221634
CREATED:20240115T154604Z
LAST-MODIFIED:20240115T154604Z
UID:2292-1711702800-1711706400@goodshepherdsarasota.org
SUMMARY:Easter Egg Hunt
DESCRIPTION:Join us for our FREE annual Easter Egg Hunt!  Children ages 0-10 may participate in this event.
URL:https://goodshepherdsarasota.org/event/easter-egg-hunt-4/
LOCATION:Good Shepherd Lutheran School\, 5651 Honore Ave\, Sarasota\, FL\, 34233\, United States
END:VEVENT
BEGIN:VEVENT
DTSTART;TZID=UTC:20240328T190000
DTEND;TZID=UTC:20240328T203000
DTSTAMP:20260422T221634
CREATED:20240115T154314Z
LAST-MODIFIED:20240115T154314Z
UID:2288-1711652400-1711657800@goodshepherdsarasota.org
SUMMARY:Maundy Thursday Service
DESCRIPTION:Join us for worship on Thursday\, March 28th for our Maundy Thursday Service.
URL:https://goodshepherdsarasota.org/event/maundy-thursday-service/
LOCATION:Good Shepherd Lutheran Church\, 5659 Honore Ave\, Sarasota\, FL\, 34233\, United States
END:VEVENT
BEGIN:VEVENT
DTSTART;TZID=UTC:20240324T091500
DTEND;TZID=UTC:20240324T103000
DTSTAMP:20260422T221634
CREATED:20240115T153701Z
LAST-MODIFIED:20240115T153701Z
UID:2276-1711271700-1711276200@goodshepherdsarasota.org
SUMMARY:Palm Sunday Service
DESCRIPTION:Join us for worship on March 24th for our Palm Sunday Service.
URL:https://goodshepherdsarasota.org/event/palm-sunday-service/
LOCATION:Good Shepherd Lutheran Church\, 5659 Honore Ave\, Sarasota\, FL\, 34233\, United States
END:VEVENT
BEGIN:VEVENT
DTSTART;TZID=UTC:20240323T090000
DTEND;TZID=UTC:20240323T113000
DTSTAMP:20260422T221634
CREATED:20240227T175239Z
LAST-MODIFIED:20240227T175239Z
UID:2393-1711184400-1711193400@goodshepherdsarasota.org
SUMMARY:Campus Work Day
DESCRIPTION:Please join us as we clean up\, repair\, and work around campus. Lunch to follow at 11:30. We appreciate all volunteers and help!
URL:https://goodshepherdsarasota.org/event/campus-work-day-2/
LOCATION:FL
END:VEVENT
BEGIN:VEVENT
DTSTART;TZID=UTC:20240320T190000
DTEND;TZID=UTC:20240320T203000
DTSTAMP:20260422T221634
CREATED:20240115T154201Z
LAST-MODIFIED:20240115T154201Z
UID:2286-1710961200-1710966600@goodshepherdsarasota.org
SUMMARY:Lent Midweek Service
DESCRIPTION:Midweek Lent Services will be held on Wednesdays at 7:00PM.
URL:https://goodshepherdsarasota.org/event/lent-midweek-service-5/
LOCATION:Good Shepherd Lutheran Church\, 5659 Honore Ave\, Sarasota\, FL\, 34233\, United States
END:VEVENT
BEGIN:VEVENT
DTSTART;TZID=UTC:20240318T180000
DTEND;TZID=UTC:20240318T190000
DTSTAMP:20260422T221634
CREATED:20240227T175342Z
LAST-MODIFIED:20240227T175342Z
UID:2395-1710784800-1710788400@goodshepherdsarasota.org
SUMMARY:Church Council Meeting
DESCRIPTION:
URL:https://goodshepherdsarasota.org/event/church-council-meeting-17/
LOCATION:Mennicke Hall\, 5659 Honore Avenue\, Sarasota\, FL\, 34233\, United States
END:VEVENT
BEGIN:VEVENT
DTSTART;TZID=UTC:20240313T190000
DTEND;TZID=UTC:20240313T203000
DTSTAMP:20260422T221634
CREATED:20240115T154125Z
LAST-MODIFIED:20240115T154125Z
UID:2284-1710356400-1710361800@goodshepherdsarasota.org
SUMMARY:Lent Midweek Service
DESCRIPTION:Midweek Lent Services will be held on Wednesdays at 7:00PM.
URL:https://goodshepherdsarasota.org/event/lent-midweek-service-4/
LOCATION:Good Shepherd Lutheran Church\, 5659 Honore Ave\, Sarasota\, FL\, 34233\, United States
END:VEVENT
BEGIN:VEVENT
DTSTART;VALUE=DATE:20240308
DTEND;VALUE=DATE:20240318
DTSTAMP:20260422T221634
CREATED:20240305T182228Z
LAST-MODIFIED:20240305T182228Z
UID:2404-1709856000-1710719999@goodshepherdsarasota.org
SUMMARY:Spring Break
DESCRIPTION:NO SCHOOL: SPRING BREAK
URL:https://goodshepherdsarasota.org/event/spring-break/
LOCATION:Good Shepherd Lutheran School\, 5651 Honore Ave\, Sarasota\, FL\, 34233\, United States
END:VEVENT
BEGIN:VEVENT
DTSTART;TZID=UTC:20240306T190000
DTEND;TZID=UTC:20240306T203000
DTSTAMP:20260422T221634
CREATED:20240115T154046Z
LAST-MODIFIED:20240115T154046Z
UID:2282-1709751600-1709757000@goodshepherdsarasota.org
SUMMARY:Lent Midweek Service
DESCRIPTION:Midweek Lent Services will be held on Wednesdays at 7:00PM.
URL:https://goodshepherdsarasota.org/event/lent-midweek-service-3/
LOCATION:Good Shepherd Lutheran Church\, 5659 Honore Ave\, Sarasota\, FL\, 34233\, United States
END:VEVENT
BEGIN:VEVENT
DTSTART;TZID=UTC:20240228T190000
DTEND;TZID=UTC:20240228T203000
DTSTAMP:20260422T221634
CREATED:20240115T154002Z
LAST-MODIFIED:20240115T154002Z
UID:2280-1709146800-1709152200@goodshepherdsarasota.org
SUMMARY:Lent Midweek Service
DESCRIPTION:Midweek Lent Services will be held on Wednesdays at 7:00PM.
URL:https://goodshepherdsarasota.org/event/lent-midweek-service-2/
LOCATION:Good Shepherd Lutheran Church\, 5659 Honore Ave\, Sarasota\, FL\, 34233\, United States
END:VEVENT
BEGIN:VEVENT
DTSTART;TZID=UTC:20240221T190000
DTEND;TZID=UTC:20240221T203000
DTSTAMP:20260422T221634
CREATED:20240115T153918Z
LAST-MODIFIED:20240115T153918Z
UID:2278-1708542000-1708547400@goodshepherdsarasota.org
SUMMARY:Lent Midweek Service
DESCRIPTION:Midweek Lent Services will be held on Wednesdays at 7:00PM.
URL:https://goodshepherdsarasota.org/event/lent-midweek-service/
LOCATION:Good Shepherd Lutheran Church\, 5659 Honore Ave\, Sarasota\, FL\, 34233\, United States
END:VEVENT
BEGIN:VEVENT
DTSTART;TZID=UTC:20240214T190000
DTEND;TZID=UTC:20240214T200000
DTSTAMP:20260422T221634
CREATED:20240115T153538Z
LAST-MODIFIED:20240115T153538Z
UID:2274-1707937200-1707940800@goodshepherdsarasota.org
SUMMARY:Ash Wednesday Service
DESCRIPTION:Join us for Worship on February 14th at 7:00 for our Ash Wednesday Service.
URL:https://goodshepherdsarasota.org/event/ash-wednesday-service/
LOCATION:Good Shepherd Lutheran Church\, 5659 Honore Ave\, Sarasota\, FL\, 34233\, United States
END:VEVENT
BEGIN:VEVENT
DTSTART;TZID=UTC:20240204T140000
DTEND;TZID=UTC:20240204T160000
DTSTAMP:20260422T221634
CREATED:20240115T143451Z
LAST-MODIFIED:20240115T143451Z
UID:2242-1707055200-1707062400@goodshepherdsarasota.org
SUMMARY:30th Anniversary Organ Concert
DESCRIPTION:Calling all music lovers and\or those that appreciate 18th century organ music!\nJoin us as we celebrate the 30th Anniversary of our prestigious Longmore Mechanical Action Pipe Organ with a musical celebration! Featuring our own music Director\, Linda Petersen\, Celtic Harp by Cindy Von Waldner & the Good Shepherd Lutheran Church Choir!\n\n\nWine & Cheese Reception to follow\, all are welcome!\n\n\n30th organ anniversary flier 2024[68]
URL:https://goodshepherdsarasota.org/event/30th-anniversary-organ-concert/
LOCATION:Good Shepherd Lutheran Church\, 5659 Honore Ave\, Sarasota\, FL\, 34233\, United States
END:VEVENT
BEGIN:VEVENT
DTSTART;TZID=UTC:20240203T090000
DTEND;TZID=UTC:20240203T110000
DTSTAMP:20260422T221634
CREATED:20240115T153433Z
LAST-MODIFIED:20240115T153433Z
UID:2272-1706950800-1706958000@goodshepherdsarasota.org
SUMMARY:Mennicke Hall Clean Up Day
DESCRIPTION:Join us as we tidy and clean Mennicke Hall. Many hands make light work!
URL:https://goodshepherdsarasota.org/event/mennicke-hall-clean-up-day/
LOCATION:Mennicke Hall\, 5659 Honore Avenue\, Sarasota\, FL\, 34233\, United States
END:VEVENT
BEGIN:VEVENT
DTSTART;VALUE=DATE:20240126
DTEND;VALUE=DATE:20240127
DTSTAMP:20260422T221634
CREATED:20240116T180041Z
LAST-MODIFIED:20240116T180041Z
UID:2357-1706227200-1706313599@goodshepherdsarasota.org
SUMMARY:PJ Day!
DESCRIPTION:Ending the week in the coziest way possible! Students can wear their pjs to school.
URL:https://goodshepherdsarasota.org/event/pj-day/
LOCATION:Good Shepherd Lutheran School\, 5651 Honore Ave\, Sarasota\, FL\, 34233\, United States
END:VEVENT
BEGIN:VEVENT
DTSTART;VALUE=DATE:20240125
DTEND;VALUE=DATE:20240126
DTSTAMP:20260422T221634
CREATED:20240116T175907Z
LAST-MODIFIED:20240116T175907Z
UID:2355-1706140800-1706227199@goodshepherdsarasota.org
SUMMARY:100th Day of School!
DESCRIPTION:Hip Hip Hooray! It’s the 100th day! Students are encouraged to dress up like they are 100 years old.
URL:https://goodshepherdsarasota.org/event/100th-day-of-school/
LOCATION:Good Shepherd Lutheran School\, 5651 Honore Ave\, Sarasota\, FL\, 34233\, United States
END:VEVENT
END:VCALENDAR