BEGIN:VCALENDAR
VERSION:2.0
PRODID:-//Good Shepherd Lutheran Church and School - ECPv6.11.2//NONSGML v1.0//EN
CALSCALE:GREGORIAN
METHOD:PUBLISH
X-WR-CALNAME:Good Shepherd Lutheran Church and School
X-ORIGINAL-URL:https://goodshepherdsarasota.org
X-WR-CALDESC:Events for Good Shepherd Lutheran Church and School
REFRESH-INTERVAL;VALUE=DURATION:PT1H
X-Robots-Tag:noindex
X-PUBLISHED-TTL:PT1H
BEGIN:VTIMEZONE
TZID:UTC
BEGIN:STANDARD
TZOFFSETFROM:+0000
TZOFFSETTO:+0000
TZNAME:UTC
DTSTART:20230101T000000
END:STANDARD
END:VTIMEZONE
BEGIN:VEVENT
DTSTART;VALUE=DATE:20240123
DTEND;VALUE=DATE:20240124
DTSTAMP:20260422T223638
CREATED:20240116T175507Z
LAST-MODIFIED:20240116T175507Z
UID:2349-1705968000-1706054399@goodshepherdsarasota.org
SUMMARY:Disney Day!
DESCRIPTION:Students may wear their Disney themed gear and accessories to school. NO COSTUMES
URL:https://goodshepherdsarasota.org/event/disney-day/
LOCATION:Good Shepherd Lutheran School\, 5651 Honore Ave\, Sarasota\, FL\, 34233\, United States
END:VEVENT
BEGIN:VEVENT
DTSTART;TZID=UTC:20240122T180000
DTEND;TZID=UTC:20240122T190000
DTSTAMP:20260422T223638
CREATED:20240115T153308Z
LAST-MODIFIED:20240116T163407Z
UID:2270-1705946400-1705950000@goodshepherdsarasota.org
SUMMARY:Council Meeting
DESCRIPTION:January’s Church Council meeting is scheduled for January 22nd at 6:00PM in Mennicke Hall has been CANCELLED.
URL:https://goodshepherdsarasota.org/event/council-meeting/
LOCATION:Mennicke Hall\, 5659 Honore Avenue\, Sarasota\, FL\, 34233\, United States
END:VEVENT
BEGIN:VEVENT
DTSTART;VALUE=DATE:20240122
DTEND;VALUE=DATE:20240127
DTSTAMP:20260422T223638
CREATED:20240116T175350Z
LAST-MODIFIED:20240116T175350Z
UID:2347-1705881600-1706313599@goodshepherdsarasota.org
SUMMARY:National Lutheran Schools Week!
DESCRIPTION:It’s time to celebrate with our Lutheran Schools around the country! Each day we will have a different theme day for our students to participate in.
URL:https://goodshepherdsarasota.org/event/national-lutheran-schools-week/
LOCATION:Good Shepherd Lutheran School\, 5651 Honore Ave\, Sarasota\, FL\, 34233\, United States
END:VEVENT
BEGIN:VEVENT
DTSTART;VALUE=DATE:20240122
DTEND;VALUE=DATE:20240123
DTSTAMP:20260422T223638
CREATED:20240116T175604Z
LAST-MODIFIED:20240116T175604Z
UID:2351-1705881600-1705967999@goodshepherdsarasota.org
SUMMARY:Sports Day!
DESCRIPTION:Show your team spirit and wear your favorite team gear to school.
URL:https://goodshepherdsarasota.org/event/sports-day/
LOCATION:Good Shepherd Lutheran School\, 5651 Honore Ave\, Sarasota\, FL\, 34233\, United States
END:VEVENT
BEGIN:VEVENT
DTSTART;VALUE=DATE:20240115
DTEND;VALUE=DATE:20240116
DTSTAMP:20260422T223638
CREATED:20240115T153000Z
LAST-MODIFIED:20240115T153000Z
UID:2268-1705276800-1705363199@goodshepherdsarasota.org
SUMMARY:MLK Jr Day NO SCHOOL
DESCRIPTION:School is CLOSED Monday\, January 15th in honor of MLK Jr Day.
URL:https://goodshepherdsarasota.org/event/mlk-jr-day-no-school/
LOCATION:Good Shepherd Lutheran School\, 5651 Honore Ave\, Sarasota\, FL\, 34233\, United States
END:VEVENT
BEGIN:VEVENT
DTSTART;TZID=UTC:20231231T091500
DTEND;TZID=UTC:20231231T103000
DTSTAMP:20260422T223638
CREATED:20231010T204826Z
LAST-MODIFIED:20231010T204902Z
UID:2015-1704014100-1704018600@goodshepherdsarasota.org
SUMMARY:1st Sunday after Christmas
DESCRIPTION:Worship with communion
URL:https://goodshepherdsarasota.org/event/1st-sunday-after-christmas/
LOCATION:Good Shepherd Lutheran Church\, 5659 Honore Ave\, Sarasota\, FL\, 34233\, United States
END:VEVENT
BEGIN:VEVENT
DTSTART;TZID=UTC:20231224T190000
DTEND;TZID=UTC:20231224T203000
DTSTAMP:20260422T223638
CREATED:20231114T181958Z
LAST-MODIFIED:20231211T185924Z
UID:2129-1703444400-1703449800@goodshepherdsarasota.org
SUMMARY:Christmas Eve Service
DESCRIPTION:“The Diamond Found in the Manger” \nFamily-Friendly Christmas Eve Candlelight Worship Service with Holy Communion.
URL:https://goodshepherdsarasota.org/event/christmas-eve-service/
LOCATION:Good Shepherd Lutheran Church\, 5659 Honore Ave\, Sarasota\, FL\, 34233\, United States
END:VEVENT
BEGIN:VEVENT
DTSTART;TZID=UTC:20231222T080000
DTEND;TZID=UTC:20240105T170000
DTSTAMP:20260422T223638
CREATED:20230912T200438Z
LAST-MODIFIED:20230912T200438Z
UID:1949-1703232000-1704474000@goodshepherdsarasota.org
SUMMARY:Christmas Break - School Closed
DESCRIPTION:
URL:https://goodshepherdsarasota.org/event/christmas-break-school-closed/
END:VEVENT
BEGIN:VEVENT
DTSTART;TZID=UTC:20231220T190000
DTEND;TZID=UTC:20231220T200000
DTSTAMP:20260422T223638
CREATED:20231010T204642Z
LAST-MODIFIED:20231010T204642Z
UID:2013-1703098800-1703102400@goodshepherdsarasota.org
SUMMARY:Advent Midweek #3
DESCRIPTION:“Our Peace Rests on Him Alone”
URL:https://goodshepherdsarasota.org/event/advent-midweek-3-2/
LOCATION:Good Shepherd Lutheran Church\, 5659 Honore Ave\, Sarasota\, FL\, 34233\, United States
END:VEVENT
BEGIN:VEVENT
DTSTART;TZID=UTC:20231217T091500
DTEND;TZID=UTC:20231217T103000
DTSTAMP:20260422T223638
CREATED:20231010T204538Z
LAST-MODIFIED:20231010T204538Z
UID:2011-1702804500-1702809000@goodshepherdsarasota.org
SUMMARY:3rd Sunday in Advent
DESCRIPTION:Worship with communion
URL:https://goodshepherdsarasota.org/event/3rd-sunday-in-advent-2/
LOCATION:Good Shepherd Lutheran Church\, 5659 Honore Ave\, Sarasota\, FL\, 34233\, United States
END:VEVENT
BEGIN:VEVENT
DTSTART;TZID=UTC:20231215T180000
DTEND;TZID=UTC:20231215T190000
DTSTAMP:20260422T223638
CREATED:20230912T200315Z
LAST-MODIFIED:20230912T200315Z
UID:1947-1702663200-1702666800@goodshepherdsarasota.org
SUMMARY:VPK Christmas Program
DESCRIPTION:Join us in the church to hear ourVPK students perform Christmas songs!
URL:https://goodshepherdsarasota.org/event/vpk-christmas-program/
LOCATION:Good Shepherd Lutheran Church\, 5659 Honore Ave\, Sarasota\, FL\, 34233\, United States
END:VEVENT
BEGIN:VEVENT
DTSTART;TZID=UTC:20231214T180000
DTEND;TZID=UTC:20231214T190000
DTSTAMP:20260422T223638
CREATED:20230912T200210Z
LAST-MODIFIED:20230912T200210Z
UID:1945-1702576800-1702580400@goodshepherdsarasota.org
SUMMARY:2/3 Year Old Christmas Program
DESCRIPTION:Join us in the church to hear our 2 and 3 year old students perform Christmas songs!
URL:https://goodshepherdsarasota.org/event/2-3-year-old-christmas-program/
LOCATION:Good Shepherd Lutheran Church\, 5659 Honore Ave\, Sarasota\, FL\, 34233\, United States
END:VEVENT
BEGIN:VEVENT
DTSTART;TZID=UTC:20231213T190000
DTEND;TZID=UTC:20231213T200000
DTSTAMP:20260422T223638
CREATED:20231010T204451Z
LAST-MODIFIED:20231010T204451Z
UID:2009-1702494000-1702497600@goodshepherdsarasota.org
SUMMARY:Advent Midweek #2
DESCRIPTION:“Peace to All\, Near and Far”
URL:https://goodshepherdsarasota.org/event/advent-midweek-2-2/
LOCATION:Good Shepherd Lutheran Church\, 5659 Honore Ave\, Sarasota\, FL\, 34233\, United States
END:VEVENT
BEGIN:VEVENT
DTSTART;TZID=UTC:20231210T091500
DTEND;TZID=UTC:20231210T103000
DTSTAMP:20260422T223638
CREATED:20231010T204352Z
LAST-MODIFIED:20231010T204352Z
UID:2007-1702199700-1702204200@goodshepherdsarasota.org
SUMMARY:2nd Sunday in Advent
DESCRIPTION:Worship with Communion
URL:https://goodshepherdsarasota.org/event/2nd-sunday-in-advent-2/
LOCATION:Good Shepherd Lutheran Church\, 5659 Honore Ave\, Sarasota\, FL\, 34233\, United States
END:VEVENT
BEGIN:VEVENT
DTSTART;TZID=UTC:20231208T180000
DTEND;TZID=UTC:20231208T193000
DTSTAMP:20260422T223638
CREATED:20230912T200037Z
LAST-MODIFIED:20230912T200037Z
UID:1943-1702058400-1702063800@goodshepherdsarasota.org
SUMMARY:Santa Visit - Last Names L-Z
DESCRIPTION:Santa’s coming to Good Shepherd! Spend some time sipping hot chocolate and spending time with friends. You will get to meet Santa and have your picture taken!
URL:https://goodshepherdsarasota.org/event/santa-visit-last-names-l-z/
LOCATION:Mennicke Hall\, 5659 Honore Avenue\, Sarasota\, FL\, 34233\, United States
END:VEVENT
BEGIN:VEVENT
DTSTART;TZID=UTC:20231207T180000
DTEND;TZID=UTC:20231207T193000
DTSTAMP:20260422T223638
CREATED:20230912T195944Z
LAST-MODIFIED:20230912T195944Z
UID:1941-1701972000-1701977400@goodshepherdsarasota.org
SUMMARY:Santa Visit - Last Names A-K
DESCRIPTION:Santa’s coming to Good Shepherd! Spend some time sipping hot chocolate and spending time with friends. You will get to meet Santa and have your picture taken!
URL:https://goodshepherdsarasota.org/event/santa-visit-last-names-a-k/
LOCATION:Mennicke Hall\, 5659 Honore Avenue\, Sarasota\, FL\, 34233\, United States
END:VEVENT
BEGIN:VEVENT
DTSTART;TZID=UTC:20231206T190000
DTEND;TZID=UTC:20231206T200000
DTSTAMP:20260422T223638
CREATED:20231010T204253Z
LAST-MODIFIED:20231010T204253Z
UID:2005-1701889200-1701892800@goodshepherdsarasota.org
SUMMARY:Advent Midweek Service #1
DESCRIPTION:“Look up! The Star of Peace Draws Near”
URL:https://goodshepherdsarasota.org/event/advent-midweek-service-1/
LOCATION:Good Shepherd Lutheran Church\, 5659 Honore Ave\, Sarasota\, FL\, 34233\, United States
END:VEVENT
BEGIN:VEVENT
DTSTART;TZID=UTC:20231203T140000
DTEND;TZID=UTC:20231203T160000
DTSTAMP:20260422T223638
CREATED:20231114T181824Z
LAST-MODIFIED:20231114T181824Z
UID:2127-1701612000-1701619200@goodshepherdsarasota.org
SUMMARY:Women's Advent by Candlelight
DESCRIPTION:Join us in decorating a table with Christmas decor and candle and bring a dessert to share! We’ll have music\, scripture\, and meditation focussed around the meaning of the candles on the Advent Wreath.
URL:https://goodshepherdsarasota.org/event/womens-advent-by-candlelight/
LOCATION:Mennicke Hall\, 5659 Honore Avenue\, Sarasota\, FL\, 34233\, United States
END:VEVENT
BEGIN:VEVENT
DTSTART;TZID=UTC:20231203T091500
DTEND;TZID=UTC:20231203T103000
DTSTAMP:20260422T223638
CREATED:20231010T173422Z
LAST-MODIFIED:20231010T173422Z
UID:2000-1701594900-1701599400@goodshepherdsarasota.org
SUMMARY:1st Sunday in Advent
DESCRIPTION:Worship with communion
URL:https://goodshepherdsarasota.org/event/1st-sunday-in-advent-2/
LOCATION:Good Shepherd Lutheran Church\, 5659 Honore Ave\, Sarasota\, FL\, 34233\, United States
END:VEVENT
BEGIN:VEVENT
DTSTART;TZID=UTC:20231202T093000
DTEND;TZID=UTC:20231202T103000
DTSTAMP:20260422T223638
CREATED:20231114T180911Z
LAST-MODIFIED:20231114T180911Z
UID:2125-1701509400-1701513000@goodshepherdsarasota.org
SUMMARY:Decorate the Church
DESCRIPTION:Join us in decorating the church for the Christmas Season!
URL:https://goodshepherdsarasota.org/event/decorate-the-church/
LOCATION:Good Shepherd Lutheran Church\, 5659 Honore Ave\, Sarasota\, FL\, 34233\, United States
END:VEVENT
BEGIN:VEVENT
DTSTART;TZID=UTC:20231122T190000
DTEND;TZID=UTC:20231122T200000
DTSTAMP:20260422T223638
CREATED:20231010T173223Z
LAST-MODIFIED:20231010T173223Z
UID:1998-1700679600-1700683200@goodshepherdsarasota.org
SUMMARY:Thanksgiving Eve Service
DESCRIPTION:Worship with communion
URL:https://goodshepherdsarasota.org/event/thanksgiving-eve-service/
LOCATION:Good Shepherd Lutheran Church\, 5659 Honore Ave\, Sarasota\, FL\, 34233\, United States
END:VEVENT
BEGIN:VEVENT
DTSTART;TZID=UTC:20231120T080000
DTEND;TZID=UTC:20231124T170000
DTSTAMP:20260422T223638
CREATED:20230912T195623Z
LAST-MODIFIED:20230912T195623Z
UID:1939-1700467200-1700845200@goodshepherdsarasota.org
SUMMARY:Thanksgiving Break
DESCRIPTION:School Closed: Thanksgiving Break
URL:https://goodshepherdsarasota.org/event/thanksgiving-break-2/
END:VEVENT
BEGIN:VEVENT
DTSTART;TZID=UTC:20231118T090000
DTEND;TZID=UTC:20231118T113000
DTSTAMP:20260422T223638
CREATED:20231107T173506Z
LAST-MODIFIED:20231114T180758Z
UID:2117-1700298000-1700307000@goodshepherdsarasota.org
SUMMARY:Campus Work Day
DESCRIPTION:Join us from 9:00AM-11:30AM to help us with some projects around campus! All volunteers are appreciated!
URL:https://goodshepherdsarasota.org/event/campus-work-day/
LOCATION:Good Shepherd Lutheran Church\, 5659 Honore Ave\, Sarasota\, FL\, 34233\, United States
END:VEVENT
BEGIN:VEVENT
DTSTART;TZID=UTC:20231116T103000
DTEND;TZID=UTC:20231116T110000
DTSTAMP:20260422T223638
CREATED:20230912T195441Z
LAST-MODIFIED:20230912T195441Z
UID:1937-1700130600-1700132400@goodshepherdsarasota.org
SUMMARY:VPK Thanksgiving Program
DESCRIPTION:Join us to hear our VPK students perform Thanksgiving songs! \n2’s/3’s: 9:30 AM \nVPK:10:30 AM
URL:https://goodshepherdsarasota.org/event/vpk-thanksgiving-program/
LOCATION:Good Shepherd Lutheran Church\, 5659 Honore Ave\, Sarasota\, FL\, 34233\, United States
END:VEVENT
BEGIN:VEVENT
DTSTART;TZID=UTC:20231116T093000
DTEND;TZID=UTC:20231116T220000
DTSTAMP:20260422T223638
CREATED:20230912T195249Z
LAST-MODIFIED:20230912T195249Z
UID:1935-1700127000-1700172000@goodshepherdsarasota.org
SUMMARY:Thanksgiving Program 2/3 year olds
DESCRIPTION:Join us to hear our students perform Thanksgiving songs! \n2’s/3’s: 9:30 AM \nVPK: 10:30 AM
URL:https://goodshepherdsarasota.org/event/thanksgiving-program-2-3-year-olds/
END:VEVENT
BEGIN:VEVENT
DTSTART;TZID=UTC:20231114T091500
DTEND;TZID=UTC:20231114T223000
DTSTAMP:20260422T223638
CREATED:20231114T182158Z
LAST-MODIFIED:20231114T182158Z
UID:2131-1699953300-1700001000@goodshepherdsarasota.org
SUMMARY:1st Sunday after Christmas
DESCRIPTION:Worship with communion
URL:https://goodshepherdsarasota.org/event/1st-sunday-after-christmas-2/
LOCATION:Good Shepherd Lutheran Church\, 5659 Honore Ave\, Sarasota\, FL\, 34233\, United States
END:VEVENT
BEGIN:VEVENT
DTSTART;TZID=UTC:20231027T180000
DTEND;TZID=UTC:20231027T193000
DTSTAMP:20260422T223638
CREATED:20230912T194611Z
LAST-MODIFIED:20230912T194611Z
UID:1931-1698429600-1698435000@goodshepherdsarasota.org
SUMMARY:Trunk or Treat
DESCRIPTION:Join us for an evening of Trunk or Treating! This event is open to the public. If you want to participate and decorate a trunk\, you must register with the school office. See you there!
URL:https://goodshepherdsarasota.org/event/trunk-or-treat-2/
LOCATION:Good Shepherd Lutheran School\, 5651 Honore Ave\, Sarasota\, FL\, 34233\, United States
END:VEVENT
BEGIN:VEVENT
DTSTART;TZID=UTC:20231022T091500
DTEND;TZID=UTC:20231022T103000
DTSTAMP:20260422T223638
CREATED:20230912T173448Z
LAST-MODIFIED:20230912T173448Z
UID:1924-1697966100-1697970600@goodshepherdsarasota.org
SUMMARY:New Member Welcome
DESCRIPTION:Join us in welcoming our new members to Good Shepherd Lutheran Church!
URL:https://goodshepherdsarasota.org/event/new-member-welcome/
LOCATION:Good Shepherd Lutheran Church\, 5659 Honore Ave\, Sarasota\, FL\, 34233\, United States
END:VEVENT
BEGIN:VEVENT
DTSTART;VALUE=DATE:20231013
DTEND;VALUE=DATE:20231014
DTSTAMP:20260422T223638
CREATED:20230912T194856Z
LAST-MODIFIED:20230912T194856Z
UID:1933-1697155200-1697241599@goodshepherdsarasota.org
SUMMARY:Professional Day - No School
DESCRIPTION:No school – professional day. some of our staff members are attending an early childhood conference to further their education!
URL:https://goodshepherdsarasota.org/event/professional-day-no-school/
LOCATION:Good Shepherd Lutheran School\, 5651 Honore Ave\, Sarasota\, FL\, 34233\, United States
END:VEVENT
BEGIN:VEVENT
DTSTART;TZID=UTC:20231010T180000
DTEND;TZID=UTC:20231010T180000
DTSTAMP:20260422T223638
CREATED:20230912T173322Z
LAST-MODIFIED:20230912T173322Z
UID:1922-1696960800-1696960800@goodshepherdsarasota.org
SUMMARY:School Board Meeting
DESCRIPTION:Join us in Mennicke Hall for our monthly school board meeting.
URL:https://goodshepherdsarasota.org/event/school-board-meeting-12/
LOCATION:Mennicke Hall\, 5659 Honore Avenue\, Sarasota\, FL\, 34233\, United States
END:VEVENT
END:VCALENDAR