BEGIN:VCALENDAR
VERSION:2.0
PRODID:-//Good Shepherd Lutheran Church and School - ECPv6.11.2//NONSGML v1.0//EN
CALSCALE:GREGORIAN
METHOD:PUBLISH
X-WR-CALNAME:Good Shepherd Lutheran Church and School
X-ORIGINAL-URL:https://goodshepherdsarasota.org
X-WR-CALDESC:Events for Good Shepherd Lutheran Church and School
REFRESH-INTERVAL;VALUE=DURATION:PT1H
X-Robots-Tag:noindex
X-PUBLISHED-TTL:PT1H
BEGIN:VTIMEZONE
TZID:UTC
BEGIN:STANDARD
TZOFFSETFROM:+0000
TZOFFSETTO:+0000
TZNAME:UTC
DTSTART:20180101T000000
END:STANDARD
END:VTIMEZONE
BEGIN:VTIMEZONE
TZID:UTC
BEGIN:STANDARD
TZOFFSETFROM:+0000
TZOFFSETTO:+0000
TZNAME:UTC
DTSTART:20170101T000000
END:STANDARD
END:VTIMEZONE
BEGIN:VEVENT
DTSTART;TZID=UTC:20191224T173000
DTEND;TZID=UTC:20191224T190000
DTSTAMP:20260423T074446
CREATED:20191224T154802Z
LAST-MODIFIED:20191224T154802Z
UID:1501-1577208600-1577214000@goodshepherdsarasota.org
SUMMARY:Christmas Eve worship
DESCRIPTION:Family Friendly candlelight vigil.
URL:https://goodshepherdsarasota.org/event/christmas-eve-worship-4/
LOCATION:FL
END:VEVENT
BEGIN:VEVENT
DTSTART;TZID=UTC:20190330T100000
DTEND;TZID=UTC:20190330T120000
DTSTAMP:20260423T074446
CREATED:20190312T153929Z
LAST-MODIFIED:20190312T153929Z
UID:1391-1553940000-1553947200@goodshepherdsarasota.org
SUMMARY:Final Arrangements Planning Workshop
DESCRIPTION:Many people/families fail to consider their final arrangements regarding a will\, a funeral\, estate planning and so on. Join us for an actionable workshop to help you through making and documenting your final wishes. The workshop will be held by Jeffrey Labelle\, Bruce Ficken\, Pastor Steve Anderson\, and representatives from an area funeral home to help you make decisions…and NOT to sell you anything! Register today! Contact the Church office or School office to do so!
URL:https://goodshepherdsarasota.org/event/final-arrangements-planning-workshop/
LOCATION:Mennicke Hall\, 5659 Honore Avenue\, Sarasota\, FL\, 34233\, United States
END:VEVENT
BEGIN:VEVENT
DTSTART;TZID=UTC:20180611T123000
DTEND;TZID=UTC:20180613T153000
DTSTAMP:20260423T074446
CREATED:20180220T152318Z
LAST-MODIFIED:20180220T152318Z
UID:1243-1528720200-1528903800@goodshepherdsarasota.org
SUMMARY:Vacation Bible School- Camp Moose On The Loose
DESCRIPTION:Vacation Bible School – VBS \nFor this years theme we will be doing: Camp Moose On The Loose \nOur VBS dates are: June 11\, 12\, 13 from 12:30-3:30 PM \nChildren ages 4-12 (4 year olds must have graduated VPK) \nVBS is a fun way for children to learn about Jesus and the Bible! There will be music\, Bible stories\, themed crafts\, fun activities and much more! \nGood Shepherd Lutheran Church’s VBS is free so register your child today! \n 
URL:https://goodshepherdsarasota.org/event/vacation-bible-school-camp-moose-on-the-loose/
LOCATION:FL
END:VEVENT
BEGIN:VEVENT
DTSTART;TZID=UTC:20180425T183000
DTEND;TZID=UTC:20180425T193000
DTSTAMP:20260423T074446
CREATED:20180410T153426Z
LAST-MODIFIED:20180410T153426Z
UID:1260-1524681000-1524684600@goodshepherdsarasota.org
SUMMARY:Grace Houston's Zimbabwe Mission Trip Review
DESCRIPTION:Our Education Coordination Grace Houston went on a mission trip to Zimbabwe. Please feel free to join us on Wednesday April 25th\, 2018 at 6:30 PM. Grace will be sharing pictures and stories from her trip. We hope to see you all there!
URL:https://goodshepherdsarasota.org/event/grace-houstons-zimbabwe-mission-trip-review/
LOCATION:Mennicke Hall\, 5659 Honore Avenue\, Sarasota\, FL\, 34233\, United States
ORGANIZER;CN="Grace Houston":MAILTO:edcoord@goodshepherdsarasota.org
END:VEVENT
BEGIN:VEVENT
DTSTART;TZID=UTC:20180415T103000
DTEND;TZID=UTC:20180415T120000
DTSTAMP:20260423T074446
CREATED:20180227T161829Z
LAST-MODIFIED:20180227T161829Z
UID:1246-1523788200-1523793600@goodshepherdsarasota.org
SUMMARY:Ministry Fair & Potluck Luncheon
DESCRIPTION:Join us on April 15th after Sunday service for out Ministry Fair and Potluck Luncheon! \nThe Ministry Fair is a great way for members to find out volunteering opportunities at the church. \nFor the Potluck- Come with an appetite and bring a dish to share! \nIf your last name begins with… \nA – E   Consider providing a Salad \nF – J   Consider providing a Main Dish \nK – O   Consider providing a Fruit or Vegetable \nP – T   Consider providing a Bread/Appetizer \nU – Z   Consider providing a Dessert
URL:https://goodshepherdsarasota.org/event/ministry-fair-potluck-luncheon/
LOCATION:Mennicke Hall\, 5659 Honore Avenue\, Sarasota\, FL\, 34233\, United States
ORGANIZER;CN="Grace Houston":MAILTO:edcoord@goodshepherdsarasota.org
END:VEVENT
BEGIN:VEVENT
DTSTART;TZID=UTC:20180317T150000
DTEND;TZID=UTC:20180317T170000
DTSTAMP:20260423T074446
CREATED:20180220T143221Z
LAST-MODIFIED:20180220T143221Z
UID:1235-1521298800-1521306000@goodshepherdsarasota.org
SUMMARY:Enchanted Forest Fundraising Gala
DESCRIPTION:Join us for a magical fundraising event in the enchanted forest.  There will be lots of amazing items up for live and silent auctions.  All the money raised will go to providing supplies for the classrooms! \nMore details to come!
URL:https://goodshepherdsarasota.org/event/enchanted-forest-fundraising-gala/
LOCATION:Good Shepherd Lutheran School Pavillion\, 5651 Honore Ave\, Sarasota\, FL\, 34233\, United States
END:VEVENT
BEGIN:VEVENT
DTSTART;TZID=UTC:20180302T183000
DTEND;TZID=UTC:20180302T203000
DTSTAMP:20260423T074446
CREATED:20180220T144825Z
LAST-MODIFIED:20180220T144825Z
UID:1227-1520015400-1520022600@goodshepherdsarasota.org
SUMMARY:Volunteer and Staff Appreciation Night
DESCRIPTION:Are you a staff member of GSLC&S? \nDo you volunteer at GSLC&S? \nThen your are invited to join us for our Annual Staff & Volunteer Appreciation Night! \nThere will be delicious food\, fun games\, and amazing prizes! \nPlease RSVP to Grace Houston by February 23\, 2018 \nat edcoord@goodshepherdsarasota.org
URL:https://goodshepherdsarasota.org/event/volunteer-and-staff-appreciation-night/
LOCATION:Mennicke Hall\, 5659 Honore Avenue\, Sarasota\, FL\, 34233\, United States
ORGANIZER;CN="Grace Houston":MAILTO:edcoord@goodshepherdsarasota.org
END:VEVENT
BEGIN:VEVENT
DTSTART;TZID=UTC:20180206T123000
DTEND;TZID=UTC:20180206T140000
DTSTAMP:20260423T074446
CREATED:20180131T183641Z
LAST-MODIFIED:20180131T183641Z
UID:1224-1517920200-1517925600@goodshepherdsarasota.org
SUMMARY:Member Meet-Up
DESCRIPTION:Join us in Mennicke Hall from 12:30-2PM.  There will be fellowship\, fun\, and light snacks! All members are welcome\, hope to see you there!
URL:https://goodshepherdsarasota.org/event/member-meet-up/
LOCATION:Mennicke Hall\, 5659 Honore Avenue\, Sarasota\, FL\, 34233\, United States
ORGANIZER;CN="Grace Houston":MAILTO:edcoord@goodshepherdsarasota.org
END:VEVENT
BEGIN:VEVENT
DTSTART;TZID=UTC:20170430T091500
DTEND;TZID=UTC:20170430T103000
DTSTAMP:20260423T074446
CREATED:20170406T155219Z
LAST-MODIFIED:20170406T155219Z
UID:1127-1493543700-1493548200@goodshepherdsarasota.org
SUMMARY:Sunday Morning Worship
DESCRIPTION:New Member Welcome
URL:https://goodshepherdsarasota.org/event/sunday-morning-worship-79/
LOCATION:FL
END:VEVENT
BEGIN:VEVENT
DTSTART;TZID=UTC:20170429T173000
DTEND;TZID=UTC:20170429T183000
DTSTAMP:20260423T074446
CREATED:20170406T155109Z
LAST-MODIFIED:20170406T155109Z
UID:1126-1493487000-1493490600@goodshepherdsarasota.org
SUMMARY:Saturday Night Worship
DESCRIPTION:
URL:https://goodshepherdsarasota.org/event/saturday-night-worship-88/
LOCATION:FL
END:VEVENT
BEGIN:VEVENT
DTSTART;TZID=UTC:20170426T103000
DTEND;TZID=UTC:20170426T113000
DTSTAMP:20260423T074446
CREATED:20170406T155014Z
LAST-MODIFIED:20170406T155014Z
UID:1125-1493202600-1493206200@goodshepherdsarasota.org
SUMMARY:Wednesday Morning Bible Study
DESCRIPTION:
URL:https://goodshepherdsarasota.org/event/wednesday-morning-bible-study-71/
LOCATION:FL
END:VEVENT
BEGIN:VEVENT
DTSTART;TZID=UTC:20170424T190000
DTEND;TZID=UTC:20170424T200000
DTSTAMP:20260423T074446
CREATED:20170406T154915Z
LAST-MODIFIED:20170406T154915Z
UID:1124-1493060400-1493064000@goodshepherdsarasota.org
SUMMARY:Vision Planning Committee meeting
DESCRIPTION:
URL:https://goodshepherdsarasota.org/event/vision-planning-committee-meeting/
LOCATION:FL
END:VEVENT
BEGIN:VEVENT
DTSTART;TZID=UTC:20170423T091500
DTEND;TZID=UTC:20170423T103000
DTSTAMP:20260423T074446
CREATED:20170406T154823Z
LAST-MODIFIED:20170406T154823Z
UID:1123-1492938900-1492943400@goodshepherdsarasota.org
SUMMARY:Sunday Morning Worship
DESCRIPTION:
URL:https://goodshepherdsarasota.org/event/sunday-morning-worship-78/
LOCATION:FL
END:VEVENT
BEGIN:VEVENT
DTSTART;TZID=UTC:20170422T173000
DTEND;TZID=UTC:20170422T183000
DTSTAMP:20260423T074446
CREATED:20170406T154725Z
LAST-MODIFIED:20170406T154725Z
UID:1122-1492882200-1492885800@goodshepherdsarasota.org
SUMMARY:Saturday Night Worship
DESCRIPTION:
URL:https://goodshepherdsarasota.org/event/saturday-night-worship-87/
LOCATION:FL
END:VEVENT
BEGIN:VEVENT
DTSTART;TZID=UTC:20170420T160000
DTEND;TZID=UTC:20170420T190000
DTSTAMP:20260423T074446
CREATED:20170406T154625Z
LAST-MODIFIED:20170406T154625Z
UID:1121-1492704000-1492714800@goodshepherdsarasota.org
SUMMARY:Pasta Fundraiser Dinner
DESCRIPTION:
URL:https://goodshepherdsarasota.org/event/pasta-fundraiser-dinner/
LOCATION:FL
END:VEVENT
BEGIN:VEVENT
DTSTART;TZID=UTC:20170419T180000
DTEND;TZID=UTC:20170419T190000
DTSTAMP:20260423T074446
CREATED:20170406T154531Z
LAST-MODIFIED:20170406T154531Z
UID:1120-1492624800-1492628400@goodshepherdsarasota.org
SUMMARY:Stewardship Committee meeting
DESCRIPTION:
URL:https://goodshepherdsarasota.org/event/stewardship-committee-meeting-2/
LOCATION:FL
END:VEVENT
BEGIN:VEVENT
DTSTART;TZID=UTC:20170419T103000
DTEND;TZID=UTC:20170419T113000
DTSTAMP:20260423T074446
CREATED:20170406T154449Z
LAST-MODIFIED:20170406T154449Z
UID:1119-1492597800-1492601400@goodshepherdsarasota.org
SUMMARY:Wednesday Morning Bible Study
DESCRIPTION:
URL:https://goodshepherdsarasota.org/event/wednesday-morning-bible-study-70/
LOCATION:FL
END:VEVENT
BEGIN:VEVENT
DTSTART;TZID=UTC:20170418T190000
DTEND;TZID=UTC:20170418T200000
DTSTAMP:20260423T074446
CREATED:20170406T154402Z
LAST-MODIFIED:20170406T154402Z
UID:1118-1492542000-1492545600@goodshepherdsarasota.org
SUMMARY:Altar Guild meeting
DESCRIPTION:
URL:https://goodshepherdsarasota.org/event/altar-guild-meeting-15/
LOCATION:FL
END:VEVENT
BEGIN:VEVENT
DTSTART;TZID=UTC:20170417T180000
DTEND;TZID=UTC:20170417T200000
DTSTAMP:20260423T074446
CREATED:20170406T154324Z
LAST-MODIFIED:20170406T154324Z
UID:1117-1492452000-1492459200@goodshepherdsarasota.org
SUMMARY:Church Council meeting
DESCRIPTION:
URL:https://goodshepherdsarasota.org/event/church-council-meeting-15/
LOCATION:FL
END:VEVENT
BEGIN:VEVENT
DTSTART;TZID=UTC:20170416T070000
DTEND;TZID=UTC:20170416T103000
DTSTAMP:20260423T074446
CREATED:20170406T154241Z
LAST-MODIFIED:20170406T154241Z
UID:1116-1492326000-1492338600@goodshepherdsarasota.org
SUMMARY:Easter Morning
DESCRIPTION:7:00 AM outdoor sonrise worship \n9:15 AM worship \nChrist is risen! He is risen indeed!
URL:https://goodshepherdsarasota.org/event/easter-morning/
LOCATION:FL
END:VEVENT
BEGIN:VEVENT
DTSTART;TZID=UTC:20170414T190000
DTEND;TZID=UTC:20170414T200000
DTSTAMP:20260423T074446
CREATED:20170406T154045Z
LAST-MODIFIED:20170406T154045Z
UID:1115-1492196400-1492200000@goodshepherdsarasota.org
SUMMARY:Good Friday Worship
DESCRIPTION:
URL:https://goodshepherdsarasota.org/event/good-friday-worship-3/
LOCATION:FL
END:VEVENT
BEGIN:VEVENT
DTSTART;TZID=UTC:20170413T190000
DTEND;TZID=UTC:20170413T200000
DTSTAMP:20260423T074446
CREATED:20170406T153905Z
LAST-MODIFIED:20170406T153905Z
UID:1114-1492110000-1492113600@goodshepherdsarasota.org
SUMMARY:Maundy Thursday Worship
DESCRIPTION:
URL:https://goodshepherdsarasota.org/event/maundy-thursday-worship-3/
LOCATION:FL
END:VEVENT
BEGIN:VEVENT
DTSTART;TZID=UTC:20170412T103000
DTEND;TZID=UTC:20170412T113000
DTSTAMP:20260423T074446
CREATED:20170406T153752Z
LAST-MODIFIED:20170406T153752Z
UID:1113-1491993000-1491996600@goodshepherdsarasota.org
SUMMARY:Wednesday Morning Bible Study
DESCRIPTION:
URL:https://goodshepherdsarasota.org/event/wednesday-morning-bible-study-69/
LOCATION:FL
END:VEVENT
BEGIN:VEVENT
DTSTART;TZID=UTC:20170412T094500
DTEND;TZID=UTC:20170412T170000
DTSTAMP:20260423T074446
CREATED:20170412T132604Z
LAST-MODIFIED:20170412T132604Z
UID:1131-1491990300-1492016400@goodshepherdsarasota.org
SUMMARY:Easter Egg Hunt
DESCRIPTION:Friday\, April 14\, 9:45 a.m. \nJoin us for our annual Easter Egg Hunt! Over 10\,000 eggs are hidden for children ages 1 to 10 years of age in four areas. Great prizes including a raffle for a week of summer camp and a new bike!
URL:https://goodshepherdsarasota.org/event/easter-egg-hunt-3/
LOCATION:FL
END:VEVENT
BEGIN:VEVENT
DTSTART;TZID=UTC:20170409T091500
DTEND;TZID=UTC:20170409T103000
DTSTAMP:20260423T074446
CREATED:20170406T153617Z
LAST-MODIFIED:20170406T153617Z
UID:1112-1491729300-1491733800@goodshepherdsarasota.org
SUMMARY:Sunday Morning Worship
DESCRIPTION:Palm Sunday
URL:https://goodshepherdsarasota.org/event/sunday-morning-worship-77/
LOCATION:FL
END:VEVENT
BEGIN:VEVENT
DTSTART;TZID=UTC:20170408T173000
DTEND;TZID=UTC:20170408T183000
DTSTAMP:20260423T074446
CREATED:20170406T153454Z
LAST-MODIFIED:20170406T153454Z
UID:1111-1491672600-1491676200@goodshepherdsarasota.org
SUMMARY:Saturday Night Worship
DESCRIPTION:
URL:https://goodshepherdsarasota.org/event/saturday-night-worship-86/
LOCATION:FL
END:VEVENT
BEGIN:VEVENT
DTSTART;TZID=UTC:20170406T183000
DTEND;TZID=UTC:20170406T200000
DTSTAMP:20260423T074446
CREATED:20170406T153412Z
LAST-MODIFIED:20170406T153412Z
UID:1110-1491503400-1491508800@goodshepherdsarasota.org
SUMMARY:Choir Rehearsal
DESCRIPTION:
URL:https://goodshepherdsarasota.org/event/choir-rehearsal-11/
LOCATION:FL
END:VEVENT
BEGIN:VEVENT
DTSTART;TZID=UTC:20170401T183000
DTEND;TZID=UTC:20170401T203000
DTSTAMP:20260423T074446
CREATED:20170316T155426Z
LAST-MODIFIED:20170316T155426Z
UID:1101-1491071400-1491078600@goodshepherdsarasota.org
SUMMARY:Spring Gala
DESCRIPTION:
URL:https://goodshepherdsarasota.org/event/spring-gala/
LOCATION:FL
END:VEVENT
BEGIN:VEVENT
DTSTART;TZID=UTC:20170401T173000
DTEND;TZID=UTC:20170401T183000
DTSTAMP:20260423T074446
CREATED:20170316T155339Z
LAST-MODIFIED:20170316T155339Z
UID:1100-1491067800-1491071400@goodshepherdsarasota.org
SUMMARY:Saturday Night Worship
DESCRIPTION:
URL:https://goodshepherdsarasota.org/event/saturday-night-worship-85/
LOCATION:FL
END:VEVENT
BEGIN:VEVENT
DTSTART;TZID=UTC:20170330T190000
DTEND;TZID=UTC:20170330T200000
DTSTAMP:20260423T074446
CREATED:20170316T155242Z
LAST-MODIFIED:20170316T155242Z
UID:1099-1490900400-1490904000@goodshepherdsarasota.org
SUMMARY:Choir Rehearsal
DESCRIPTION:
URL:https://goodshepherdsarasota.org/event/choir-rehearsal-10/
LOCATION:FL
END:VEVENT
END:VCALENDAR