BEGIN:VCALENDAR
VERSION:2.0
PRODID:-//Good Shepherd Lutheran Church and School - ECPv6.11.2//NONSGML v1.0//EN
CALSCALE:GREGORIAN
METHOD:PUBLISH
X-WR-CALNAME:Good Shepherd Lutheran Church and School
X-ORIGINAL-URL:https://goodshepherdsarasota.org
X-WR-CALDESC:Events for Good Shepherd Lutheran Church and School
REFRESH-INTERVAL;VALUE=DURATION:PT1H
X-Robots-Tag:noindex
X-PUBLISHED-TTL:PT1H
BEGIN:VTIMEZONE
TZID:UTC
BEGIN:STANDARD
TZOFFSETFROM:+0000
TZOFFSETTO:+0000
TZNAME:UTC
DTSTART:20170101T000000
END:STANDARD
END:VTIMEZONE
BEGIN:VEVENT
DTSTART;TZID=UTC:20170417T180000
DTEND;TZID=UTC:20170417T200000
DTSTAMP:20260423T084542
CREATED:20170406T154324Z
LAST-MODIFIED:20170406T154324Z
UID:1117-1492452000-1492459200@goodshepherdsarasota.org
SUMMARY:Church Council meeting
DESCRIPTION:
URL:https://goodshepherdsarasota.org/event/church-council-meeting-15/
LOCATION:FL
END:VEVENT
BEGIN:VEVENT
DTSTART;TZID=UTC:20170416T070000
DTEND;TZID=UTC:20170416T103000
DTSTAMP:20260423T084542
CREATED:20170406T154241Z
LAST-MODIFIED:20170406T154241Z
UID:1116-1492326000-1492338600@goodshepherdsarasota.org
SUMMARY:Easter Morning
DESCRIPTION:7:00 AM outdoor sonrise worship \n9:15 AM worship \nChrist is risen! He is risen indeed!
URL:https://goodshepherdsarasota.org/event/easter-morning/
LOCATION:FL
END:VEVENT
BEGIN:VEVENT
DTSTART;TZID=UTC:20170414T190000
DTEND;TZID=UTC:20170414T200000
DTSTAMP:20260423T084542
CREATED:20170406T154045Z
LAST-MODIFIED:20170406T154045Z
UID:1115-1492196400-1492200000@goodshepherdsarasota.org
SUMMARY:Good Friday Worship
DESCRIPTION:
URL:https://goodshepherdsarasota.org/event/good-friday-worship-3/
LOCATION:FL
END:VEVENT
BEGIN:VEVENT
DTSTART;TZID=UTC:20170413T190000
DTEND;TZID=UTC:20170413T200000
DTSTAMP:20260423T084542
CREATED:20170406T153905Z
LAST-MODIFIED:20170406T153905Z
UID:1114-1492110000-1492113600@goodshepherdsarasota.org
SUMMARY:Maundy Thursday Worship
DESCRIPTION:
URL:https://goodshepherdsarasota.org/event/maundy-thursday-worship-3/
LOCATION:FL
END:VEVENT
BEGIN:VEVENT
DTSTART;TZID=UTC:20170412T103000
DTEND;TZID=UTC:20170412T113000
DTSTAMP:20260423T084542
CREATED:20170406T153752Z
LAST-MODIFIED:20170406T153752Z
UID:1113-1491993000-1491996600@goodshepherdsarasota.org
SUMMARY:Wednesday Morning Bible Study
DESCRIPTION:
URL:https://goodshepherdsarasota.org/event/wednesday-morning-bible-study-69/
LOCATION:FL
END:VEVENT
BEGIN:VEVENT
DTSTART;TZID=UTC:20170412T094500
DTEND;TZID=UTC:20170412T170000
DTSTAMP:20260423T084542
CREATED:20170412T132604Z
LAST-MODIFIED:20170412T132604Z
UID:1131-1491990300-1492016400@goodshepherdsarasota.org
SUMMARY:Easter Egg Hunt
DESCRIPTION:Friday\, April 14\, 9:45 a.m. \nJoin us for our annual Easter Egg Hunt! Over 10\,000 eggs are hidden for children ages 1 to 10 years of age in four areas. Great prizes including a raffle for a week of summer camp and a new bike!
URL:https://goodshepherdsarasota.org/event/easter-egg-hunt-3/
LOCATION:FL
END:VEVENT
BEGIN:VEVENT
DTSTART;TZID=UTC:20170409T091500
DTEND;TZID=UTC:20170409T103000
DTSTAMP:20260423T084542
CREATED:20170406T153617Z
LAST-MODIFIED:20170406T153617Z
UID:1112-1491729300-1491733800@goodshepherdsarasota.org
SUMMARY:Sunday Morning Worship
DESCRIPTION:Palm Sunday
URL:https://goodshepherdsarasota.org/event/sunday-morning-worship-77/
LOCATION:FL
END:VEVENT
BEGIN:VEVENT
DTSTART;TZID=UTC:20170408T173000
DTEND;TZID=UTC:20170408T183000
DTSTAMP:20260423T084542
CREATED:20170406T153454Z
LAST-MODIFIED:20170406T153454Z
UID:1111-1491672600-1491676200@goodshepherdsarasota.org
SUMMARY:Saturday Night Worship
DESCRIPTION:
URL:https://goodshepherdsarasota.org/event/saturday-night-worship-86/
LOCATION:FL
END:VEVENT
BEGIN:VEVENT
DTSTART;TZID=UTC:20170406T183000
DTEND;TZID=UTC:20170406T200000
DTSTAMP:20260423T084542
CREATED:20170406T153412Z
LAST-MODIFIED:20170406T153412Z
UID:1110-1491503400-1491508800@goodshepherdsarasota.org
SUMMARY:Choir Rehearsal
DESCRIPTION:
URL:https://goodshepherdsarasota.org/event/choir-rehearsal-11/
LOCATION:FL
END:VEVENT
BEGIN:VEVENT
DTSTART;TZID=UTC:20170401T183000
DTEND;TZID=UTC:20170401T203000
DTSTAMP:20260423T084542
CREATED:20170316T155426Z
LAST-MODIFIED:20170316T155426Z
UID:1101-1491071400-1491078600@goodshepherdsarasota.org
SUMMARY:Spring Gala
DESCRIPTION:
URL:https://goodshepherdsarasota.org/event/spring-gala/
LOCATION:FL
END:VEVENT
BEGIN:VEVENT
DTSTART;TZID=UTC:20170401T173000
DTEND;TZID=UTC:20170401T183000
DTSTAMP:20260423T084542
CREATED:20170316T155339Z
LAST-MODIFIED:20170316T155339Z
UID:1100-1491067800-1491071400@goodshepherdsarasota.org
SUMMARY:Saturday Night Worship
DESCRIPTION:
URL:https://goodshepherdsarasota.org/event/saturday-night-worship-85/
LOCATION:FL
END:VEVENT
BEGIN:VEVENT
DTSTART;TZID=UTC:20170330T190000
DTEND;TZID=UTC:20170330T200000
DTSTAMP:20260423T084542
CREATED:20170316T155242Z
LAST-MODIFIED:20170316T155242Z
UID:1099-1490900400-1490904000@goodshepherdsarasota.org
SUMMARY:Choir Rehearsal
DESCRIPTION:
URL:https://goodshepherdsarasota.org/event/choir-rehearsal-10/
LOCATION:FL
END:VEVENT
BEGIN:VEVENT
DTSTART;TZID=UTC:20170329T190000
DTEND;TZID=UTC:20170329T200000
DTSTAMP:20260423T084542
CREATED:20170316T155200Z
LAST-MODIFIED:20170316T155200Z
UID:1098-1490814000-1490817600@goodshepherdsarasota.org
SUMMARY:Lent Midweek Worship
DESCRIPTION:Midweek meal begins at 6 PM.
URL:https://goodshepherdsarasota.org/event/lent-midweek-worship-5/
LOCATION:FL
END:VEVENT
BEGIN:VEVENT
DTSTART;TZID=UTC:20170329T103000
DTEND;TZID=UTC:20170329T113000
DTSTAMP:20260423T084542
CREATED:20170316T155111Z
LAST-MODIFIED:20170316T155111Z
UID:1097-1490783400-1490787000@goodshepherdsarasota.org
SUMMARY:Wednesday Morning Bible Study
DESCRIPTION:
URL:https://goodshepherdsarasota.org/event/wednesday-morning-bible-study-68/
LOCATION:FL
END:VEVENT
BEGIN:VEVENT
DTSTART;TZID=UTC:20170327T180000
DTEND;TZID=UTC:20170327T190000
DTSTAMP:20260423T084542
CREATED:20170316T154945Z
LAST-MODIFIED:20170316T154945Z
UID:1095-1490637600-1490641200@goodshepherdsarasota.org
SUMMARY:Stewardship Committee Meeting
DESCRIPTION:
URL:https://goodshepherdsarasota.org/event/stewardship-committee-meeting/
LOCATION:FL
END:VEVENT
BEGIN:VEVENT
DTSTART;TZID=UTC:20170326T091500
DTEND;TZID=UTC:20170326T103000
DTSTAMP:20260423T084542
CREATED:20170316T154903Z
LAST-MODIFIED:20170316T154903Z
UID:1094-1490519700-1490524200@goodshepherdsarasota.org
SUMMARY:Sunday Morning Worship
DESCRIPTION:
URL:https://goodshepherdsarasota.org/event/sunday-morning-worship-76/
LOCATION:FL
END:VEVENT
BEGIN:VEVENT
DTSTART;TZID=UTC:20170325T173000
DTEND;TZID=UTC:20170325T183000
DTSTAMP:20260423T084542
CREATED:20170316T154814Z
LAST-MODIFIED:20170316T154814Z
UID:1093-1490463000-1490466600@goodshepherdsarasota.org
SUMMARY:Saturday Night Worship
DESCRIPTION:
URL:https://goodshepherdsarasota.org/event/saturday-night-worship-84/
LOCATION:FL
END:VEVENT
BEGIN:VEVENT
DTSTART;TZID=UTC:20170322T190000
DTEND;TZID=UTC:20170322T200000
DTSTAMP:20260423T084542
CREATED:20170316T154731Z
LAST-MODIFIED:20170316T154731Z
UID:1092-1490209200-1490212800@goodshepherdsarasota.org
SUMMARY:Lent Midweek Worship
DESCRIPTION:Midweek meal begins at 6 PM.
URL:https://goodshepherdsarasota.org/event/lent-midweek-worship-4/
LOCATION:FL
END:VEVENT
BEGIN:VEVENT
DTSTART;TZID=UTC:20170322T103000
DTEND;TZID=UTC:20170322T113000
DTSTAMP:20260423T084542
CREATED:20170316T154647Z
LAST-MODIFIED:20170316T154647Z
UID:1091-1490178600-1490182200@goodshepherdsarasota.org
SUMMARY:Wednesday Morning Bible Study
DESCRIPTION:
URL:https://goodshepherdsarasota.org/event/wednesday-morning-bible-study-67/
LOCATION:FL
END:VEVENT
BEGIN:VEVENT
DTSTART;TZID=UTC:20170321T190000
DTEND;TZID=UTC:20170321T200000
DTSTAMP:20260423T084542
CREATED:20170316T155031Z
LAST-MODIFIED:20170316T155031Z
UID:1096-1490122800-1490126400@goodshepherdsarasota.org
SUMMARY:Altar Guild Meeting
DESCRIPTION:
URL:https://goodshepherdsarasota.org/event/altar-guild-meeting-14/
LOCATION:FL
END:VEVENT
BEGIN:VEVENT
DTSTART;TZID=UTC:20170321T140000
DTEND;TZID=UTC:20170321T153000
DTSTAMP:20260423T084542
CREATED:20170316T154556Z
LAST-MODIFIED:20170316T154556Z
UID:1090-1490104800-1490110200@goodshepherdsarasota.org
SUMMARY:Member Celebration
DESCRIPTION:
URL:https://goodshepherdsarasota.org/event/member-celebration/
LOCATION:FL
END:VEVENT
BEGIN:VEVENT
DTSTART;TZID=UTC:20170320T180000
DTEND;TZID=UTC:20170320T200000
DTSTAMP:20260423T084542
CREATED:20170316T154503Z
LAST-MODIFIED:20170316T154503Z
UID:1089-1490032800-1490040000@goodshepherdsarasota.org
SUMMARY:Church Council Meeting
DESCRIPTION:
URL:https://goodshepherdsarasota.org/event/church-council-meeting-14/
LOCATION:FL
END:VEVENT
BEGIN:VEVENT
DTSTART;TZID=UTC:20170319T091500
DTEND;TZID=UTC:20170319T103000
DTSTAMP:20260423T084542
CREATED:20170316T154426Z
LAST-MODIFIED:20170316T154426Z
UID:1088-1489914900-1489919400@goodshepherdsarasota.org
SUMMARY:Sunday Morning Worship
DESCRIPTION:
URL:https://goodshepherdsarasota.org/event/sunday-morning-worship-75/
LOCATION:FL
END:VEVENT
BEGIN:VEVENT
DTSTART;TZID=UTC:20170318T173000
DTEND;TZID=UTC:20170318T183000
DTSTAMP:20260423T084542
CREATED:20170316T154339Z
LAST-MODIFIED:20170316T154339Z
UID:1087-1489858200-1489861800@goodshepherdsarasota.org
SUMMARY:Saturday Night Worship
DESCRIPTION:
URL:https://goodshepherdsarasota.org/event/saturday-night-worship-83/
LOCATION:FL
END:VEVENT
BEGIN:VEVENT
DTSTART;TZID=UTC:20170301T190000
DTEND;TZID=UTC:20170301T200000
DTSTAMP:20260423T084542
CREATED:20170123T221942Z
LAST-MODIFIED:20170123T221942Z
UID:1082-1488394800-1488398400@goodshepherdsarasota.org
SUMMARY:Ash Wednesday Worship
DESCRIPTION:Midweek fellowship meal starts at 6 PM.
URL:https://goodshepherdsarasota.org/event/ash-wednesday-worship-2/
LOCATION:FL
END:VEVENT
BEGIN:VEVENT
DTSTART;TZID=UTC:20170301T103000
DTEND;TZID=UTC:20170301T113000
DTSTAMP:20260423T084542
CREATED:20170123T221843Z
LAST-MODIFIED:20170123T221843Z
UID:1081-1488364200-1488367800@goodshepherdsarasota.org
SUMMARY:Wednesday Morning Bible Study
DESCRIPTION:
URL:https://goodshepherdsarasota.org/event/wednesday-morning-bible-study-66/
LOCATION:FL
END:VEVENT
BEGIN:VEVENT
DTSTART;TZID=UTC:20170227T180000
DTEND;TZID=UTC:20170227T190000
DTSTAMP:20260423T084542
CREATED:20170123T221734Z
LAST-MODIFIED:20170123T221734Z
UID:1080-1488218400-1488222000@goodshepherdsarasota.org
SUMMARY:School Board Meeting
DESCRIPTION:
URL:https://goodshepherdsarasota.org/event/school-board-meeting-11/
LOCATION:FL
END:VEVENT
BEGIN:VEVENT
DTSTART;TZID=UTC:20170226T173000
DTEND;TZID=UTC:20170226T183000
DTSTAMP:20260423T084542
CREATED:20170123T221522Z
LAST-MODIFIED:20170123T221522Z
UID:1078-1488130200-1488133800@goodshepherdsarasota.org
SUMMARY:Saturday Night Worship
DESCRIPTION:
URL:https://goodshepherdsarasota.org/event/saturday-night-worship-82/
LOCATION:FL
END:VEVENT
BEGIN:VEVENT
DTSTART;TZID=UTC:20170226T091500
DTEND;TZID=UTC:20170226T103000
DTSTAMP:20260423T084542
CREATED:20170123T221636Z
LAST-MODIFIED:20170123T221636Z
UID:1079-1488100500-1488105000@goodshepherdsarasota.org
SUMMARY:Sunday Morning Worship
DESCRIPTION:Pancake Fellowship breakfast after worship !
URL:https://goodshepherdsarasota.org/event/sunday-morning-worship-74/
LOCATION:FL
END:VEVENT
BEGIN:VEVENT
DTSTART;TZID=UTC:20170222T103000
DTEND;TZID=UTC:20170222T113000
DTSTAMP:20260423T084542
CREATED:20170123T221341Z
LAST-MODIFIED:20170123T221341Z
UID:1077-1487759400-1487763000@goodshepherdsarasota.org
SUMMARY:Wednesday Morning Bible Study
DESCRIPTION:
URL:https://goodshepherdsarasota.org/event/wednesday-morning-bible-study-65/
LOCATION:FL
END:VEVENT
END:VCALENDAR