BEGIN:VCALENDAR
VERSION:2.0
PRODID:-//Good Shepherd Lutheran Church and School - ECPv6.11.2//NONSGML v1.0//EN
CALSCALE:GREGORIAN
METHOD:PUBLISH
X-WR-CALNAME:Good Shepherd Lutheran Church and School
X-ORIGINAL-URL:https://goodshepherdsarasota.org
X-WR-CALDESC:Events for Good Shepherd Lutheran Church and School
REFRESH-INTERVAL;VALUE=DURATION:PT1H
X-Robots-Tag:noindex
X-PUBLISHED-TTL:PT1H
BEGIN:VTIMEZONE
TZID:UTC
BEGIN:STANDARD
TZOFFSETFROM:+0000
TZOFFSETTO:+0000
TZNAME:UTC
DTSTART:20170101T000000
END:STANDARD
END:VTIMEZONE
BEGIN:VEVENT
DTSTART;TZID=UTC:20170321T140000
DTEND;TZID=UTC:20170321T153000
DTSTAMP:20260423T111837
CREATED:20170316T154556Z
LAST-MODIFIED:20170316T154556Z
UID:1090-1490104800-1490110200@goodshepherdsarasota.org
SUMMARY:Member Celebration
DESCRIPTION:
URL:https://goodshepherdsarasota.org/event/member-celebration/
LOCATION:FL
END:VEVENT
BEGIN:VEVENT
DTSTART;TZID=UTC:20170320T180000
DTEND;TZID=UTC:20170320T200000
DTSTAMP:20260423T111837
CREATED:20170316T154503Z
LAST-MODIFIED:20170316T154503Z
UID:1089-1490032800-1490040000@goodshepherdsarasota.org
SUMMARY:Church Council Meeting
DESCRIPTION:
URL:https://goodshepherdsarasota.org/event/church-council-meeting-14/
LOCATION:FL
END:VEVENT
BEGIN:VEVENT
DTSTART;TZID=UTC:20170319T091500
DTEND;TZID=UTC:20170319T103000
DTSTAMP:20260423T111837
CREATED:20170316T154426Z
LAST-MODIFIED:20170316T154426Z
UID:1088-1489914900-1489919400@goodshepherdsarasota.org
SUMMARY:Sunday Morning Worship
DESCRIPTION:
URL:https://goodshepherdsarasota.org/event/sunday-morning-worship-75/
LOCATION:FL
END:VEVENT
BEGIN:VEVENT
DTSTART;TZID=UTC:20170318T173000
DTEND;TZID=UTC:20170318T183000
DTSTAMP:20260423T111837
CREATED:20170316T154339Z
LAST-MODIFIED:20170316T154339Z
UID:1087-1489858200-1489861800@goodshepherdsarasota.org
SUMMARY:Saturday Night Worship
DESCRIPTION:
URL:https://goodshepherdsarasota.org/event/saturday-night-worship-83/
LOCATION:FL
END:VEVENT
BEGIN:VEVENT
DTSTART;TZID=UTC:20170301T190000
DTEND;TZID=UTC:20170301T200000
DTSTAMP:20260423T111837
CREATED:20170123T221942Z
LAST-MODIFIED:20170123T221942Z
UID:1082-1488394800-1488398400@goodshepherdsarasota.org
SUMMARY:Ash Wednesday Worship
DESCRIPTION:Midweek fellowship meal starts at 6 PM.
URL:https://goodshepherdsarasota.org/event/ash-wednesday-worship-2/
LOCATION:FL
END:VEVENT
BEGIN:VEVENT
DTSTART;TZID=UTC:20170301T103000
DTEND;TZID=UTC:20170301T113000
DTSTAMP:20260423T111837
CREATED:20170123T221843Z
LAST-MODIFIED:20170123T221843Z
UID:1081-1488364200-1488367800@goodshepherdsarasota.org
SUMMARY:Wednesday Morning Bible Study
DESCRIPTION:
URL:https://goodshepherdsarasota.org/event/wednesday-morning-bible-study-66/
LOCATION:FL
END:VEVENT
BEGIN:VEVENT
DTSTART;TZID=UTC:20170227T180000
DTEND;TZID=UTC:20170227T190000
DTSTAMP:20260423T111837
CREATED:20170123T221734Z
LAST-MODIFIED:20170123T221734Z
UID:1080-1488218400-1488222000@goodshepherdsarasota.org
SUMMARY:School Board Meeting
DESCRIPTION:
URL:https://goodshepherdsarasota.org/event/school-board-meeting-11/
LOCATION:FL
END:VEVENT
BEGIN:VEVENT
DTSTART;TZID=UTC:20170226T173000
DTEND;TZID=UTC:20170226T183000
DTSTAMP:20260423T111837
CREATED:20170123T221522Z
LAST-MODIFIED:20170123T221522Z
UID:1078-1488130200-1488133800@goodshepherdsarasota.org
SUMMARY:Saturday Night Worship
DESCRIPTION:
URL:https://goodshepherdsarasota.org/event/saturday-night-worship-82/
LOCATION:FL
END:VEVENT
BEGIN:VEVENT
DTSTART;TZID=UTC:20170226T091500
DTEND;TZID=UTC:20170226T103000
DTSTAMP:20260423T111837
CREATED:20170123T221636Z
LAST-MODIFIED:20170123T221636Z
UID:1079-1488100500-1488105000@goodshepherdsarasota.org
SUMMARY:Sunday Morning Worship
DESCRIPTION:Pancake Fellowship breakfast after worship !
URL:https://goodshepherdsarasota.org/event/sunday-morning-worship-74/
LOCATION:FL
END:VEVENT
BEGIN:VEVENT
DTSTART;TZID=UTC:20170222T103000
DTEND;TZID=UTC:20170222T113000
DTSTAMP:20260423T111837
CREATED:20170123T221341Z
LAST-MODIFIED:20170123T221341Z
UID:1077-1487759400-1487763000@goodshepherdsarasota.org
SUMMARY:Wednesday Morning Bible Study
DESCRIPTION:
URL:https://goodshepherdsarasota.org/event/wednesday-morning-bible-study-65/
LOCATION:FL
END:VEVENT
BEGIN:VEVENT
DTSTART;TZID=UTC:20170221T190000
DTEND;TZID=UTC:20170221T200000
DTSTAMP:20260423T111837
CREATED:20170123T221249Z
LAST-MODIFIED:20170123T221249Z
UID:1076-1487703600-1487707200@goodshepherdsarasota.org
SUMMARY:Altar Guild Meeting
DESCRIPTION:
URL:https://goodshepherdsarasota.org/event/altar-guild-meeting-13/
LOCATION:FL
END:VEVENT
BEGIN:VEVENT
DTSTART;TZID=UTC:20170221T180000
DTEND;TZID=UTC:20170221T200000
DTSTAMP:20260423T111837
CREATED:20170123T221209Z
LAST-MODIFIED:20170123T221209Z
UID:1075-1487700000-1487707200@goodshepherdsarasota.org
SUMMARY:Church Council Meeting
DESCRIPTION:
URL:https://goodshepherdsarasota.org/event/church-council-meeting-13/
LOCATION:FL
END:VEVENT
BEGIN:VEVENT
DTSTART;TZID=UTC:20170219T091500
DTEND;TZID=UTC:20170219T103000
DTSTAMP:20260423T111837
CREATED:20170123T221113Z
LAST-MODIFIED:20170123T221113Z
UID:1074-1487495700-1487500200@goodshepherdsarasota.org
SUMMARY:Sunday Morning Worship
DESCRIPTION:
URL:https://goodshepherdsarasota.org/event/sunday-morning-worship-73/
LOCATION:FL
END:VEVENT
BEGIN:VEVENT
DTSTART;TZID=UTC:20170218T173000
DTEND;TZID=UTC:20170218T183000
DTSTAMP:20260423T111837
CREATED:20170123T221023Z
LAST-MODIFIED:20170123T221023Z
UID:1073-1487439000-1487442600@goodshepherdsarasota.org
SUMMARY:Saturday Night Worship
DESCRIPTION:
URL:https://goodshepherdsarasota.org/event/saturday-night-worship-81/
LOCATION:FL
END:VEVENT
BEGIN:VEVENT
DTSTART;TZID=UTC:20170216T190000
DTEND;TZID=UTC:20170216T200000
DTSTAMP:20260423T111837
CREATED:20170123T220934Z
LAST-MODIFIED:20170123T220934Z
UID:1072-1487271600-1487275200@goodshepherdsarasota.org
SUMMARY:Choir Practice
DESCRIPTION:
URL:https://goodshepherdsarasota.org/event/choir-practice-2/
LOCATION:FL
END:VEVENT
BEGIN:VEVENT
DTSTART;TZID=UTC:20170215T103000
DTEND;TZID=UTC:20170215T113000
DTSTAMP:20260423T111837
CREATED:20170123T220832Z
LAST-MODIFIED:20170123T220832Z
UID:1071-1487154600-1487158200@goodshepherdsarasota.org
SUMMARY:Wednesday Morning Bible Study
DESCRIPTION:
URL:https://goodshepherdsarasota.org/event/wednesday-morning-bible-study-64/
LOCATION:FL
END:VEVENT
BEGIN:VEVENT
DTSTART;TZID=UTC:20170213T181500
DTEND;TZID=UTC:20170213T191500
DTSTAMP:20260423T111837
CREATED:20170123T220725Z
LAST-MODIFIED:20170123T220725Z
UID:1070-1487009700-1487013300@goodshepherdsarasota.org
SUMMARY:Board of Elders Meeting
DESCRIPTION:
URL:https://goodshepherdsarasota.org/event/board-of-elders-meeting-7/
LOCATION:FL
END:VEVENT
BEGIN:VEVENT
DTSTART;TZID=UTC:20170212T091500
DTEND;TZID=UTC:20170212T103000
DTSTAMP:20260423T111837
CREATED:20170123T220634Z
LAST-MODIFIED:20170123T220634Z
UID:1069-1486890900-1486895400@goodshepherdsarasota.org
SUMMARY:Sunday Morning Worship
DESCRIPTION:
URL:https://goodshepherdsarasota.org/event/sunday-morning-worship-72/
LOCATION:FL
END:VEVENT
BEGIN:VEVENT
DTSTART;TZID=UTC:20170211T173000
DTEND;TZID=UTC:20170211T183000
DTSTAMP:20260423T111837
CREATED:20170123T220544Z
LAST-MODIFIED:20170123T220544Z
UID:1068-1486834200-1486837800@goodshepherdsarasota.org
SUMMARY:Saturday Night Worship
DESCRIPTION:
URL:https://goodshepherdsarasota.org/event/saturday-night-worship-80/
LOCATION:FL
END:VEVENT
BEGIN:VEVENT
DTSTART;TZID=UTC:20170208T103000
DTEND;TZID=UTC:20170208T113000
DTSTAMP:20260423T111837
CREATED:20170123T220440Z
LAST-MODIFIED:20170123T220440Z
UID:1067-1486549800-1486553400@goodshepherdsarasota.org
SUMMARY:Wednesday Morning Bible Study
DESCRIPTION:
URL:https://goodshepherdsarasota.org/event/wednesday-morning-bible-study-63/
LOCATION:FL
END:VEVENT
BEGIN:VEVENT
DTSTART;TZID=UTC:20170207T090000
DTEND;TZID=UTC:20170207T120000
DTSTAMP:20260423T111837
CREATED:20170123T220354Z
LAST-MODIFIED:20170123T220354Z
UID:1066-1486458000-1486468800@goodshepherdsarasota.org
SUMMARY:Sarasota Circuit Meeting
DESCRIPTION:
URL:https://goodshepherdsarasota.org/event/sarasota-circuit-meeting/
LOCATION:FL
END:VEVENT
BEGIN:VEVENT
DTSTART;TZID=UTC:20170205T091500
DTEND;TZID=UTC:20170205T103000
DTSTAMP:20260423T111837
CREATED:20170123T220257Z
LAST-MODIFIED:20170123T220257Z
UID:1065-1486286100-1486290600@goodshepherdsarasota.org
SUMMARY:Sunday Morning Worship
DESCRIPTION:
URL:https://goodshepherdsarasota.org/event/sunday-morning-worship-71/
LOCATION:FL
END:VEVENT
BEGIN:VEVENT
DTSTART;TZID=UTC:20170204T173000
DTEND;TZID=UTC:20170204T183000
DTSTAMP:20260423T111837
CREATED:20170123T220203Z
LAST-MODIFIED:20170123T220203Z
UID:1064-1486229400-1486233000@goodshepherdsarasota.org
SUMMARY:Saturday Night Worship
DESCRIPTION:
URL:https://goodshepherdsarasota.org/event/saturday-night-worship-79/
LOCATION:FL
END:VEVENT
BEGIN:VEVENT
DTSTART;TZID=UTC:20170202T100000
DTEND;TZID=UTC:20170202T113000
DTSTAMP:20260423T111837
CREATED:20170123T220107Z
LAST-MODIFIED:20170123T220107Z
UID:1063-1486029600-1486035000@goodshepherdsarasota.org
SUMMARY:LWML Meeting
DESCRIPTION:
URL:https://goodshepherdsarasota.org/event/lwml-meeting-8/
LOCATION:FL
END:VEVENT
BEGIN:VEVENT
DTSTART;TZID=UTC:20170201T103000
DTEND;TZID=UTC:20170201T113000
DTSTAMP:20260423T111837
CREATED:20170123T220017Z
LAST-MODIFIED:20170123T220017Z
UID:1062-1485945000-1485948600@goodshepherdsarasota.org
SUMMARY:Wednesday Morning Bible Study
DESCRIPTION:
URL:https://goodshepherdsarasota.org/event/wednesday-morning-bible-study-62/
LOCATION:FL
END:VEVENT
BEGIN:VEVENT
DTSTART;TZID=UTC:20170129T091500
DTEND;TZID=UTC:20170129T103000
DTSTAMP:20260423T111837
CREATED:20170123T215857Z
LAST-MODIFIED:20170123T215857Z
UID:1061-1485681300-1485685800@goodshepherdsarasota.org
SUMMARY:Sunday Morning Worship
DESCRIPTION:
URL:https://goodshepherdsarasota.org/event/sunday-morning-worship-70/
LOCATION:FL
END:VEVENT
BEGIN:VEVENT
DTSTART;TZID=UTC:20170128T173000
DTEND;TZID=UTC:20170128T183000
DTSTAMP:20260423T111837
CREATED:20170123T215806Z
LAST-MODIFIED:20170123T215806Z
UID:1060-1485624600-1485628200@goodshepherdsarasota.org
SUMMARY:Saturday Night Worship
DESCRIPTION:
URL:https://goodshepherdsarasota.org/event/saturday-night-worship-78/
LOCATION:FL
END:VEVENT
BEGIN:VEVENT
DTSTART;TZID=UTC:20170125T180000
DTEND;TZID=UTC:20170125T190000
DTSTAMP:20260423T111837
CREATED:20170123T215718Z
LAST-MODIFIED:20170123T215718Z
UID:1059-1485367200-1485370800@goodshepherdsarasota.org
SUMMARY:Youth Group Meeting
DESCRIPTION:
URL:https://goodshepherdsarasota.org/event/youth-group-meeting-10/
LOCATION:FL
END:VEVENT
BEGIN:VEVENT
DTSTART;TZID=UTC:20170125T103000
DTEND;TZID=UTC:20170125T113000
DTSTAMP:20260423T111837
CREATED:20170123T215643Z
LAST-MODIFIED:20170123T215643Z
UID:1058-1485340200-1485343800@goodshepherdsarasota.org
SUMMARY:Wednesday Morning Bible Study
DESCRIPTION:
URL:https://goodshepherdsarasota.org/event/wednesday-morning-bible-study-61/
LOCATION:FL
END:VEVENT
BEGIN:VEVENT
DTSTART;TZID=UTC:20170123T183000
DTEND;TZID=UTC:20170123T193000
DTSTAMP:20260423T111837
CREATED:20170102T174609Z
LAST-MODIFIED:20170102T174609Z
UID:1048-1485196200-1485199800@goodshepherdsarasota.org
SUMMARY:Strategic Vision Planning Task Force meeting
DESCRIPTION:
URL:https://goodshepherdsarasota.org/event/strategic-vision-planning-task-force-meeting/
LOCATION:FL
END:VEVENT
END:VCALENDAR