BEGIN:VCALENDAR
VERSION:2.0
PRODID:-//Good Shepherd Lutheran Church and School - ECPv6.11.2//NONSGML v1.0//EN
CALSCALE:GREGORIAN
METHOD:PUBLISH
X-WR-CALNAME:Good Shepherd Lutheran Church and School
X-ORIGINAL-URL:https://goodshepherdsarasota.org
X-WR-CALDESC:Events for Good Shepherd Lutheran Church and School
REFRESH-INTERVAL;VALUE=DURATION:PT1H
X-Robots-Tag:noindex
X-PUBLISHED-TTL:PT1H
BEGIN:VTIMEZONE
TZID:UTC
BEGIN:STANDARD
TZOFFSETFROM:+0000
TZOFFSETTO:+0000
TZNAME:UTC
DTSTART:20160101T000000
END:STANDARD
END:VTIMEZONE
BEGIN:VEVENT
DTSTART;TZID=UTC:20170128T173000
DTEND;TZID=UTC:20170128T183000
DTSTAMP:20260423T113806
CREATED:20170123T215806Z
LAST-MODIFIED:20170123T215806Z
UID:1060-1485624600-1485628200@goodshepherdsarasota.org
SUMMARY:Saturday Night Worship
DESCRIPTION:
URL:https://goodshepherdsarasota.org/event/saturday-night-worship-78/
LOCATION:FL
END:VEVENT
BEGIN:VEVENT
DTSTART;TZID=UTC:20170125T180000
DTEND;TZID=UTC:20170125T190000
DTSTAMP:20260423T113806
CREATED:20170123T215718Z
LAST-MODIFIED:20170123T215718Z
UID:1059-1485367200-1485370800@goodshepherdsarasota.org
SUMMARY:Youth Group Meeting
DESCRIPTION:
URL:https://goodshepherdsarasota.org/event/youth-group-meeting-10/
LOCATION:FL
END:VEVENT
BEGIN:VEVENT
DTSTART;TZID=UTC:20170125T103000
DTEND;TZID=UTC:20170125T113000
DTSTAMP:20260423T113806
CREATED:20170123T215643Z
LAST-MODIFIED:20170123T215643Z
UID:1058-1485340200-1485343800@goodshepherdsarasota.org
SUMMARY:Wednesday Morning Bible Study
DESCRIPTION:
URL:https://goodshepherdsarasota.org/event/wednesday-morning-bible-study-61/
LOCATION:FL
END:VEVENT
BEGIN:VEVENT
DTSTART;TZID=UTC:20170123T183000
DTEND;TZID=UTC:20170123T193000
DTSTAMP:20260423T113806
CREATED:20170102T174609Z
LAST-MODIFIED:20170102T174609Z
UID:1048-1485196200-1485199800@goodshepherdsarasota.org
SUMMARY:Strategic Vision Planning Task Force meeting
DESCRIPTION:
URL:https://goodshepherdsarasota.org/event/strategic-vision-planning-task-force-meeting/
LOCATION:FL
END:VEVENT
BEGIN:VEVENT
DTSTART;TZID=UTC:20170122T091500
DTEND;TZID=UTC:20170122T103000
DTSTAMP:20260423T113806
CREATED:20170102T174511Z
LAST-MODIFIED:20170102T174511Z
UID:1047-1485076500-1485081000@goodshepherdsarasota.org
SUMMARY:Sunday morning worship
DESCRIPTION:Pancake breakfast after worship.
URL:https://goodshepherdsarasota.org/event/sunday-morning-worship-69/
LOCATION:FL
END:VEVENT
BEGIN:VEVENT
DTSTART;TZID=UTC:20170121T173000
DTEND;TZID=UTC:20170121T183000
DTSTAMP:20260423T113806
CREATED:20170102T174413Z
LAST-MODIFIED:20170102T174413Z
UID:1046-1485019800-1485023400@goodshepherdsarasota.org
SUMMARY:Saturday night worship
DESCRIPTION:
URL:https://goodshepherdsarasota.org/event/saturday-night-worship-77/
LOCATION:FL
END:VEVENT
BEGIN:VEVENT
DTSTART;TZID=UTC:20170118T183000
DTEND;TZID=UTC:20170118T193000
DTSTAMP:20260423T113806
CREATED:20170102T174315Z
LAST-MODIFIED:20170102T174315Z
UID:1045-1484764200-1484767800@goodshepherdsarasota.org
SUMMARY:Youth Group meeting
DESCRIPTION:
URL:https://goodshepherdsarasota.org/event/youth-group-meeting-9/
LOCATION:FL
END:VEVENT
BEGIN:VEVENT
DTSTART;TZID=UTC:20170118T103000
DTEND;TZID=UTC:20170118T113000
DTSTAMP:20260423T113806
CREATED:20170102T174229Z
LAST-MODIFIED:20170102T174229Z
UID:1044-1484735400-1484739000@goodshepherdsarasota.org
SUMMARY:Wednesday morning Bible study
DESCRIPTION:
URL:https://goodshepherdsarasota.org/event/wednesday-morning-bible-study-60/
LOCATION:FL
END:VEVENT
BEGIN:VEVENT
DTSTART;TZID=UTC:20170117T180000
DTEND;TZID=UTC:20170117T200000
DTSTAMP:20260423T113806
CREATED:20170102T174152Z
LAST-MODIFIED:20170102T174152Z
UID:1043-1484676000-1484683200@goodshepherdsarasota.org
SUMMARY:Church Council meeting
DESCRIPTION:
URL:https://goodshepherdsarasota.org/event/church-council-meeting-12/
LOCATION:FL
END:VEVENT
BEGIN:VEVENT
DTSTART;TZID=UTC:20170115T091500
DTEND;TZID=UTC:20170115T103000
DTSTAMP:20260423T113806
CREATED:20170102T174105Z
LAST-MODIFIED:20170102T174105Z
UID:1042-1484471700-1484476200@goodshepherdsarasota.org
SUMMARY:Sunday morning worship
DESCRIPTION:
URL:https://goodshepherdsarasota.org/event/sunday-morning-worship-68/
LOCATION:FL
END:VEVENT
BEGIN:VEVENT
DTSTART;TZID=UTC:20170114T173000
DTEND;TZID=UTC:20170114T183000
DTSTAMP:20260423T113806
CREATED:20170102T153256Z
LAST-MODIFIED:20170102T153256Z
UID:1041-1484415000-1484418600@goodshepherdsarasota.org
SUMMARY:Saturday night worship
DESCRIPTION:
URL:https://goodshepherdsarasota.org/event/saturday-night-worship-76/
LOCATION:FL
END:VEVENT
BEGIN:VEVENT
DTSTART;TZID=UTC:20170111T103000
DTEND;TZID=UTC:20170111T113000
DTSTAMP:20260423T113806
CREATED:20170102T153140Z
LAST-MODIFIED:20170102T153140Z
UID:1040-1484130600-1484134200@goodshepherdsarasota.org
SUMMARY:Wednesday morning Bible study
DESCRIPTION:
URL:https://goodshepherdsarasota.org/event/wednesday-morning-bible-study-59/
LOCATION:FL
END:VEVENT
BEGIN:VEVENT
DTSTART;TZID=UTC:20170109T181500
DTEND;TZID=UTC:20170109T191500
DTSTAMP:20260423T113806
CREATED:20170102T153046Z
LAST-MODIFIED:20170102T153046Z
UID:1039-1483985700-1483989300@goodshepherdsarasota.org
SUMMARY:Elder's meeting
DESCRIPTION:
URL:https://goodshepherdsarasota.org/event/elders-meeting-8/
LOCATION:FL
END:VEVENT
BEGIN:VEVENT
DTSTART;TZID=UTC:20170108T091500
DTEND;TZID=UTC:20170108T103000
DTSTAMP:20260423T113806
CREATED:20170102T153008Z
LAST-MODIFIED:20170102T153008Z
UID:1038-1483866900-1483871400@goodshepherdsarasota.org
SUMMARY:Sunday morning worship
DESCRIPTION:
URL:https://goodshepherdsarasota.org/event/sunday-morning-worship-67/
LOCATION:FL
END:VEVENT
BEGIN:VEVENT
DTSTART;TZID=UTC:20170107T173000
DTEND;TZID=UTC:20170107T183000
DTSTAMP:20260423T113806
CREATED:20170102T152910Z
LAST-MODIFIED:20170102T152910Z
UID:1037-1483810200-1483813800@goodshepherdsarasota.org
SUMMARY:Saturday night worship
DESCRIPTION:
URL:https://goodshepherdsarasota.org/event/saturday-night-worship-75/
LOCATION:FL
END:VEVENT
BEGIN:VEVENT
DTSTART;TZID=UTC:20170105T100000
DTEND;TZID=UTC:20170105T113000
DTSTAMP:20260423T113806
CREATED:20170102T152809Z
LAST-MODIFIED:20170102T152809Z
UID:1036-1483610400-1483615800@goodshepherdsarasota.org
SUMMARY:LWML meeting
DESCRIPTION:
URL:https://goodshepherdsarasota.org/event/lwml-meeting-7/
LOCATION:FL
END:VEVENT
BEGIN:VEVENT
DTSTART;TZID=UTC:20170104T103000
DTEND;TZID=UTC:20170104T113000
DTSTAMP:20260423T113806
CREATED:20170102T152652Z
LAST-MODIFIED:20170102T152652Z
UID:1035-1483525800-1483529400@goodshepherdsarasota.org
SUMMARY:Wednesday morning Bible study
DESCRIPTION:“de-decorate” church after study.
URL:https://goodshepherdsarasota.org/event/wednesday-morning-bible-study-58/
LOCATION:FL
END:VEVENT
BEGIN:VEVENT
DTSTART;TZID=UTC:20161225T091500
DTEND;TZID=UTC:20161225T103000
DTSTAMP:20260423T113806
CREATED:20161205T154310Z
LAST-MODIFIED:20161205T154310Z
UID:1026-1482657300-1482661800@goodshepherdsarasota.org
SUMMARY:Christmas Day Worship
DESCRIPTION:Christ the Savior is Born! \nMerry Christmas!
URL:https://goodshepherdsarasota.org/event/christmas-day-worship/
LOCATION:FL
END:VEVENT
BEGIN:VEVENT
DTSTART;VALUE=DATE:20161224
DTEND;VALUE=DATE:20161225
DTSTAMP:20260423T113806
CREATED:20161205T154152Z
LAST-MODIFIED:20161205T154152Z
UID:1025-1482537600-1482623999@goodshepherdsarasota.org
SUMMARY:Christmas Eve Worship
DESCRIPTION:2 traditional candlelight services. One at 5:30 PM and the other at 7:30 PM.
URL:https://goodshepherdsarasota.org/event/christmas-eve-worship-3/
LOCATION:FL
END:VEVENT
BEGIN:VEVENT
DTSTART;TZID=UTC:20161221T190000
DTEND;TZID=UTC:20161221T200000
DTSTAMP:20260423T113806
CREATED:20161205T153738Z
LAST-MODIFIED:20161205T154015Z
UID:1023-1482346800-1482350400@goodshepherdsarasota.org
SUMMARY:Advent Midweek Worship
DESCRIPTION:The Gift of Life
URL:https://goodshepherdsarasota.org/event/advent-midweek-worship-7/
LOCATION:FL
END:VEVENT
BEGIN:VEVENT
DTSTART;TZID=UTC:20161221T103000
DTEND;TZID=UTC:20161221T113000
DTSTAMP:20260423T113806
CREATED:20161205T153821Z
LAST-MODIFIED:20161205T153821Z
UID:1024-1482316200-1482319800@goodshepherdsarasota.org
SUMMARY:Wednesday Morning Bible Study
DESCRIPTION:
URL:https://goodshepherdsarasota.org/event/wednesday-morning-bible-study-57/
LOCATION:FL
END:VEVENT
BEGIN:VEVENT
DTSTART;TZID=UTC:20161218T091500
DTEND;TZID=UTC:20161218T103000
DTSTAMP:20260423T113806
CREATED:20161205T153642Z
LAST-MODIFIED:20161205T153642Z
UID:1022-1482052500-1482057000@goodshepherdsarasota.org
SUMMARY:Sunday Morning Worship
DESCRIPTION:
URL:https://goodshepherdsarasota.org/event/sunday-morning-worship-66/
LOCATION:FL
END:VEVENT
BEGIN:VEVENT
DTSTART;TZID=UTC:20161217T173000
DTEND;TZID=UTC:20161217T183000
DTSTAMP:20260423T113806
CREATED:20161205T153554Z
LAST-MODIFIED:20161205T153554Z
UID:1021-1481995800-1481999400@goodshepherdsarasota.org
SUMMARY:Saturday Night Worship
DESCRIPTION:
URL:https://goodshepherdsarasota.org/event/saturday-night-worship-74/
LOCATION:FL
END:VEVENT
BEGIN:VEVENT
DTSTART;TZID=UTC:20161214T190000
DTEND;TZID=UTC:20161214T200000
DTSTAMP:20260423T113806
CREATED:20161205T153506Z
LAST-MODIFIED:20161205T153506Z
UID:1020-1481742000-1481745600@goodshepherdsarasota.org
SUMMARY:Advent Midweek Worship
DESCRIPTION:The Gift of Peace
URL:https://goodshepherdsarasota.org/event/advent-midweek-worship-6/
LOCATION:FL
END:VEVENT
BEGIN:VEVENT
DTSTART;TZID=UTC:20161214T103000
DTEND;TZID=UTC:20161214T113000
DTSTAMP:20260423T113806
CREATED:20161205T153410Z
LAST-MODIFIED:20161205T153410Z
UID:1019-1481711400-1481715000@goodshepherdsarasota.org
SUMMARY:Wednesday Morning Bible Study
DESCRIPTION:
URL:https://goodshepherdsarasota.org/event/wednesday-morning-bible-study-56/
LOCATION:FL
END:VEVENT
BEGIN:VEVENT
DTSTART;TZID=UTC:20161213T190000
DTEND;TZID=UTC:20161213T200000
DTSTAMP:20260423T113806
CREATED:20161205T153324Z
LAST-MODIFIED:20161205T153324Z
UID:1018-1481655600-1481659200@goodshepherdsarasota.org
SUMMARY:Altar Guild Meeting
DESCRIPTION:
URL:https://goodshepherdsarasota.org/event/altar-guild-meeting-12/
LOCATION:FL
END:VEVENT
BEGIN:VEVENT
DTSTART;TZID=UTC:20161212T181500
DTEND;TZID=UTC:20161212T190000
DTSTAMP:20260423T113806
CREATED:20161205T153238Z
LAST-MODIFIED:20161205T153238Z
UID:1017-1481566500-1481569200@goodshepherdsarasota.org
SUMMARY:Board of Elders Meeting
DESCRIPTION:
URL:https://goodshepherdsarasota.org/event/board-of-elders-meeting-6/
LOCATION:FL
END:VEVENT
BEGIN:VEVENT
DTSTART;TZID=UTC:20161211T140000
DTEND;TZID=UTC:20161211T160000
DTSTAMP:20260423T113806
CREATED:20161205T153157Z
LAST-MODIFIED:20161205T153157Z
UID:1016-1481464800-1481472000@goodshepherdsarasota.org
SUMMARY:Ladies Advent Tea
DESCRIPTION:
URL:https://goodshepherdsarasota.org/event/ladies-advent-tea-2/
LOCATION:FL
END:VEVENT
BEGIN:VEVENT
DTSTART;TZID=UTC:20161211T091500
DTEND;TZID=UTC:20161211T103000
DTSTAMP:20260423T113806
CREATED:20161205T153123Z
LAST-MODIFIED:20161205T153123Z
UID:1015-1481447700-1481452200@goodshepherdsarasota.org
SUMMARY:Sunday Morning Worship
DESCRIPTION:
URL:https://goodshepherdsarasota.org/event/sunday-morning-worship-65/
LOCATION:FL
END:VEVENT
BEGIN:VEVENT
DTSTART;TZID=UTC:20161210T173000
DTEND;TZID=UTC:20161210T183000
DTSTAMP:20260423T113806
CREATED:20161205T153020Z
LAST-MODIFIED:20161205T153020Z
UID:1014-1481391000-1481394600@goodshepherdsarasota.org
SUMMARY:Saturday Night Worship
DESCRIPTION:
URL:https://goodshepherdsarasota.org/event/saturday-night-worship-73/
LOCATION:FL
END:VEVENT
END:VCALENDAR