BEGIN:VCALENDAR
VERSION:2.0
PRODID:-//Good Shepherd Lutheran Church and School - ECPv6.11.2//NONSGML v1.0//EN
CALSCALE:GREGORIAN
METHOD:PUBLISH
X-WR-CALNAME:Good Shepherd Lutheran Church and School
X-ORIGINAL-URL:https://goodshepherdsarasota.org
X-WR-CALDESC:Events for Good Shepherd Lutheran Church and School
REFRESH-INTERVAL;VALUE=DURATION:PT1H
X-Robots-Tag:noindex
X-PUBLISHED-TTL:PT1H
BEGIN:VTIMEZONE
TZID:UTC
BEGIN:STANDARD
TZOFFSETFROM:+0000
TZOFFSETTO:+0000
TZNAME:UTC
DTSTART:20160101T000000
END:STANDARD
END:VTIMEZONE
BEGIN:VEVENT
DTSTART;TZID=UTC:20161212T181500
DTEND;TZID=UTC:20161212T190000
DTSTAMP:20260423T200733
CREATED:20161205T153238Z
LAST-MODIFIED:20161205T153238Z
UID:1017-1481566500-1481569200@goodshepherdsarasota.org
SUMMARY:Board of Elders Meeting
DESCRIPTION:
URL:https://goodshepherdsarasota.org/event/board-of-elders-meeting-6/
END:VEVENT
BEGIN:VEVENT
DTSTART;TZID=UTC:20161211T140000
DTEND;TZID=UTC:20161211T160000
DTSTAMP:20260423T200733
CREATED:20161205T153157Z
LAST-MODIFIED:20161205T153157Z
UID:1016-1481464800-1481472000@goodshepherdsarasota.org
SUMMARY:Ladies Advent Tea
DESCRIPTION:
URL:https://goodshepherdsarasota.org/event/ladies-advent-tea-2/
END:VEVENT
BEGIN:VEVENT
DTSTART;TZID=UTC:20161211T091500
DTEND;TZID=UTC:20161211T103000
DTSTAMP:20260423T200733
CREATED:20161205T153123Z
LAST-MODIFIED:20161205T153123Z
UID:1015-1481447700-1481452200@goodshepherdsarasota.org
SUMMARY:Sunday Morning Worship
DESCRIPTION:
URL:https://goodshepherdsarasota.org/event/sunday-morning-worship-65/
END:VEVENT
BEGIN:VEVENT
DTSTART;TZID=UTC:20161210T173000
DTEND;TZID=UTC:20161210T183000
DTSTAMP:20260423T200733
CREATED:20161205T153020Z
LAST-MODIFIED:20161205T153020Z
UID:1014-1481391000-1481394600@goodshepherdsarasota.org
SUMMARY:Saturday Night Worship
DESCRIPTION:
URL:https://goodshepherdsarasota.org/event/saturday-night-worship-73/
END:VEVENT
BEGIN:VEVENT
DTSTART;TZID=UTC:20161208T100000
DTEND;TZID=UTC:20161208T113000
DTSTAMP:20260423T200733
CREATED:20161205T152923Z
LAST-MODIFIED:20161205T152923Z
UID:1013-1481191200-1481196600@goodshepherdsarasota.org
SUMMARY:LWML Meeting
DESCRIPTION:
URL:https://goodshepherdsarasota.org/event/lwml-meeting-6/
END:VEVENT
BEGIN:VEVENT
DTSTART;TZID=UTC:20161207T190000
DTEND;TZID=UTC:20161207T200000
DTSTAMP:20260423T200733
CREATED:20161205T152839Z
LAST-MODIFIED:20161205T152839Z
UID:1012-1481137200-1481140800@goodshepherdsarasota.org
SUMMARY:Advent Midweek Worship
DESCRIPTION:The Gift of Love
URL:https://goodshepherdsarasota.org/event/advent-midweek-worship-5/
END:VEVENT
BEGIN:VEVENT
DTSTART;TZID=UTC:20161207T103000
DTEND;TZID=UTC:20161207T113000
DTSTAMP:20260423T200733
CREATED:20161205T152756Z
LAST-MODIFIED:20161205T152756Z
UID:1011-1481106600-1481110200@goodshepherdsarasota.org
SUMMARY:Wednesday Morning Bible Study
DESCRIPTION:Decorate the Church for Christmas after study!
URL:https://goodshepherdsarasota.org/event/wednesday-morning-bible-study-55/
END:VEVENT
BEGIN:VEVENT
DTSTART;TZID=UTC:20161206T180000
DTEND;TZID=UTC:20161206T200000
DTSTAMP:20260423T200733
CREATED:20161205T152647Z
LAST-MODIFIED:20161205T152647Z
UID:1010-1481047200-1481054400@goodshepherdsarasota.org
SUMMARY:Church Council meeting
DESCRIPTION:
URL:https://goodshepherdsarasota.org/event/church-council-meeting-11/
END:VEVENT
BEGIN:VEVENT
DTSTART;TZID=UTC:20161205T180000
DTEND;TZID=UTC:20161205T190000
DTSTAMP:20260423T200733
CREATED:20161205T152613Z
LAST-MODIFIED:20161205T152613Z
UID:1009-1480960800-1480964400@goodshepherdsarasota.org
SUMMARY:School Board meeting
DESCRIPTION:
URL:https://goodshepherdsarasota.org/event/school-board-meeting-10/
END:VEVENT
BEGIN:VEVENT
DTSTART;TZID=UTC:20161201T190000
DTEND;TZID=UTC:20161201T200000
DTSTAMP:20260423T200733
CREATED:20161107T211831Z
LAST-MODIFIED:20161107T211831Z
UID:992-1480618800-1480622400@goodshepherdsarasota.org
SUMMARY:Choir Rehearsal
DESCRIPTION:
URL:https://goodshepherdsarasota.org/event/choir-rehearsal-9/
END:VEVENT
BEGIN:VEVENT
DTSTART;TZID=UTC:20161130T190000
DTEND;TZID=UTC:20161130T200000
DTSTAMP:20260423T200733
CREATED:20161107T211745Z
LAST-MODIFIED:20161107T211745Z
UID:991-1480532400-1480536000@goodshepherdsarasota.org
SUMMARY:Advent Midweek Worship
DESCRIPTION:“From Heaven Above” – our 2016 Advent midweek series theme!
URL:https://goodshepherdsarasota.org/event/advent-midweek-worship-4/
END:VEVENT
BEGIN:VEVENT
DTSTART;TZID=UTC:20161130T103000
DTEND;TZID=UTC:20161130T113000
DTSTAMP:20260423T200733
CREATED:20161107T211635Z
LAST-MODIFIED:20161107T211635Z
UID:990-1480501800-1480505400@goodshepherdsarasota.org
SUMMARY:Wednesday Morning Bible Study
DESCRIPTION:
URL:https://goodshepherdsarasota.org/event/wednesday-morning-bible-study-54/
END:VEVENT
BEGIN:VEVENT
DTSTART;TZID=UTC:20161127T091500
DTEND;TZID=UTC:20161127T103000
DTSTAMP:20260423T200733
CREATED:20161107T211529Z
LAST-MODIFIED:20161107T211529Z
UID:989-1480238100-1480242600@goodshepherdsarasota.org
SUMMARY:Sunday Morning Worship
DESCRIPTION:
URL:https://goodshepherdsarasota.org/event/sunday-morning-worship-64/
END:VEVENT
BEGIN:VEVENT
DTSTART;TZID=UTC:20161126T173000
DTEND;TZID=UTC:20161126T183000
DTSTAMP:20260423T200733
CREATED:20161107T211436Z
LAST-MODIFIED:20161107T211436Z
UID:988-1480181400-1480185000@goodshepherdsarasota.org
SUMMARY:Saturday Night Worship
DESCRIPTION:
URL:https://goodshepherdsarasota.org/event/saturday-night-worship-72/
END:VEVENT
BEGIN:VEVENT
DTSTART;VALUE=DATE:20161124
DTEND;VALUE=DATE:20161125
DTSTAMP:20260423T200733
CREATED:20161107T211341Z
LAST-MODIFIED:20161107T211341Z
UID:987-1479945600-1480031999@goodshepherdsarasota.org
SUMMARY:HAPPY THANKSGIVING!
DESCRIPTION:
URL:https://goodshepherdsarasota.org/event/happy-thanksgiving/
END:VEVENT
BEGIN:VEVENT
DTSTART;TZID=UTC:20161123T190000
DTEND;TZID=UTC:20161123T200000
DTSTAMP:20260423T200733
CREATED:20161013T174128Z
LAST-MODIFIED:20161013T174128Z
UID:953-1479927600-1479931200@goodshepherdsarasota.org
SUMMARY:Thanksgiving Eve Worship
DESCRIPTION:
URL:https://goodshepherdsarasota.org/event/thanksgiving-eve-worship-2/
END:VEVENT
BEGIN:VEVENT
DTSTART;TZID=UTC:20161123T103000
DTEND;TZID=UTC:20161123T113000
DTSTAMP:20260423T200733
CREATED:20161107T211307Z
LAST-MODIFIED:20161107T211307Z
UID:986-1479897000-1479900600@goodshepherdsarasota.org
SUMMARY:Wednesday Morning Bible Study
DESCRIPTION:
URL:https://goodshepherdsarasota.org/event/wednesday-morning-bible-study-53/
END:VEVENT
BEGIN:VEVENT
DTSTART;TZID=UTC:20161120T091500
DTEND;TZID=UTC:20161120T103000
DTSTAMP:20260423T200733
CREATED:20161107T211047Z
LAST-MODIFIED:20161107T211047Z
UID:984-1479633300-1479637800@goodshepherdsarasota.org
SUMMARY:Sunday Morning Worship
DESCRIPTION:
URL:https://goodshepherdsarasota.org/event/sunday-morning-worship-63/
END:VEVENT
BEGIN:VEVENT
DTSTART;TZID=UTC:20161119T173000
DTEND;TZID=UTC:20161119T183000
DTSTAMP:20260423T200733
CREATED:20161107T210954Z
LAST-MODIFIED:20161107T210954Z
UID:983-1479576600-1479580200@goodshepherdsarasota.org
SUMMARY:Saturday Night Worship
DESCRIPTION:
URL:https://goodshepherdsarasota.org/event/saturday-night-worship-71/
END:VEVENT
BEGIN:VEVENT
DTSTART;TZID=UTC:20161116T103000
DTEND;TZID=UTC:20161116T113000
DTSTAMP:20260423T200733
CREATED:20161107T210843Z
LAST-MODIFIED:20161107T210843Z
UID:982-1479292200-1479295800@goodshepherdsarasota.org
SUMMARY:Wednesday Morning Bible Study
DESCRIPTION:
URL:https://goodshepherdsarasota.org/event/wednesday-morning-bible-study-52/
END:VEVENT
BEGIN:VEVENT
DTSTART;TZID=UTC:20161115T180000
DTEND;TZID=UTC:20161115T200000
DTSTAMP:20260423T200733
CREATED:20161107T210758Z
LAST-MODIFIED:20161107T210758Z
UID:981-1479232800-1479240000@goodshepherdsarasota.org
SUMMARY:Church Council meeting
DESCRIPTION:
URL:https://goodshepherdsarasota.org/event/church-council-meeting-10/
END:VEVENT
BEGIN:VEVENT
DTSTART;TZID=UTC:20161114T181500
DTEND;TZID=UTC:20161114T191500
DTSTAMP:20260423T200733
CREATED:20161107T210719Z
LAST-MODIFIED:20161107T210719Z
UID:980-1479147300-1479150900@goodshepherdsarasota.org
SUMMARY:Board of Elders meeting
DESCRIPTION:
URL:https://goodshepherdsarasota.org/event/board-of-elders-meeting-5/
END:VEVENT
BEGIN:VEVENT
DTSTART;TZID=UTC:20161113T091500
DTEND;TZID=UTC:20161113T103000
DTSTAMP:20260423T200733
CREATED:20161107T210636Z
LAST-MODIFIED:20161107T210636Z
UID:979-1479028500-1479033000@goodshepherdsarasota.org
SUMMARY:Sunday Morning Worship
DESCRIPTION:
URL:https://goodshepherdsarasota.org/event/sunday-morning-worship-62/
END:VEVENT
BEGIN:VEVENT
DTSTART;TZID=UTC:20161112T173000
DTEND;TZID=UTC:20161112T183000
DTSTAMP:20260423T200733
CREATED:20161107T210538Z
LAST-MODIFIED:20161107T210538Z
UID:978-1478971800-1478975400@goodshepherdsarasota.org
SUMMARY:Saturday Night Worship
DESCRIPTION:
URL:https://goodshepherdsarasota.org/event/saturday-night-worship-70/
END:VEVENT
BEGIN:VEVENT
DTSTART;TZID=UTC:20161112T090000
DTEND;TZID=UTC:20161112T113000
DTSTAMP:20260423T200733
CREATED:20161107T210455Z
LAST-MODIFIED:20161107T210455Z
UID:977-1478941200-1478950200@goodshepherdsarasota.org
SUMMARY:Clean-Up Clean-Out Day
DESCRIPTION:
URL:https://goodshepherdsarasota.org/event/clean-up-clean-out-day/
END:VEVENT
BEGIN:VEVENT
DTSTART;TZID=UTC:20161110T140000
DTEND;TZID=UTC:20161110T150000
DTSTAMP:20260423T200733
CREATED:20161107T210356Z
LAST-MODIFIED:20161107T210356Z
UID:976-1478786400-1478790000@goodshepherdsarasota.org
SUMMARY:2017 Budget meeting
DESCRIPTION:
URL:https://goodshepherdsarasota.org/event/2017-budget-meeting/
END:VEVENT
BEGIN:VEVENT
DTSTART;TZID=UTC:20161109T183000
DTEND;TZID=UTC:20161109T193000
DTSTAMP:20260423T200733
CREATED:20161107T210314Z
LAST-MODIFIED:20161107T210314Z
UID:975-1478716200-1478719800@goodshepherdsarasota.org
SUMMARY:Youth Group meeting
DESCRIPTION:
URL:https://goodshepherdsarasota.org/event/youth-group-meeting-8/
END:VEVENT
BEGIN:VEVENT
DTSTART;TZID=UTC:20161109T103000
DTEND;TZID=UTC:20161109T113000
DTSTAMP:20260423T200733
CREATED:20161107T210233Z
LAST-MODIFIED:20161107T210233Z
UID:974-1478687400-1478691000@goodshepherdsarasota.org
SUMMARY:Wednesday Morning Bible Study
DESCRIPTION:
URL:https://goodshepherdsarasota.org/event/wednesday-morning-bible-study-51/
END:VEVENT
BEGIN:VEVENT
DTSTART;TZID=UTC:20161108T190000
DTEND;TZID=UTC:20161108T200000
DTSTAMP:20260423T200733
CREATED:20161107T210127Z
LAST-MODIFIED:20161107T210127Z
UID:973-1478631600-1478635200@goodshepherdsarasota.org
SUMMARY:Altar Guild meeting
DESCRIPTION:
URL:https://goodshepherdsarasota.org/event/altar-guild-meeting-11/
END:VEVENT
BEGIN:VEVENT
DTSTART;TZID=UTC:20161107T100000
DTEND;TZID=UTC:20161107T113000
DTSTAMP:20260423T200733
CREATED:20161013T174224Z
LAST-MODIFIED:20161013T174224Z
UID:954-1478512800-1478518200@goodshepherdsarasota.org
SUMMARY:Hope Seeds Packing Event
DESCRIPTION:
URL:https://goodshepherdsarasota.org/event/hope-seeds-packing-event-2/
END:VEVENT
END:VCALENDAR