BEGIN:VCALENDAR
VERSION:2.0
PRODID:-//Good Shepherd Lutheran Church and School - ECPv6.11.2//NONSGML v1.0//EN
CALSCALE:GREGORIAN
METHOD:PUBLISH
X-WR-CALNAME:Good Shepherd Lutheran Church and School
X-ORIGINAL-URL:https://goodshepherdsarasota.org
X-WR-CALDESC:Events for Good Shepherd Lutheran Church and School
REFRESH-INTERVAL;VALUE=DURATION:PT1H
X-Robots-Tag:noindex
X-PUBLISHED-TTL:PT1H
BEGIN:VTIMEZONE
TZID:UTC
BEGIN:STANDARD
TZOFFSETFROM:+0000
TZOFFSETTO:+0000
TZNAME:UTC
DTSTART:20160101T000000
END:STANDARD
END:VTIMEZONE
BEGIN:VEVENT
DTSTART;TZID=UTC:20161123T103000
DTEND;TZID=UTC:20161123T113000
DTSTAMP:20260423T185555
CREATED:20161107T211307Z
LAST-MODIFIED:20161107T211307Z
UID:986-1479897000-1479900600@goodshepherdsarasota.org
SUMMARY:Wednesday Morning Bible Study
DESCRIPTION:
URL:https://goodshepherdsarasota.org/event/wednesday-morning-bible-study-53/
END:VEVENT
BEGIN:VEVENT
DTSTART;TZID=UTC:20161120T091500
DTEND;TZID=UTC:20161120T103000
DTSTAMP:20260423T185555
CREATED:20161107T211047Z
LAST-MODIFIED:20161107T211047Z
UID:984-1479633300-1479637800@goodshepherdsarasota.org
SUMMARY:Sunday Morning Worship
DESCRIPTION:
URL:https://goodshepherdsarasota.org/event/sunday-morning-worship-63/
END:VEVENT
BEGIN:VEVENT
DTSTART;TZID=UTC:20161119T173000
DTEND;TZID=UTC:20161119T183000
DTSTAMP:20260423T185555
CREATED:20161107T210954Z
LAST-MODIFIED:20161107T210954Z
UID:983-1479576600-1479580200@goodshepherdsarasota.org
SUMMARY:Saturday Night Worship
DESCRIPTION:
URL:https://goodshepherdsarasota.org/event/saturday-night-worship-71/
END:VEVENT
BEGIN:VEVENT
DTSTART;TZID=UTC:20161116T103000
DTEND;TZID=UTC:20161116T113000
DTSTAMP:20260423T185555
CREATED:20161107T210843Z
LAST-MODIFIED:20161107T210843Z
UID:982-1479292200-1479295800@goodshepherdsarasota.org
SUMMARY:Wednesday Morning Bible Study
DESCRIPTION:
URL:https://goodshepherdsarasota.org/event/wednesday-morning-bible-study-52/
END:VEVENT
BEGIN:VEVENT
DTSTART;TZID=UTC:20161115T180000
DTEND;TZID=UTC:20161115T200000
DTSTAMP:20260423T185555
CREATED:20161107T210758Z
LAST-MODIFIED:20161107T210758Z
UID:981-1479232800-1479240000@goodshepherdsarasota.org
SUMMARY:Church Council meeting
DESCRIPTION:
URL:https://goodshepherdsarasota.org/event/church-council-meeting-10/
END:VEVENT
BEGIN:VEVENT
DTSTART;TZID=UTC:20161114T181500
DTEND;TZID=UTC:20161114T191500
DTSTAMP:20260423T185555
CREATED:20161107T210719Z
LAST-MODIFIED:20161107T210719Z
UID:980-1479147300-1479150900@goodshepherdsarasota.org
SUMMARY:Board of Elders meeting
DESCRIPTION:
URL:https://goodshepherdsarasota.org/event/board-of-elders-meeting-5/
END:VEVENT
BEGIN:VEVENT
DTSTART;TZID=UTC:20161113T091500
DTEND;TZID=UTC:20161113T103000
DTSTAMP:20260423T185555
CREATED:20161107T210636Z
LAST-MODIFIED:20161107T210636Z
UID:979-1479028500-1479033000@goodshepherdsarasota.org
SUMMARY:Sunday Morning Worship
DESCRIPTION:
URL:https://goodshepherdsarasota.org/event/sunday-morning-worship-62/
END:VEVENT
BEGIN:VEVENT
DTSTART;TZID=UTC:20161112T173000
DTEND;TZID=UTC:20161112T183000
DTSTAMP:20260423T185555
CREATED:20161107T210538Z
LAST-MODIFIED:20161107T210538Z
UID:978-1478971800-1478975400@goodshepherdsarasota.org
SUMMARY:Saturday Night Worship
DESCRIPTION:
URL:https://goodshepherdsarasota.org/event/saturday-night-worship-70/
END:VEVENT
BEGIN:VEVENT
DTSTART;TZID=UTC:20161112T090000
DTEND;TZID=UTC:20161112T113000
DTSTAMP:20260423T185555
CREATED:20161107T210455Z
LAST-MODIFIED:20161107T210455Z
UID:977-1478941200-1478950200@goodshepherdsarasota.org
SUMMARY:Clean-Up Clean-Out Day
DESCRIPTION:
URL:https://goodshepherdsarasota.org/event/clean-up-clean-out-day/
END:VEVENT
BEGIN:VEVENT
DTSTART;TZID=UTC:20161110T140000
DTEND;TZID=UTC:20161110T150000
DTSTAMP:20260423T185555
CREATED:20161107T210356Z
LAST-MODIFIED:20161107T210356Z
UID:976-1478786400-1478790000@goodshepherdsarasota.org
SUMMARY:2017 Budget meeting
DESCRIPTION:
URL:https://goodshepherdsarasota.org/event/2017-budget-meeting/
END:VEVENT
BEGIN:VEVENT
DTSTART;TZID=UTC:20161109T183000
DTEND;TZID=UTC:20161109T193000
DTSTAMP:20260423T185555
CREATED:20161107T210314Z
LAST-MODIFIED:20161107T210314Z
UID:975-1478716200-1478719800@goodshepherdsarasota.org
SUMMARY:Youth Group meeting
DESCRIPTION:
URL:https://goodshepherdsarasota.org/event/youth-group-meeting-8/
END:VEVENT
BEGIN:VEVENT
DTSTART;TZID=UTC:20161109T103000
DTEND;TZID=UTC:20161109T113000
DTSTAMP:20260423T185555
CREATED:20161107T210233Z
LAST-MODIFIED:20161107T210233Z
UID:974-1478687400-1478691000@goodshepherdsarasota.org
SUMMARY:Wednesday Morning Bible Study
DESCRIPTION:
URL:https://goodshepherdsarasota.org/event/wednesday-morning-bible-study-51/
END:VEVENT
BEGIN:VEVENT
DTSTART;TZID=UTC:20161108T190000
DTEND;TZID=UTC:20161108T200000
DTSTAMP:20260423T185555
CREATED:20161107T210127Z
LAST-MODIFIED:20161107T210127Z
UID:973-1478631600-1478635200@goodshepherdsarasota.org
SUMMARY:Altar Guild meeting
DESCRIPTION:
URL:https://goodshepherdsarasota.org/event/altar-guild-meeting-11/
END:VEVENT
BEGIN:VEVENT
DTSTART;TZID=UTC:20161107T100000
DTEND;TZID=UTC:20161107T113000
DTSTAMP:20260423T185555
CREATED:20161013T174224Z
LAST-MODIFIED:20161013T174224Z
UID:954-1478512800-1478518200@goodshepherdsarasota.org
SUMMARY:Hope Seeds Packing Event
DESCRIPTION:
URL:https://goodshepherdsarasota.org/event/hope-seeds-packing-event-2/
END:VEVENT
BEGIN:VEVENT
DTSTART;TZID=UTC:20161106T091500
DTEND;TZID=UTC:20161106T103000
DTSTAMP:20260423T185555
CREATED:20161013T174039Z
LAST-MODIFIED:20161013T174039Z
UID:952-1478423700-1478428200@goodshepherdsarasota.org
SUMMARY:Sunday Morning Worship
DESCRIPTION:
URL:https://goodshepherdsarasota.org/event/sunday-morning-worship-61/
END:VEVENT
BEGIN:VEVENT
DTSTART;TZID=UTC:20161105T173000
DTEND;TZID=UTC:20161105T183000
DTSTAMP:20260423T185555
CREATED:20161013T173903Z
LAST-MODIFIED:20161013T173903Z
UID:951-1478367000-1478370600@goodshepherdsarasota.org
SUMMARY:Saturday Night Worship
DESCRIPTION:
URL:https://goodshepherdsarasota.org/event/saturday-night-worship-69/
END:VEVENT
BEGIN:VEVENT
DTSTART;TZID=UTC:20161103T100000
DTEND;TZID=UTC:20161103T113000
DTSTAMP:20260423T185555
CREATED:20161013T174315Z
LAST-MODIFIED:20161013T174315Z
UID:955-1478167200-1478172600@goodshepherdsarasota.org
SUMMARY:LWML Meeting
DESCRIPTION:
URL:https://goodshepherdsarasota.org/event/lwml-meeting-5/
END:VEVENT
BEGIN:VEVENT
DTSTART;TZID=UTC:20161102T103000
DTEND;TZID=UTC:20161102T113000
DTSTAMP:20260423T185555
CREATED:20161013T173751Z
LAST-MODIFIED:20161013T173751Z
UID:950-1478082600-1478086200@goodshepherdsarasota.org
SUMMARY:Wednesday Morning Bible Study
DESCRIPTION:
URL:https://goodshepherdsarasota.org/event/wednesday-morning-bible-study-50/
END:VEVENT
BEGIN:VEVENT
DTSTART;TZID=UTC:20161030T091500
DTEND;TZID=UTC:20161030T103000
DTSTAMP:20260423T185555
CREATED:20161013T173605Z
LAST-MODIFIED:20161013T173605Z
UID:949-1477818900-1477823400@goodshepherdsarasota.org
SUMMARY:Sunday Morning Worship
DESCRIPTION:Reformation Day
URL:https://goodshepherdsarasota.org/event/sunday-morning-worship-60/
END:VEVENT
BEGIN:VEVENT
DTSTART;TZID=UTC:20161029T173000
DTEND;TZID=UTC:20161029T183000
DTSTAMP:20260423T185555
CREATED:20161013T173458Z
LAST-MODIFIED:20161013T173458Z
UID:948-1477762200-1477765800@goodshepherdsarasota.org
SUMMARY:Saturday Night Worship
DESCRIPTION:
URL:https://goodshepherdsarasota.org/event/saturday-night-worship-68/
END:VEVENT
BEGIN:VEVENT
DTSTART;TZID=UTC:20161028T173000
DTEND;TZID=UTC:20161028T193000
DTSTAMP:20260423T185555
CREATED:20161013T173319Z
LAST-MODIFIED:20161013T173319Z
UID:947-1477675800-1477683000@goodshepherdsarasota.org
SUMMARY:Fall Festival
DESCRIPTION:
URL:https://goodshepherdsarasota.org/event/fall-festival/
END:VEVENT
BEGIN:VEVENT
DTSTART;TZID=UTC:20161026T103000
DTEND;TZID=UTC:20161026T113000
DTSTAMP:20260423T185555
CREATED:20161013T173219Z
LAST-MODIFIED:20161013T173219Z
UID:946-1477477800-1477481400@goodshepherdsarasota.org
SUMMARY:Wednesday Morning Bible Study
DESCRIPTION:
URL:https://goodshepherdsarasota.org/event/wednesday-morning-bible-study-49/
END:VEVENT
BEGIN:VEVENT
DTSTART;TZID=UTC:20161023T091500
DTEND;TZID=UTC:20161023T103000
DTSTAMP:20260423T185555
CREATED:20161013T173101Z
LAST-MODIFIED:20161013T173101Z
UID:945-1477214100-1477218600@goodshepherdsarasota.org
SUMMARY:Sunday Morning Worship
DESCRIPTION:
URL:https://goodshepherdsarasota.org/event/sunday-morning-worship-59/
END:VEVENT
BEGIN:VEVENT
DTSTART;TZID=UTC:20161022T173000
DTEND;TZID=UTC:20161022T183000
DTSTAMP:20260423T185555
CREATED:20161013T173008Z
LAST-MODIFIED:20161013T173008Z
UID:944-1477157400-1477161000@goodshepherdsarasota.org
SUMMARY:Saturday Night Worship
DESCRIPTION:
URL:https://goodshepherdsarasota.org/event/saturday-night-worship-67/
END:VEVENT
BEGIN:VEVENT
DTSTART;TZID=UTC:20161019T103000
DTEND;TZID=UTC:20161019T113000
DTSTAMP:20260423T185555
CREATED:20161013T172802Z
LAST-MODIFIED:20161013T172802Z
UID:943-1476873000-1476876600@goodshepherdsarasota.org
SUMMARY:Wednesday Morning Bible Study
DESCRIPTION:
URL:https://goodshepherdsarasota.org/event/wednesday-morning-bible-study-48/
END:VEVENT
BEGIN:VEVENT
DTSTART;TZID=UTC:20161018T180000
DTEND;TZID=UTC:20161018T193000
DTSTAMP:20260423T185555
CREATED:20161013T172701Z
LAST-MODIFIED:20161013T172701Z
UID:942-1476813600-1476819000@goodshepherdsarasota.org
SUMMARY:Church Council Meeting
DESCRIPTION:
URL:https://goodshepherdsarasota.org/event/church-council-meeting-9/
END:VEVENT
BEGIN:VEVENT
DTSTART;TZID=UTC:20161016T091500
DTEND;TZID=UTC:20161016T103000
DTSTAMP:20260423T185555
CREATED:20161013T172618Z
LAST-MODIFIED:20161013T172618Z
UID:941-1476609300-1476613800@goodshepherdsarasota.org
SUMMARY:Sunday Morning Worship
DESCRIPTION:Pastor Appreciation celebration after worship in Mennicke Hall.
URL:https://goodshepherdsarasota.org/event/sunday-morning-worship-58/
END:VEVENT
BEGIN:VEVENT
DTSTART;TZID=UTC:20161015T173000
DTEND;TZID=UTC:20161015T183000
DTSTAMP:20260423T185555
CREATED:20161013T172208Z
LAST-MODIFIED:20161013T172208Z
UID:940-1476552600-1476556200@goodshepherdsarasota.org
SUMMARY:Saturday Night Worship
DESCRIPTION:
URL:https://goodshepherdsarasota.org/event/saturday-night-worship-66/
END:VEVENT
BEGIN:VEVENT
DTSTART;TZID=UTC:20161012T103000
DTEND;TZID=UTC:20161012T113000
DTSTAMP:20260423T185555
CREATED:20160926T131035Z
LAST-MODIFIED:20160926T131035Z
UID:934-1476268200-1476271800@goodshepherdsarasota.org
SUMMARY:Wednesday Morning Bible Study
DESCRIPTION:
URL:https://goodshepherdsarasota.org/event/wednesday-morning-bible-study-47/
END:VEVENT
BEGIN:VEVENT
DTSTART;TZID=UTC:20161011T190000
DTEND;TZID=UTC:20161011T200000
DTSTAMP:20260423T185555
CREATED:20160926T131004Z
LAST-MODIFIED:20160926T131004Z
UID:933-1476212400-1476216000@goodshepherdsarasota.org
SUMMARY:Altar Guild Meeting
DESCRIPTION:
URL:https://goodshepherdsarasota.org/event/altar-guild-meeting-10/
END:VEVENT
END:VCALENDAR