BEGIN:VCALENDAR
VERSION:2.0
PRODID:-//Good Shepherd Lutheran Church and School - ECPv6.11.2//NONSGML v1.0//EN
CALSCALE:GREGORIAN
METHOD:PUBLISH
X-WR-CALNAME:Good Shepherd Lutheran Church and School
X-ORIGINAL-URL:https://goodshepherdsarasota.org
X-WR-CALDESC:Events for Good Shepherd Lutheran Church and School
REFRESH-INTERVAL;VALUE=DURATION:PT1H
X-Robots-Tag:noindex
X-PUBLISHED-TTL:PT1H
BEGIN:VTIMEZONE
TZID:UTC
BEGIN:STANDARD
TZOFFSETFROM:+0000
TZOFFSETTO:+0000
TZNAME:UTC
DTSTART:20160101T000000
END:STANDARD
END:VTIMEZONE
BEGIN:VEVENT
DTSTART;TZID=UTC:20161005T103000
DTEND;TZID=UTC:20161005T113000
DTSTAMP:20260424T001019
CREATED:20160926T130620Z
LAST-MODIFIED:20160926T130620Z
UID:929-1475663400-1475667000@goodshepherdsarasota.org
SUMMARY:Wednesday Morning Bible Study
DESCRIPTION:
URL:https://goodshepherdsarasota.org/event/wednesday-morning-bible-study-46/
END:VEVENT
BEGIN:VEVENT
DTSTART;TZID=UTC:20161004T183000
DTEND;TZID=UTC:20161004T193000
DTSTAMP:20260424T001019
CREATED:20160926T130458Z
LAST-MODIFIED:20160926T130458Z
UID:928-1475605800-1475609400@goodshepherdsarasota.org
SUMMARY:Youth Group Meeting
DESCRIPTION:
URL:https://goodshepherdsarasota.org/event/youth-group-meeting-7/
END:VEVENT
BEGIN:VEVENT
DTSTART;TZID=UTC:20161002T091500
DTEND;TZID=UTC:20161002T103000
DTSTAMP:20260424T001019
CREATED:20160925T130152Z
LAST-MODIFIED:20160925T130152Z
UID:923-1475399700-1475404200@goodshepherdsarasota.org
SUMMARY:Sunday Morning Worship
DESCRIPTION:
URL:https://goodshepherdsarasota.org/event/sunday-morning-worship-56/
END:VEVENT
BEGIN:VEVENT
DTSTART;TZID=UTC:20161001T173000
DTEND;TZID=UTC:20161001T183000
DTSTAMP:20260424T001019
CREATED:20160925T130119Z
LAST-MODIFIED:20160925T130119Z
UID:922-1475343000-1475346600@goodshepherdsarasota.org
SUMMARY:Saturday Night Worship
DESCRIPTION:
URL:https://goodshepherdsarasota.org/event/saturday-night-worship-64/
END:VEVENT
BEGIN:VEVENT
DTSTART;TZID=UTC:20160928T103000
DTEND;TZID=UTC:20160928T113000
DTSTAMP:20260424T001019
CREATED:20160925T130036Z
LAST-MODIFIED:20160925T130036Z
UID:921-1475058600-1475062200@goodshepherdsarasota.org
SUMMARY:Wednesday morning Bible study
DESCRIPTION:
URL:https://goodshepherdsarasota.org/event/wednesday-morning-bible-study-45/
END:VEVENT
BEGIN:VEVENT
DTSTART;TZID=UTC:20160921T103000
DTEND;TZID=UTC:20160921T113000
DTSTAMP:20260424T001019
CREATED:20160822T132514Z
LAST-MODIFIED:20160822T132514Z
UID:906-1474453800-1474457400@goodshepherdsarasota.org
SUMMARY:Wednesday Morning Bible Study
DESCRIPTION:
URL:https://goodshepherdsarasota.org/event/wednesday-morning-bible-study-44/
END:VEVENT
BEGIN:VEVENT
DTSTART;TZID=UTC:20160918T091500
DTEND;TZID=UTC:20160918T103000
DTSTAMP:20260424T001019
CREATED:20160822T132405Z
LAST-MODIFIED:20160822T132405Z
UID:905-1474190100-1474194600@goodshepherdsarasota.org
SUMMARY:Sunday Morning Worship
DESCRIPTION:
URL:https://goodshepherdsarasota.org/event/sunday-morning-worship-55/
END:VEVENT
BEGIN:VEVENT
DTSTART;TZID=UTC:20160917T173000
DTEND;TZID=UTC:20160917T183000
DTSTAMP:20260424T001019
CREATED:20160822T132314Z
LAST-MODIFIED:20160822T132314Z
UID:904-1474133400-1474137000@goodshepherdsarasota.org
SUMMARY:Saturday Night Worship
DESCRIPTION:
URL:https://goodshepherdsarasota.org/event/saturday-night-worship-63/
END:VEVENT
BEGIN:VEVENT
DTSTART;TZID=UTC:20160914T180000
DTEND;TZID=UTC:20160914T193000
DTSTAMP:20260424T001019
CREATED:20160822T132221Z
LAST-MODIFIED:20160822T132221Z
UID:903-1473876000-1473881400@goodshepherdsarasota.org
SUMMARY:Church Council Meeting
DESCRIPTION:
URL:https://goodshepherdsarasota.org/event/church-council-meeting-8/
END:VEVENT
BEGIN:VEVENT
DTSTART;TZID=UTC:20160913T190000
DTEND;TZID=UTC:20160913T200000
DTSTAMP:20260424T001019
CREATED:20160822T132146Z
LAST-MODIFIED:20160822T132146Z
UID:902-1473793200-1473796800@goodshepherdsarasota.org
SUMMARY:Altar Guild Meeting
DESCRIPTION:
URL:https://goodshepherdsarasota.org/event/altar-guild-meeting-9/
END:VEVENT
BEGIN:VEVENT
DTSTART;TZID=UTC:20160912T181500
DTEND;TZID=UTC:20160912T190000
DTSTAMP:20260424T001019
CREATED:20160822T132115Z
LAST-MODIFIED:20160822T132115Z
UID:901-1473704100-1473706800@goodshepherdsarasota.org
SUMMARY:Board of Elders meeting
DESCRIPTION:
URL:https://goodshepherdsarasota.org/event/board-of-elders-meeting-4/
END:VEVENT
BEGIN:VEVENT
DTSTART;TZID=UTC:20160911T091500
DTEND;TZID=UTC:20160911T103000
DTSTAMP:20260424T001019
CREATED:20160822T132032Z
LAST-MODIFIED:20160822T132032Z
UID:900-1473585300-1473589800@goodshepherdsarasota.org
SUMMARY:Sunday Morning Worship
DESCRIPTION:15th Anniversary of the 9/11 Attacks.
URL:https://goodshepherdsarasota.org/event/sunday-morning-worship-54/
END:VEVENT
BEGIN:VEVENT
DTSTART;TZID=UTC:20160910T173000
DTEND;TZID=UTC:20160910T183000
DTSTAMP:20260424T001019
CREATED:20160822T131934Z
LAST-MODIFIED:20160822T131934Z
UID:899-1473528600-1473532200@goodshepherdsarasota.org
SUMMARY:Saturday Night Worship
DESCRIPTION:
URL:https://goodshepherdsarasota.org/event/saturday-night-worship-62/
END:VEVENT
BEGIN:VEVENT
DTSTART;VALUE=DATE:20160905
DTEND;VALUE=DATE:20160906
DTSTAMP:20260424T001019
CREATED:20160822T131603Z
LAST-MODIFIED:20160822T131603Z
UID:896-1473033600-1473119999@goodshepherdsarasota.org
SUMMARY:Labor Day; Church Office Closed
DESCRIPTION:
URL:https://goodshepherdsarasota.org/event/labor-day-church-office-closed/
END:VEVENT
BEGIN:VEVENT
DTSTART;TZID=UTC:20160904T091500
DTEND;TZID=UTC:20160904T103000
DTSTAMP:20260424T001019
CREATED:20160822T131534Z
LAST-MODIFIED:20160822T131534Z
UID:895-1472980500-1472985000@goodshepherdsarasota.org
SUMMARY:Sunday Morning Worship
DESCRIPTION:
URL:https://goodshepherdsarasota.org/event/sunday-morning-worship-53/
END:VEVENT
BEGIN:VEVENT
DTSTART;TZID=UTC:20160903T173000
DTEND;TZID=UTC:20160903T183000
DTSTAMP:20260424T001019
CREATED:20160822T131441Z
LAST-MODIFIED:20160822T131441Z
UID:894-1472923800-1472927400@goodshepherdsarasota.org
SUMMARY:Saturday Night Worship
DESCRIPTION:
URL:https://goodshepherdsarasota.org/event/saturday-night-worship-61/
END:VEVENT
BEGIN:VEVENT
DTSTART;TZID=UTC:20160901T100000
DTEND;TZID=UTC:20160901T110000
DTSTAMP:20260424T001019
CREATED:20160822T131350Z
LAST-MODIFIED:20160822T131350Z
UID:893-1472724000-1472727600@goodshepherdsarasota.org
SUMMARY:LWML Meeting
DESCRIPTION:
URL:https://goodshepherdsarasota.org/event/lwml-meeting-4/
END:VEVENT
BEGIN:VEVENT
DTSTART;TZID=UTC:20160828T091500
DTEND;TZID=UTC:20160828T103000
DTSTAMP:20260424T001019
CREATED:20160822T131259Z
LAST-MODIFIED:20160822T131259Z
UID:892-1472375700-1472380200@goodshepherdsarasota.org
SUMMARY:Sunday Morning Worship
DESCRIPTION:
URL:https://goodshepherdsarasota.org/event/sunday-morning-worship-52/
END:VEVENT
BEGIN:VEVENT
DTSTART;TZID=UTC:20160827T173000
DTEND;TZID=UTC:20160827T183000
DTSTAMP:20260424T001019
CREATED:20160822T131216Z
LAST-MODIFIED:20160822T131216Z
UID:891-1472319000-1472322600@goodshepherdsarasota.org
SUMMARY:Saturday Night Worship
DESCRIPTION:
URL:https://goodshepherdsarasota.org/event/saturday-night-worship-60/
END:VEVENT
BEGIN:VEVENT
DTSTART;TZID=UTC:20160821T160000
DTEND;TZID=UTC:20160821T170000
DTSTAMP:20260424T001019
CREATED:20160808T190304Z
LAST-MODIFIED:20160808T190304Z
UID:886-1471795200-1471798800@goodshepherdsarasota.org
SUMMARY:Blessing of the Backpacks
DESCRIPTION:
URL:https://goodshepherdsarasota.org/event/blessing-of-the-backpacks-2/
END:VEVENT
BEGIN:VEVENT
DTSTART;TZID=UTC:20160821T091500
DTEND;TZID=UTC:20160821T103000
DTSTAMP:20260424T001019
CREATED:20160808T190135Z
LAST-MODIFIED:20160808T190135Z
UID:885-1471770900-1471775400@goodshepherdsarasota.org
SUMMARY:Sunday Morning Worship
DESCRIPTION:
URL:https://goodshepherdsarasota.org/event/sunday-morning-worship-51/
END:VEVENT
BEGIN:VEVENT
DTSTART;TZID=UTC:20160820T173000
DTEND;TZID=UTC:20160820T183000
DTSTAMP:20260424T001019
CREATED:20160808T190046Z
LAST-MODIFIED:20160808T190046Z
UID:884-1471714200-1471717800@goodshepherdsarasota.org
SUMMARY:Saturday Night Worship
DESCRIPTION:
URL:https://goodshepherdsarasota.org/event/saturday-night-worship-59/
END:VEVENT
BEGIN:VEVENT
DTSTART;TZID=UTC:20160816T180000
DTEND;TZID=UTC:20160816T190000
DTSTAMP:20260424T001019
CREATED:20160808T190003Z
LAST-MODIFIED:20160808T190003Z
UID:883-1471370400-1471374000@goodshepherdsarasota.org
SUMMARY:School Board Meeting
DESCRIPTION:
URL:https://goodshepherdsarasota.org/event/school-board-meeting-8/
END:VEVENT
BEGIN:VEVENT
DTSTART;TZID=UTC:20160814T091500
DTEND;TZID=UTC:20160814T103000
DTSTAMP:20260424T001019
CREATED:20160808T185800Z
LAST-MODIFIED:20160808T185800Z
UID:882-1471166100-1471170600@goodshepherdsarasota.org
SUMMARY:Sunday Morning Worship
DESCRIPTION:
URL:https://goodshepherdsarasota.org/event/sunday-morning-worship-50/
END:VEVENT
BEGIN:VEVENT
DTSTART;TZID=UTC:20160813T173000
DTEND;TZID=UTC:20160813T183000
DTSTAMP:20260424T001019
CREATED:20160808T185649Z
LAST-MODIFIED:20160808T185649Z
UID:881-1471109400-1471113000@goodshepherdsarasota.org
SUMMARY:Saturday Night Worship
DESCRIPTION:
URL:https://goodshepherdsarasota.org/event/saturday-night-worship-58/
END:VEVENT
BEGIN:VEVENT
DTSTART;TZID=UTC:20160810T183000
DTEND;TZID=UTC:20160810T193000
DTSTAMP:20260424T001019
CREATED:20160808T185532Z
LAST-MODIFIED:20160808T185532Z
UID:880-1470853800-1470857400@goodshepherdsarasota.org
SUMMARY:Youth Group meeting
DESCRIPTION:
URL:https://goodshepherdsarasota.org/event/youth-group-meeting-6/
END:VEVENT
BEGIN:VEVENT
DTSTART;VALUE=DATE:20160808
DTEND;VALUE=DATE:20160809
DTSTAMP:20260424T001019
CREATED:20160808T190342Z
LAST-MODIFIED:20160808T190342Z
UID:887-1470614400-1470700799@goodshepherdsarasota.org
SUMMARY:1st Day of School
DESCRIPTION:
URL:https://goodshepherdsarasota.org/event/1st-day-of-school/
END:VEVENT
BEGIN:VEVENT
DTSTART;TZID=UTC:20160731T091500
DTEND;TZID=UTC:20160731T103000
DTSTAMP:20260424T001019
CREATED:20160705T153949Z
LAST-MODIFIED:20160705T153949Z
UID:867-1469956500-1469961000@goodshepherdsarasota.org
SUMMARY:Sunday Morning Worship
DESCRIPTION:
URL:https://goodshepherdsarasota.org/event/sunday-morning-worship-49/
END:VEVENT
BEGIN:VEVENT
DTSTART;TZID=UTC:20160730T173000
DTEND;TZID=UTC:20160730T183000
DTSTAMP:20260424T001019
CREATED:20160705T153914Z
LAST-MODIFIED:20160705T153914Z
UID:866-1469899800-1469903400@goodshepherdsarasota.org
SUMMARY:Saturday Night Worship
DESCRIPTION:
URL:https://goodshepherdsarasota.org/event/saturday-night-worship-57/
END:VEVENT
BEGIN:VEVENT
DTSTART;TZID=UTC:20160724T091500
DTEND;TZID=UTC:20160724T103000
DTSTAMP:20260424T001019
CREATED:20160705T153815Z
LAST-MODIFIED:20160705T153815Z
UID:865-1469351700-1469356200@goodshepherdsarasota.org
SUMMARY:Sunday Morning Worship
DESCRIPTION:
URL:https://goodshepherdsarasota.org/event/sunday-morning-worship-48/
END:VEVENT
END:VCALENDAR