BEGIN:VCALENDAR
VERSION:2.0
PRODID:-//Good Shepherd Lutheran Church and School - ECPv6.11.2//NONSGML v1.0//EN
CALSCALE:GREGORIAN
METHOD:PUBLISH
X-WR-CALNAME:Good Shepherd Lutheran Church and School
X-ORIGINAL-URL:https://goodshepherdsarasota.org
X-WR-CALDESC:Events for Good Shepherd Lutheran Church and School
REFRESH-INTERVAL;VALUE=DURATION:PT1H
X-Robots-Tag:noindex
X-PUBLISHED-TTL:PT1H
BEGIN:VTIMEZONE
TZID:UTC
BEGIN:STANDARD
TZOFFSETFROM:+0000
TZOFFSETTO:+0000
TZNAME:UTC
DTSTART:20160101T000000
END:STANDARD
END:VTIMEZONE
BEGIN:VEVENT
DTSTART;TZID=UTC:20160828T091500
DTEND;TZID=UTC:20160828T103000
DTSTAMP:20260424T000850
CREATED:20160822T131259Z
LAST-MODIFIED:20160822T131259Z
UID:892-1472375700-1472380200@goodshepherdsarasota.org
SUMMARY:Sunday Morning Worship
DESCRIPTION:
URL:https://goodshepherdsarasota.org/event/sunday-morning-worship-52/
END:VEVENT
BEGIN:VEVENT
DTSTART;TZID=UTC:20160827T173000
DTEND;TZID=UTC:20160827T183000
DTSTAMP:20260424T000850
CREATED:20160822T131216Z
LAST-MODIFIED:20160822T131216Z
UID:891-1472319000-1472322600@goodshepherdsarasota.org
SUMMARY:Saturday Night Worship
DESCRIPTION:
URL:https://goodshepherdsarasota.org/event/saturday-night-worship-60/
END:VEVENT
BEGIN:VEVENT
DTSTART;TZID=UTC:20160821T160000
DTEND;TZID=UTC:20160821T170000
DTSTAMP:20260424T000850
CREATED:20160808T190304Z
LAST-MODIFIED:20160808T190304Z
UID:886-1471795200-1471798800@goodshepherdsarasota.org
SUMMARY:Blessing of the Backpacks
DESCRIPTION:
URL:https://goodshepherdsarasota.org/event/blessing-of-the-backpacks-2/
END:VEVENT
BEGIN:VEVENT
DTSTART;TZID=UTC:20160821T091500
DTEND;TZID=UTC:20160821T103000
DTSTAMP:20260424T000850
CREATED:20160808T190135Z
LAST-MODIFIED:20160808T190135Z
UID:885-1471770900-1471775400@goodshepherdsarasota.org
SUMMARY:Sunday Morning Worship
DESCRIPTION:
URL:https://goodshepherdsarasota.org/event/sunday-morning-worship-51/
END:VEVENT
BEGIN:VEVENT
DTSTART;TZID=UTC:20160820T173000
DTEND;TZID=UTC:20160820T183000
DTSTAMP:20260424T000850
CREATED:20160808T190046Z
LAST-MODIFIED:20160808T190046Z
UID:884-1471714200-1471717800@goodshepherdsarasota.org
SUMMARY:Saturday Night Worship
DESCRIPTION:
URL:https://goodshepherdsarasota.org/event/saturday-night-worship-59/
END:VEVENT
BEGIN:VEVENT
DTSTART;TZID=UTC:20160816T180000
DTEND;TZID=UTC:20160816T190000
DTSTAMP:20260424T000850
CREATED:20160808T190003Z
LAST-MODIFIED:20160808T190003Z
UID:883-1471370400-1471374000@goodshepherdsarasota.org
SUMMARY:School Board Meeting
DESCRIPTION:
URL:https://goodshepherdsarasota.org/event/school-board-meeting-8/
END:VEVENT
BEGIN:VEVENT
DTSTART;TZID=UTC:20160814T091500
DTEND;TZID=UTC:20160814T103000
DTSTAMP:20260424T000850
CREATED:20160808T185800Z
LAST-MODIFIED:20160808T185800Z
UID:882-1471166100-1471170600@goodshepherdsarasota.org
SUMMARY:Sunday Morning Worship
DESCRIPTION:
URL:https://goodshepherdsarasota.org/event/sunday-morning-worship-50/
END:VEVENT
BEGIN:VEVENT
DTSTART;TZID=UTC:20160813T173000
DTEND;TZID=UTC:20160813T183000
DTSTAMP:20260424T000850
CREATED:20160808T185649Z
LAST-MODIFIED:20160808T185649Z
UID:881-1471109400-1471113000@goodshepherdsarasota.org
SUMMARY:Saturday Night Worship
DESCRIPTION:
URL:https://goodshepherdsarasota.org/event/saturday-night-worship-58/
END:VEVENT
BEGIN:VEVENT
DTSTART;TZID=UTC:20160810T183000
DTEND;TZID=UTC:20160810T193000
DTSTAMP:20260424T000850
CREATED:20160808T185532Z
LAST-MODIFIED:20160808T185532Z
UID:880-1470853800-1470857400@goodshepherdsarasota.org
SUMMARY:Youth Group meeting
DESCRIPTION:
URL:https://goodshepherdsarasota.org/event/youth-group-meeting-6/
END:VEVENT
BEGIN:VEVENT
DTSTART;VALUE=DATE:20160808
DTEND;VALUE=DATE:20160809
DTSTAMP:20260424T000850
CREATED:20160808T190342Z
LAST-MODIFIED:20160808T190342Z
UID:887-1470614400-1470700799@goodshepherdsarasota.org
SUMMARY:1st Day of School
DESCRIPTION:
URL:https://goodshepherdsarasota.org/event/1st-day-of-school/
END:VEVENT
BEGIN:VEVENT
DTSTART;TZID=UTC:20160731T091500
DTEND;TZID=UTC:20160731T103000
DTSTAMP:20260424T000850
CREATED:20160705T153949Z
LAST-MODIFIED:20160705T153949Z
UID:867-1469956500-1469961000@goodshepherdsarasota.org
SUMMARY:Sunday Morning Worship
DESCRIPTION:
URL:https://goodshepherdsarasota.org/event/sunday-morning-worship-49/
END:VEVENT
BEGIN:VEVENT
DTSTART;TZID=UTC:20160730T173000
DTEND;TZID=UTC:20160730T183000
DTSTAMP:20260424T000850
CREATED:20160705T153914Z
LAST-MODIFIED:20160705T153914Z
UID:866-1469899800-1469903400@goodshepherdsarasota.org
SUMMARY:Saturday Night Worship
DESCRIPTION:
URL:https://goodshepherdsarasota.org/event/saturday-night-worship-57/
END:VEVENT
BEGIN:VEVENT
DTSTART;TZID=UTC:20160724T091500
DTEND;TZID=UTC:20160724T103000
DTSTAMP:20260424T000850
CREATED:20160705T153815Z
LAST-MODIFIED:20160705T153815Z
UID:865-1469351700-1469356200@goodshepherdsarasota.org
SUMMARY:Sunday Morning Worship
DESCRIPTION:
URL:https://goodshepherdsarasota.org/event/sunday-morning-worship-48/
END:VEVENT
BEGIN:VEVENT
DTSTART;TZID=UTC:20160723T173000
DTEND;TZID=UTC:20160723T183000
DTSTAMP:20260424T000850
CREATED:20160705T153728Z
LAST-MODIFIED:20160705T153728Z
UID:864-1469295000-1469298600@goodshepherdsarasota.org
SUMMARY:Saturday Night Worship
DESCRIPTION:
URL:https://goodshepherdsarasota.org/event/saturday-night-worship-56/
END:VEVENT
BEGIN:VEVENT
DTSTART;VALUE=DATE:20160721
DTEND;VALUE=DATE:20160722
DTSTAMP:20260424T000850
CREATED:20160705T154139Z
LAST-MODIFIED:20160705T154223Z
UID:868-1469059200-1469145599@goodshepherdsarasota.org
SUMMARY:Youth group returns from National Youth Gathering
DESCRIPTION:Return to Sarasota around 4:00 PM.
URL:https://goodshepherdsarasota.org/event/youth-group-returns-from-national-youth-gathering/
END:VEVENT
BEGIN:VEVENT
DTSTART;TZID=UTC:20160717T091500
DTEND;TZID=UTC:20160717T103000
DTSTAMP:20260424T000850
CREATED:20160705T153640Z
LAST-MODIFIED:20160705T153640Z
UID:863-1468746900-1468751400@goodshepherdsarasota.org
SUMMARY:Sunday morning worship
DESCRIPTION:
URL:https://goodshepherdsarasota.org/event/sunday-morning-worship-47/
END:VEVENT
BEGIN:VEVENT
DTSTART;TZID=UTC:20160716T173000
DTEND;TZID=UTC:20160716T183000
DTSTAMP:20260424T000850
CREATED:20160705T153556Z
LAST-MODIFIED:20160705T153556Z
UID:862-1468690200-1468693800@goodshepherdsarasota.org
SUMMARY:Saturday Night Worship
DESCRIPTION:
URL:https://goodshepherdsarasota.org/event/saturday-night-worship-55/
END:VEVENT
BEGIN:VEVENT
DTSTART;VALUE=DATE:20160715
DTEND;VALUE=DATE:20160716
DTSTAMP:20260424T000850
CREATED:20160705T153517Z
LAST-MODIFIED:20160705T153517Z
UID:861-1468540800-1468627199@goodshepherdsarasota.org
SUMMARY:Youth group leaves for National Youth Gathering
DESCRIPTION:
URL:https://goodshepherdsarasota.org/event/youth-group-leaves-for-national-youth-gathering/
END:VEVENT
BEGIN:VEVENT
DTSTART;TZID=UTC:20160711T180000
DTEND;TZID=UTC:20160711T190000
DTSTAMP:20260424T000850
CREATED:20160705T153436Z
LAST-MODIFIED:20160705T153436Z
UID:860-1468260000-1468263600@goodshepherdsarasota.org
SUMMARY:Elders Meeting
DESCRIPTION:
URL:https://goodshepherdsarasota.org/event/elders-meeting-7/
END:VEVENT
BEGIN:VEVENT
DTSTART;TZID=UTC:20160710T091500
DTEND;TZID=UTC:20160710T103000
DTSTAMP:20260424T000850
CREATED:20160705T153407Z
LAST-MODIFIED:20160705T153407Z
UID:859-1468142100-1468146600@goodshepherdsarasota.org
SUMMARY:Sunday morning worship
DESCRIPTION:
URL:https://goodshepherdsarasota.org/event/sunday-morning-worship-46/
END:VEVENT
BEGIN:VEVENT
DTSTART;TZID=UTC:20160709T173000
DTEND;TZID=UTC:20160709T183000
DTSTAMP:20260424T000850
CREATED:20160705T153322Z
LAST-MODIFIED:20160705T153322Z
UID:858-1468085400-1468089000@goodshepherdsarasota.org
SUMMARY:Saturday Night Worship
DESCRIPTION:
URL:https://goodshepherdsarasota.org/event/saturday-night-worship-54/
END:VEVENT
BEGIN:VEVENT
DTSTART;TZID=UTC:20160705T180000
DTEND;TZID=UTC:20160705T190000
DTSTAMP:20260424T000850
CREATED:20160705T153228Z
LAST-MODIFIED:20160705T153228Z
UID:857-1467741600-1467745200@goodshepherdsarasota.org
SUMMARY:Youth Group meeting
DESCRIPTION:
URL:https://goodshepherdsarasota.org/event/youth-group-meeting-5/
END:VEVENT
BEGIN:VEVENT
DTSTART;TZID=UTC:20160629T123000
DTEND;TZID=UTC:20160629T153000
DTSTAMP:20260424T000850
CREATED:20160531T185213Z
LAST-MODIFIED:20160531T185213Z
UID:847-1467203400-1467214200@goodshepherdsarasota.org
SUMMARY:Vacation Bible School
DESCRIPTION:“Under the Sea – Overboard in God’s Love!”
URL:https://goodshepherdsarasota.org/event/vacation-bible-school-3/
END:VEVENT
BEGIN:VEVENT
DTSTART;TZID=UTC:20160628T123000
DTEND;TZID=UTC:20160628T153000
DTSTAMP:20260424T000850
CREATED:20160531T185131Z
LAST-MODIFIED:20160531T185131Z
UID:846-1467117000-1467127800@goodshepherdsarasota.org
SUMMARY:Vacation Bible School
DESCRIPTION:“Under the Sea – Overboard in God’s Love!”
URL:https://goodshepherdsarasota.org/event/vacation-bible-school-2/
END:VEVENT
BEGIN:VEVENT
DTSTART;TZID=UTC:20160627T123000
DTEND;TZID=UTC:20160627T153000
DTSTAMP:20260424T000850
CREATED:20160531T185036Z
LAST-MODIFIED:20160531T185036Z
UID:845-1467030600-1467041400@goodshepherdsarasota.org
SUMMARY:Vacation Bible School
DESCRIPTION:“Under the Sea – Overboard in God’s Love!”
URL:https://goodshepherdsarasota.org/event/vacation-bible-school/
END:VEVENT
BEGIN:VEVENT
DTSTART;TZID=UTC:20160626T091500
DTEND;TZID=UTC:20160626T103000
DTSTAMP:20260424T000850
CREATED:20160531T184926Z
LAST-MODIFIED:20160531T184926Z
UID:844-1466932500-1466937000@goodshepherdsarasota.org
SUMMARY:Sunday Morning Worship
DESCRIPTION:
URL:https://goodshepherdsarasota.org/event/sunday-morning-worship-45/
END:VEVENT
BEGIN:VEVENT
DTSTART;TZID=UTC:20160625T173000
DTEND;TZID=UTC:20160625T183000
DTSTAMP:20260424T000850
CREATED:20160531T184827Z
LAST-MODIFIED:20160531T184827Z
UID:843-1466875800-1466879400@goodshepherdsarasota.org
SUMMARY:Saturday Night Worship
DESCRIPTION:
URL:https://goodshepherdsarasota.org/event/saturday-night-worship-53/
END:VEVENT
BEGIN:VEVENT
DTSTART;TZID=UTC:20160621T190000
DTEND;TZID=UTC:20160621T200000
DTSTAMP:20260424T000850
CREATED:20160531T184732Z
LAST-MODIFIED:20160531T184732Z
UID:842-1466535600-1466539200@goodshepherdsarasota.org
SUMMARY:Altar Guild Meeting
DESCRIPTION:
URL:https://goodshepherdsarasota.org/event/altar-guild-meeting-8/
END:VEVENT
BEGIN:VEVENT
DTSTART;TZID=UTC:20160621T180000
DTEND;TZID=UTC:20160621T193000
DTSTAMP:20260424T000850
CREATED:20160531T184704Z
LAST-MODIFIED:20160531T184704Z
UID:841-1466532000-1466537400@goodshepherdsarasota.org
SUMMARY:Church Council Meeting
DESCRIPTION:
URL:https://goodshepherdsarasota.org/event/church-council-meeting-7/
END:VEVENT
BEGIN:VEVENT
DTSTART;TZID=UTC:20160619T091500
DTEND;TZID=UTC:20160619T103000
DTSTAMP:20260424T000850
CREATED:20160531T184628Z
LAST-MODIFIED:20160531T184628Z
UID:840-1466327700-1466332200@goodshepherdsarasota.org
SUMMARY:Sunday Morning Worship
DESCRIPTION:
URL:https://goodshepherdsarasota.org/event/sunday-morning-worship-44/
END:VEVENT
END:VCALENDAR