BEGIN:VCALENDAR
VERSION:2.0
PRODID:-//Good Shepherd Lutheran Church and School - ECPv6.11.2//NONSGML v1.0//EN
CALSCALE:GREGORIAN
METHOD:PUBLISH
X-WR-CALNAME:Good Shepherd Lutheran Church and School
X-ORIGINAL-URL:https://goodshepherdsarasota.org
X-WR-CALDESC:Events for Good Shepherd Lutheran Church and School
REFRESH-INTERVAL;VALUE=DURATION:PT1H
X-Robots-Tag:noindex
X-PUBLISHED-TTL:PT1H
BEGIN:VTIMEZONE
TZID:UTC
BEGIN:STANDARD
TZOFFSETFROM:+0000
TZOFFSETTO:+0000
TZNAME:UTC
DTSTART:20160101T000000
END:STANDARD
END:VTIMEZONE
BEGIN:VEVENT
DTSTART;TZID=UTC:20160515T091500
DTEND;TZID=UTC:20160515T103000
DTSTAMP:20260424T160128
CREATED:20160503T190252Z
LAST-MODIFIED:20160503T190252Z
UID:811-1463303700-1463308200@goodshepherdsarasota.org
SUMMARY:Sunday morning worship
DESCRIPTION:Youth group pie auction after worship!
URL:https://goodshepherdsarasota.org/event/sunday-morning-worship-39/
END:VEVENT
BEGIN:VEVENT
DTSTART;TZID=UTC:20160514T173000
DTEND;TZID=UTC:20160514T183000
DTSTAMP:20260424T160128
CREATED:20160503T190159Z
LAST-MODIFIED:20160503T190159Z
UID:810-1463247000-1463250600@goodshepherdsarasota.org
SUMMARY:Saturday night worship
DESCRIPTION:
URL:https://goodshepherdsarasota.org/event/saturday-night-worship-47/
END:VEVENT
BEGIN:VEVENT
DTSTART;TZID=UTC:20160511T103000
DTEND;TZID=UTC:20160511T113000
DTSTAMP:20260424T160128
CREATED:20160503T190114Z
LAST-MODIFIED:20160503T190115Z
UID:809-1462962600-1462966200@goodshepherdsarasota.org
SUMMARY:Wednesday morning bible study
DESCRIPTION:
URL:https://goodshepherdsarasota.org/event/wednesday-morning-bible-study-42/
END:VEVENT
BEGIN:VEVENT
DTSTART;TZID=UTC:20160510T180000
DTEND;TZID=UTC:20160510T190000
DTSTAMP:20260424T160128
CREATED:20160503T190038Z
LAST-MODIFIED:20160503T190038Z
UID:808-1462903200-1462906800@goodshepherdsarasota.org
SUMMARY:Youth Group meeting
DESCRIPTION:
URL:https://goodshepherdsarasota.org/event/youth-group-meeting-3/
END:VEVENT
BEGIN:VEVENT
DTSTART;TZID=UTC:20160509T180000
DTEND;TZID=UTC:20160509T190000
DTSTAMP:20260424T160128
CREATED:20160503T185952Z
LAST-MODIFIED:20160503T185952Z
UID:807-1462816800-1462820400@goodshepherdsarasota.org
SUMMARY:Elder's Meeting
DESCRIPTION:
URL:https://goodshepherdsarasota.org/event/elders-meeting-6/
END:VEVENT
BEGIN:VEVENT
DTSTART;TZID=UTC:20160508T091500
DTEND;TZID=UTC:20160508T103000
DTSTAMP:20260424T160128
CREATED:20160503T185921Z
LAST-MODIFIED:20160503T185921Z
UID:806-1462698900-1462703400@goodshepherdsarasota.org
SUMMARY:Sunday morning worship
DESCRIPTION:
URL:https://goodshepherdsarasota.org/event/sunday-morning-worship-38/
END:VEVENT
BEGIN:VEVENT
DTSTART;TZID=UTC:20160507T173000
DTEND;TZID=UTC:20160507T183000
DTSTAMP:20260424T160128
CREATED:20160503T185838Z
LAST-MODIFIED:20160503T185838Z
UID:805-1462642200-1462645800@goodshepherdsarasota.org
SUMMARY:Saturday night worship
DESCRIPTION:
URL:https://goodshepherdsarasota.org/event/saturday-night-worship-46/
END:VEVENT
BEGIN:VEVENT
DTSTART;TZID=UTC:20160507T090000
DTEND;TZID=UTC:20160507T130000
DTSTAMP:20260424T160128
CREATED:20160503T185804Z
LAST-MODIFIED:20160503T185804Z
UID:804-1462611600-1462626000@goodshepherdsarasota.org
SUMMARY:Visioning Workshop
DESCRIPTION:
URL:https://goodshepherdsarasota.org/event/visioning-workshop/
END:VEVENT
BEGIN:VEVENT
DTSTART;TZID=UTC:20160505T100000
DTEND;TZID=UTC:20160505T110000
DTSTAMP:20260424T160128
CREATED:20160503T185730Z
LAST-MODIFIED:20160503T185730Z
UID:803-1462442400-1462446000@goodshepherdsarasota.org
SUMMARY:LWML Meeting
DESCRIPTION:
URL:https://goodshepherdsarasota.org/event/lwml-meeting-3/
END:VEVENT
BEGIN:VEVENT
DTSTART;TZID=UTC:20160504T103000
DTEND;TZID=UTC:20160504T113000
DTSTAMP:20260424T160128
CREATED:20160503T185658Z
LAST-MODIFIED:20160503T185658Z
UID:802-1462357800-1462361400@goodshepherdsarasota.org
SUMMARY:Wednesday morning Bible study
DESCRIPTION:
URL:https://goodshepherdsarasota.org/event/wednesday-morning-bible-study-41/
END:VEVENT
BEGIN:VEVENT
DTSTART;TZID=UTC:20160501T091500
DTEND;TZID=UTC:20160501T103000
DTSTAMP:20260424T160128
CREATED:20160405T232723Z
LAST-MODIFIED:20160405T232723Z
UID:791-1462094100-1462098600@goodshepherdsarasota.org
SUMMARY:Sunday Morning Worship
DESCRIPTION:Anniversary Sunday celebration
URL:https://goodshepherdsarasota.org/event/sunday-morning-worship-37/
END:VEVENT
BEGIN:VEVENT
DTSTART;TZID=UTC:20160430T173000
DTEND;TZID=UTC:20160430T183000
DTSTAMP:20260424T160128
CREATED:20160405T232634Z
LAST-MODIFIED:20160405T232634Z
UID:790-1462037400-1462041000@goodshepherdsarasota.org
SUMMARY:Saturday Night Worship
DESCRIPTION:
URL:https://goodshepherdsarasota.org/event/saturday-night-worship-45/
END:VEVENT
BEGIN:VEVENT
DTSTART;TZID=UTC:20160427T180000
DTEND;TZID=UTC:20160427T200000
DTSTAMP:20260424T160128
CREATED:20160405T232518Z
LAST-MODIFIED:20160405T232518Z
UID:788-1461780000-1461787200@goodshepherdsarasota.org
SUMMARY:Church Council meeting
DESCRIPTION:
URL:https://goodshepherdsarasota.org/event/church-council-meeting-6/
END:VEVENT
BEGIN:VEVENT
DTSTART;TZID=UTC:20160427T103000
DTEND;TZID=UTC:20160427T113000
DTSTAMP:20260424T160128
CREATED:20160405T232554Z
LAST-MODIFIED:20160405T232554Z
UID:789-1461753000-1461756600@goodshepherdsarasota.org
SUMMARY:Wednesday Morning Bible Study
DESCRIPTION:
URL:https://goodshepherdsarasota.org/event/wednesday-morning-bible-study-40/
END:VEVENT
BEGIN:VEVENT
DTSTART;TZID=UTC:20160426T183000
DTEND;TZID=UTC:20160426T193000
DTSTAMP:20260424T160128
CREATED:20160405T232450Z
LAST-MODIFIED:20160405T232450Z
UID:787-1461695400-1461699000@goodshepherdsarasota.org
SUMMARY:School Board Meeting
DESCRIPTION:
URL:https://goodshepherdsarasota.org/event/school-board-meeting-7/
END:VEVENT
BEGIN:VEVENT
DTSTART;TZID=UTC:20160424T091500
DTEND;TZID=UTC:20160424T103000
DTSTAMP:20260424T160128
CREATED:20160405T223242Z
LAST-MODIFIED:20160405T223242Z
UID:786-1461489300-1461493800@goodshepherdsarasota.org
SUMMARY:Sunday Morning Worship
DESCRIPTION:
URL:https://goodshepherdsarasota.org/event/sunday-morning-worship-36/
END:VEVENT
BEGIN:VEVENT
DTSTART;TZID=UTC:20160423T173000
DTEND;TZID=UTC:20160423T183000
DTSTAMP:20260424T160128
CREATED:20160405T223201Z
LAST-MODIFIED:20160405T223201Z
UID:785-1461432600-1461436200@goodshepherdsarasota.org
SUMMARY:Saturday Night Worship
DESCRIPTION:
URL:https://goodshepherdsarasota.org/event/saturday-night-worship-44/
END:VEVENT
BEGIN:VEVENT
DTSTART;TZID=UTC:20160420T103000
DTEND;TZID=UTC:20160420T113000
DTSTAMP:20260424T160128
CREATED:20160405T223125Z
LAST-MODIFIED:20160405T223125Z
UID:784-1461148200-1461151800@goodshepherdsarasota.org
SUMMARY:Wednesday Morning Bible Study
DESCRIPTION:
URL:https://goodshepherdsarasota.org/event/wednesday-morning-bible-study-39/
END:VEVENT
BEGIN:VEVENT
DTSTART;TZID=UTC:20160419T190000
DTEND;TZID=UTC:20160419T200000
DTSTAMP:20260424T160128
CREATED:20160405T223057Z
LAST-MODIFIED:20160405T223057Z
UID:783-1461092400-1461096000@goodshepherdsarasota.org
SUMMARY:Altar Guild Meeting
DESCRIPTION:
URL:https://goodshepherdsarasota.org/event/altar-guild-meeting-7/
END:VEVENT
BEGIN:VEVENT
DTSTART;TZID=UTC:20160417T130000
DTEND;TZID=UTC:20160417T150000
DTSTAMP:20260424T160128
CREATED:20160405T223027Z
LAST-MODIFIED:20160405T223027Z
UID:782-1460898000-1460905200@goodshepherdsarasota.org
SUMMARY:German Fellowship Dinner at Heinrich's
DESCRIPTION:
URL:https://goodshepherdsarasota.org/event/german-fellowship-dinner-at-heinrichs/
END:VEVENT
BEGIN:VEVENT
DTSTART;TZID=UTC:20160417T091500
DTEND;TZID=UTC:20160417T103000
DTSTAMP:20260424T160128
CREATED:20160405T222956Z
LAST-MODIFIED:20160405T222956Z
UID:781-1460884500-1460889000@goodshepherdsarasota.org
SUMMARY:Sunday Morning Worship
DESCRIPTION:
URL:https://goodshepherdsarasota.org/event/sunday-morning-worship-35/
END:VEVENT
BEGIN:VEVENT
DTSTART;TZID=UTC:20160416T173000
DTEND;TZID=UTC:20160416T183000
DTSTAMP:20260424T160128
CREATED:20160405T222840Z
LAST-MODIFIED:20160405T222840Z
UID:779-1460827800-1460831400@goodshepherdsarasota.org
SUMMARY:Saturday Night Worship
DESCRIPTION:
URL:https://goodshepherdsarasota.org/event/saturday-night-worship-43/
END:VEVENT
BEGIN:VEVENT
DTSTART;TZID=UTC:20160416T160000
DTEND;TZID=UTC:20160416T160000
DTSTAMP:20260424T160128
CREATED:20160405T222923Z
LAST-MODIFIED:20160405T222923Z
UID:780-1460822400-1460822400@goodshepherdsarasota.org
SUMMARY:Relay for Life Event
DESCRIPTION:
URL:https://goodshepherdsarasota.org/event/relay-for-life-event/
END:VEVENT
BEGIN:VEVENT
DTSTART;TZID=UTC:20160413T183000
DTEND;TZID=UTC:20160413T193000
DTSTAMP:20260424T160128
CREATED:20160405T222759Z
LAST-MODIFIED:20160405T222759Z
UID:778-1460572200-1460575800@goodshepherdsarasota.org
SUMMARY:GSLCS Youth Group Meeting
DESCRIPTION:
URL:https://goodshepherdsarasota.org/event/gslcs-youth-group-meeting-2/
END:VEVENT
BEGIN:VEVENT
DTSTART;TZID=UTC:20160413T103000
DTEND;TZID=UTC:20160413T113000
DTSTAMP:20260424T160128
CREATED:20160405T222719Z
LAST-MODIFIED:20160405T222719Z
UID:777-1460543400-1460547000@goodshepherdsarasota.org
SUMMARY:Wednesday Morning Bible Study
DESCRIPTION:
URL:https://goodshepherdsarasota.org/event/wednesday-morning-bible-study-38/
END:VEVENT
BEGIN:VEVENT
DTSTART;TZID=UTC:20160410T170000
DTEND;TZID=UTC:20160410T180000
DTSTAMP:20260424T160128
CREATED:20160405T222636Z
LAST-MODIFIED:20160405T222636Z
UID:776-1460307600-1460311200@goodshepherdsarasota.org
SUMMARY:Prayer Walk
DESCRIPTION:
URL:https://goodshepherdsarasota.org/event/prayer-walk/
END:VEVENT
BEGIN:VEVENT
DTSTART;TZID=UTC:20160410T091500
DTEND;TZID=UTC:20160410T103000
DTSTAMP:20260424T160128
CREATED:20160405T222611Z
LAST-MODIFIED:20160405T222611Z
UID:775-1460279700-1460284200@goodshepherdsarasota.org
SUMMARY:Sunday Morning Worship
DESCRIPTION:
URL:https://goodshepherdsarasota.org/event/sunday-morning-worship-34/
END:VEVENT
BEGIN:VEVENT
DTSTART;TZID=UTC:20160409T173000
DTEND;TZID=UTC:20160409T183000
DTSTAMP:20260424T160128
CREATED:20160405T222530Z
LAST-MODIFIED:20160405T222530Z
UID:774-1460223000-1460226600@goodshepherdsarasota.org
SUMMARY:Saturday Night Worship
DESCRIPTION:
URL:https://goodshepherdsarasota.org/event/saturday-night-worship-42/
END:VEVENT
BEGIN:VEVENT
DTSTART;TZID=UTC:20160407T190000
DTEND;TZID=UTC:20160407T200000
DTSTAMP:20260424T160128
CREATED:20160405T222453Z
LAST-MODIFIED:20160405T222453Z
UID:773-1460055600-1460059200@goodshepherdsarasota.org
SUMMARY:Choir Rehearsal
DESCRIPTION:
URL:https://goodshepherdsarasota.org/event/choir-rehearsal-8/
END:VEVENT
BEGIN:VEVENT
DTSTART;TZID=UTC:20160406T103000
DTEND;TZID=UTC:20160406T113000
DTSTAMP:20260424T160128
CREATED:20160405T222420Z
LAST-MODIFIED:20160405T222420Z
UID:772-1459938600-1459942200@goodshepherdsarasota.org
SUMMARY:Wednesday morning Bible Study
DESCRIPTION:
URL:https://goodshepherdsarasota.org/event/wednesday-morning-bible-study-37/
END:VEVENT
END:VCALENDAR