BEGIN:VCALENDAR
VERSION:2.0
PRODID:-//Good Shepherd Lutheran Church and School - ECPv6.11.2//NONSGML v1.0//EN
CALSCALE:GREGORIAN
METHOD:PUBLISH
X-WR-CALNAME:Good Shepherd Lutheran Church and School
X-ORIGINAL-URL:https://goodshepherdsarasota.org
X-WR-CALDESC:Events for Good Shepherd Lutheran Church and School
REFRESH-INTERVAL;VALUE=DURATION:PT1H
X-Robots-Tag:noindex
X-PUBLISHED-TTL:PT1H
BEGIN:VTIMEZONE
TZID:UTC
BEGIN:STANDARD
TZOFFSETFROM:+0000
TZOFFSETTO:+0000
TZNAME:UTC
DTSTART:20250101T000000
END:STANDARD
END:VTIMEZONE
BEGIN:VEVENT
DTSTART;TZID=UTC:20251231T174500
DTEND;TZID=UTC:20251231T183000
DTSTAMP:20260422T004453
CREATED:20251231T195530Z
LAST-MODIFIED:20260107T155611Z
UID:3354-1767203100-1767205800@goodshepherdsarasota.org
SUMMARY:School Board Mtg 5:45 PM
DESCRIPTION:
URL:https://goodshepherdsarasota.org/event/school-board-mtg-545-pm-3/
END:VEVENT
BEGIN:VEVENT
DTSTART;TZID=UTC:20251224T190000
DTEND;TZID=UTC:20251224T203000
DTSTAMP:20260422T004453
CREATED:20251103T171826Z
LAST-MODIFIED:20251103T171826Z
UID:3262-1766602800-1766608200@goodshepherdsarasota.org
SUMMARY:Christmas Eve Candlelight Service " Wrapped Presents"
DESCRIPTION:
URL:https://goodshepherdsarasota.org/event/christmas-eve-candlelight-service-wrapped-presents/
END:VEVENT
BEGIN:VEVENT
DTSTART;VALUE=DATE:20251222
DTEND;VALUE=DATE:20260106
DTSTAMP:20260422T004453
CREATED:20250821T152802Z
LAST-MODIFIED:20250821T152802Z
UID:3130-1766361600-1767657599@goodshepherdsarasota.org
SUMMARY:Christmas Break SCHOOL CLOSED
DESCRIPTION:
URL:https://goodshepherdsarasota.org/event/christmas-break-school-closed-2/
END:VEVENT
BEGIN:VEVENT
DTSTART;TZID=UTC:20251217T190000
DTEND;TZID=UTC:20251217T200000
DTSTAMP:20260422T004453
CREATED:20251103T171653Z
LAST-MODIFIED:20251103T171653Z
UID:3260-1765998000-1766001600@goodshepherdsarasota.org
SUMMARY:Advent Service " Creche"
DESCRIPTION:
URL:https://goodshepherdsarasota.org/event/advent-service-creche/
END:VEVENT
BEGIN:VEVENT
DTSTART;TZID=UTC:20251216T180000
DTEND;TZID=UTC:20251216T190000
DTSTAMP:20260422T004453
CREATED:20251217T170528Z
LAST-MODIFIED:20251217T170528Z
UID:3326-1765908000-1765911600@goodshepherdsarasota.org
SUMMARY:Church Council Meeting
DESCRIPTION:
URL:https://goodshepherdsarasota.org/event/church-council-meeting-18/
END:VEVENT
BEGIN:VEVENT
DTSTART;TZID=UTC:20251214T140000
DTEND;TZID=UTC:20251214T160000
DTSTAMP:20260422T004453
CREATED:20251103T172117Z
LAST-MODIFIED:20251103T172117Z
UID:3264-1765720800-1765728000@goodshepherdsarasota.org
SUMMARY:Advent By Candlelight
DESCRIPTION:Hold the date ladies…. \nSunday\, December 14th 2pm-4pm \nAdvent by Candlelight \nFellowship Hall \nMore details to follow Contact Co-chairs \nCheryl Anderson or Wanda Bartholomew \n  \n 
URL:https://goodshepherdsarasota.org/event/advent-by-candlelight/
END:VEVENT
BEGIN:VEVENT
DTSTART;TZID=UTC:20251212T093000
DTEND;TZID=UTC:20251212T113000
DTSTAMP:20260422T004453
CREATED:20250821T152701Z
LAST-MODIFIED:20250821T155630Z
UID:3128-1765531800-1765539000@goodshepherdsarasota.org
SUMMARY:Christmas Programs VPK
DESCRIPTION:
URL:https://goodshepherdsarasota.org/event/christmas-programs-vpk/
END:VEVENT
BEGIN:VEVENT
DTSTART;TZID=UTC:20251211T093000
DTEND;TZID=UTC:20251211T103000
DTSTAMP:20260422T004453
CREATED:20250821T152201Z
LAST-MODIFIED:20250821T152201Z
UID:3126-1765445400-1765449000@goodshepherdsarasota.org
SUMMARY:Christmas Programs 2/3's
DESCRIPTION:
URL:https://goodshepherdsarasota.org/event/christmas-programs-2-3s/
END:VEVENT
BEGIN:VEVENT
DTSTART;TZID=UTC:20251210T190000
DTEND;TZID=UTC:20251210T200000
DTSTAMP:20260422T004453
CREATED:20251103T171410Z
LAST-MODIFIED:20251103T171410Z
UID:3258-1765393200-1765396800@goodshepherdsarasota.org
SUMMARY:Advent Service "Lights"
DESCRIPTION:
URL:https://goodshepherdsarasota.org/event/advent-service-lights/
END:VEVENT
BEGIN:VEVENT
DTSTART;VALUE=DATE:20251206
DTEND;VALUE=DATE:20251207
DTSTAMP:20260422T004453
CREATED:20250821T154232Z
LAST-MODIFIED:20250821T154232Z
UID:3136-1764979200-1765065599@goodshepherdsarasota.org
SUMMARY:Community Sing-A-Longs
DESCRIPTION:
URL:https://goodshepherdsarasota.org/event/community-sing-a-longs/
END:VEVENT
BEGIN:VEVENT
DTSTART;TZID=UTC:20251205T180000
DTEND;TZID=UTC:20251205T200000
DTSTAMP:20260422T004453
CREATED:20250821T152007Z
LAST-MODIFIED:20250821T155057Z
UID:3124-1764957600-1764964800@goodshepherdsarasota.org
SUMMARY:Santa Visit L-Z
DESCRIPTION:
URL:https://goodshepherdsarasota.org/event/santa-visit-l-z/
END:VEVENT
BEGIN:VEVENT
DTSTART;TZID=UTC:20251204T180000
DTEND;TZID=UTC:20251204T200000
DTSTAMP:20260422T004453
CREATED:20250821T151910Z
LAST-MODIFIED:20250821T155133Z
UID:3122-1764871200-1764878400@goodshepherdsarasota.org
SUMMARY:Santa Visit Last Names A-K
DESCRIPTION:
URL:https://goodshepherdsarasota.org/event/santa-visit-last-names-a-k-3/
END:VEVENT
BEGIN:VEVENT
DTSTART;TZID=UTC:20251203T080000
DTEND;TZID=UTC:20251203T170000
DTSTAMP:20260422T004453
CREATED:20251103T171258Z
LAST-MODIFIED:20251103T171258Z
UID:3256-1764748800-1764781200@goodshepherdsarasota.org
SUMMARY:Advent Midweek Service "Evergreens"
DESCRIPTION:
URL:https://goodshepherdsarasota.org/event/advent-midweek-service-evergreens/
END:VEVENT
BEGIN:VEVENT
DTSTART;TZID=UTC:20251202T190000
DTEND;TZID=UTC:20251202T200000
DTSTAMP:20260422T004453
CREATED:20251217T170649Z
LAST-MODIFIED:20251217T170649Z
UID:3328-1764702000-1764705600@goodshepherdsarasota.org
SUMMARY:Serenoa HOA Meeting
DESCRIPTION:
URL:https://goodshepherdsarasota.org/event/serenoa-hoa-meeting-2/
END:VEVENT
BEGIN:VEVENT
DTSTART;TZID=UTC:20251202T190000
DTEND;TZID=UTC:20251202T200000
DTSTAMP:20260422T004453
CREATED:20251103T170210Z
LAST-MODIFIED:20251103T170210Z
UID:3254-1764702000-1764705600@goodshepherdsarasota.org
SUMMARY:Serenoa HOA Meeting
DESCRIPTION:
URL:https://goodshepherdsarasota.org/event/serenoa-hoa-meeting/
END:VEVENT
BEGIN:VEVENT
DTSTART;TZID=UTC:20251130T093000
DTEND;TZID=UTC:20251130T100000
DTSTAMP:20260422T004453
CREATED:20251103T170030Z
LAST-MODIFIED:20251103T170030Z
UID:3252-1764495000-1764496800@goodshepherdsarasota.org
SUMMARY:Voter's Assembly Meting
DESCRIPTION:
URL:https://goodshepherdsarasota.org/event/voters-assembly-meting/
END:VEVENT
BEGIN:VEVENT
DTSTART;TZID=UTC:20251129T173000
DTEND;TZID=UTC:20251129T180000
DTSTAMP:20260422T004453
CREATED:20251103T165938Z
LAST-MODIFIED:20251103T165938Z
UID:3250-1764437400-1764439200@goodshepherdsarasota.org
SUMMARY:Voter's Assembly Meeting
DESCRIPTION:
URL:https://goodshepherdsarasota.org/event/voters-assembly-meeting/
END:VEVENT
BEGIN:VEVENT
DTSTART;TZID=UTC:20251126T190000
DTEND;TZID=UTC:20251126T200000
DTSTAMP:20260422T004453
CREATED:20251103T162847Z
LAST-MODIFIED:20251103T162847Z
UID:3248-1764183600-1764187200@goodshepherdsarasota.org
SUMMARY:Thanksgiving Eve Service
DESCRIPTION:
URL:https://goodshepherdsarasota.org/event/thanksgiving-eve-service-2/
END:VEVENT
BEGIN:VEVENT
DTSTART;TZID=UTC:20251126T100000
DTEND;TZID=UTC:20251126T110000
DTSTAMP:20260422T004453
CREATED:20251103T173626Z
LAST-MODIFIED:20251103T173626Z
UID:3272-1764151200-1764154800@goodshepherdsarasota.org
SUMMARY:Bible Study
DESCRIPTION:
URL:https://goodshepherdsarasota.org/event/bible-study-6/
END:VEVENT
BEGIN:VEVENT
DTSTART;VALUE=DATE:20251124
DTEND;VALUE=DATE:20251129
DTSTAMP:20260422T004453
CREATED:20250821T151745Z
LAST-MODIFIED:20250821T151745Z
UID:3120-1763942400-1764374399@goodshepherdsarasota.org
SUMMARY:Thanksgiving Break SCHOOL CLOSED
DESCRIPTION:
URL:https://goodshepherdsarasota.org/event/thanksgiving-break-school-closed/
END:VEVENT
BEGIN:VEVENT
DTSTART;TZID=UTC:20251120T103000
DTEND;TZID=UTC:20251120T110000
DTSTAMP:20260422T004453
CREATED:20250821T151658Z
LAST-MODIFIED:20250821T151658Z
UID:3118-1763634600-1763636400@goodshepherdsarasota.org
SUMMARY:Thanksgiving Program VPK
DESCRIPTION:
URL:https://goodshepherdsarasota.org/event/thanksgiving-program-vpk/
END:VEVENT
BEGIN:VEVENT
DTSTART;TZID=UTC:20251120T093000
DTEND;TZID=UTC:20251120T100000
DTSTAMP:20260422T004453
CREATED:20250821T151617Z
LAST-MODIFIED:20250821T151617Z
UID:3116-1763631000-1763632800@goodshepherdsarasota.org
SUMMARY:Thanksgiving Program 2/3's
DESCRIPTION:
URL:https://goodshepherdsarasota.org/event/thanksgiving-program-2-3s/
END:VEVENT
BEGIN:VEVENT
DTSTART;TZID=UTC:20251119T100000
DTEND;TZID=UTC:20251119T110000
DTSTAMP:20260422T004453
CREATED:20251103T173557Z
LAST-MODIFIED:20251103T173557Z
UID:3270-1763546400-1763550000@goodshepherdsarasota.org
SUMMARY:Bible Study
DESCRIPTION:
URL:https://goodshepherdsarasota.org/event/bible-study-5/
END:VEVENT
BEGIN:VEVENT
DTSTART;TZID=UTC:20251117T180000
DTEND;TZID=UTC:20251117T190000
DTSTAMP:20260422T004453
CREATED:20251103T145131Z
LAST-MODIFIED:20251103T145131Z
UID:3087-1763402400-1763406000@goodshepherdsarasota.org
SUMMARY:Church Council Mtg
DESCRIPTION:
URL:https://goodshepherdsarasota.org/event/church-council-mtg-2/
END:VEVENT
BEGIN:VEVENT
DTSTART;TZID=UTC:20251113T190000
DTEND;TZID=UTC:20251113T200000
DTSTAMP:20260422T004453
CREATED:20251030T145013Z
LAST-MODIFIED:20251030T150840Z
UID:3221-1763060400-1763064000@goodshepherdsarasota.org
SUMMARY:LWML Crafting For Christmas
DESCRIPTION:
URL:https://goodshepherdsarasota.org/event/school-board-mtg-545-pm-2/
END:VEVENT
BEGIN:VEVENT
DTSTART;TZID=UTC:20251113T100000
DTEND;TZID=UTC:20251113T110000
DTSTAMP:20260422T004453
CREATED:20251103T172303Z
LAST-MODIFIED:20251103T172303Z
UID:3266-1763028000-1763031600@goodshepherdsarasota.org
SUMMARY:LWML Crafting for Christmas
DESCRIPTION:Join us on Thursday\, November 13 as LWML gathers to complete Christmas crafts for our pre-school students and teachers. \nMorning Session: 10:00 AM in the Altar Guild Room \nEvening Session: 7:00 PM in Mennicke Hall \nAll women are warmly invited to attend either  \nsession. Let’s spread some holiday cheer together!
URL:https://goodshepherdsarasota.org/event/lwml-crafting-for-christmas/
END:VEVENT
BEGIN:VEVENT
DTSTART;TZID=UTC:20251112T190000
DTEND;TZID=UTC:20251112T200000
DTSTAMP:20260422T004453
CREATED:20250826T163947Z
LAST-MODIFIED:20251103T173338Z
UID:3145-1762974000-1762977600@goodshepherdsarasota.org
SUMMARY:HOA Stonehaven Mtg
DESCRIPTION:
URL:https://goodshepherdsarasota.org/event/hoa-stonehaven-mtg/
END:VEVENT
BEGIN:VEVENT
DTSTART;TZID=UTC:20251112T100000
DTEND;TZID=UTC:20251112T110000
DTSTAMP:20260422T004453
CREATED:20251103T173527Z
LAST-MODIFIED:20251103T173527Z
UID:3268-1762941600-1762945200@goodshepherdsarasota.org
SUMMARY:Bible Study
DESCRIPTION:
URL:https://goodshepherdsarasota.org/event/bible-study-4/
END:VEVENT
BEGIN:VEVENT
DTSTART;TZID=UTC:20251111T173000
DTEND;TZID=UTC:20251111T183000
DTSTAMP:20260422T004453
CREATED:20251103T162643Z
LAST-MODIFIED:20251103T162643Z
UID:3245-1762882200-1762885800@goodshepherdsarasota.org
SUMMARY:School Board Meeting 5:45 PM
DESCRIPTION:
URL:https://goodshepherdsarasota.org/event/school-board-meeting-545-pm-2/
END:VEVENT
BEGIN:VEVENT
DTSTART;TZID=UTC:20251106T180000
DTEND;TZID=UTC:20251106T190000
DTSTAMP:20260422T004453
CREATED:20250821T151451Z
LAST-MODIFIED:20250821T151451Z
UID:3114-1762452000-1762455600@goodshepherdsarasota.org
SUMMARY:Spin Night
DESCRIPTION:
URL:https://goodshepherdsarasota.org/event/spin-night/
END:VEVENT
END:VCALENDAR