BEGIN:VCALENDAR
VERSION:2.0
PRODID:-//Good Shepherd Lutheran Church and School - ECPv6.11.2//NONSGML v1.0//EN
CALSCALE:GREGORIAN
METHOD:PUBLISH
X-WR-CALNAME:Good Shepherd Lutheran Church and School
X-ORIGINAL-URL:https://goodshepherdsarasota.org
X-WR-CALDESC:Events for Good Shepherd Lutheran Church and School
REFRESH-INTERVAL;VALUE=DURATION:PT1H
X-Robots-Tag:noindex
X-PUBLISHED-TTL:PT1H
BEGIN:VTIMEZONE
TZID:UTC
BEGIN:STANDARD
TZOFFSETFROM:+0000
TZOFFSETTO:+0000
TZNAME:UTC
DTSTART:20160101T000000
END:STANDARD
END:VTIMEZONE
BEGIN:VEVENT
DTSTART;TZID=UTC:20160228T091500
DTEND;TZID=UTC:20160228T103000
DTSTAMP:20260424T135329
CREATED:20160203T144138Z
LAST-MODIFIED:20160203T144138Z
UID:684-1456650900-1456655400@goodshepherdsarasota.org
SUMMARY:Worship
DESCRIPTION:
URL:https://goodshepherdsarasota.org/event/worship-8/
END:VEVENT
BEGIN:VEVENT
DTSTART;TZID=UTC:20160227T173000
DTEND;TZID=UTC:20160227T183000
DTSTAMP:20260424T135329
CREATED:20160203T144101Z
LAST-MODIFIED:20160203T144101Z
UID:683-1456594200-1456597800@goodshepherdsarasota.org
SUMMARY:Worship
DESCRIPTION:
URL:https://goodshepherdsarasota.org/event/worship-7/
END:VEVENT
BEGIN:VEVENT
DTSTART;TZID=UTC:20160224T103000
DTEND;TZID=UTC:20160224T113000
DTSTAMP:20260424T135329
CREATED:20160203T144027Z
LAST-MODIFIED:20160203T144027Z
UID:682-1456309800-1456313400@goodshepherdsarasota.org
SUMMARY:Wednesday Morning Bible study
DESCRIPTION:
URL:https://goodshepherdsarasota.org/event/wednesday-morning-bible-study-33/
END:VEVENT
BEGIN:VEVENT
DTSTART;TZID=UTC:20160223T180000
DTEND;TZID=UTC:20160223T190000
DTSTAMP:20260424T135329
CREATED:20160203T143955Z
LAST-MODIFIED:20160203T143955Z
UID:681-1456250400-1456254000@goodshepherdsarasota.org
SUMMARY:Strategic Vision Task Force meeting
DESCRIPTION:
URL:https://goodshepherdsarasota.org/event/strategic-vision-task-force-meeting/
END:VEVENT
BEGIN:VEVENT
DTSTART;TZID=UTC:20160221T091500
DTEND;TZID=UTC:20160221T103000
DTSTAMP:20260424T135329
CREATED:20160203T143918Z
LAST-MODIFIED:20160203T143918Z
UID:680-1456046100-1456050600@goodshepherdsarasota.org
SUMMARY:Worship
DESCRIPTION:
URL:https://goodshepherdsarasota.org/event/worship-6/
END:VEVENT
BEGIN:VEVENT
DTSTART;TZID=UTC:20160220T173000
DTEND;TZID=UTC:20160220T183000
DTSTAMP:20260424T135329
CREATED:20160203T143851Z
LAST-MODIFIED:20160203T143851Z
UID:679-1455989400-1455993000@goodshepherdsarasota.org
SUMMARY:Worship
DESCRIPTION:
URL:https://goodshepherdsarasota.org/event/worship-5/
END:VEVENT
BEGIN:VEVENT
DTSTART;TZID=UTC:20160218T190000
DTEND;TZID=UTC:20160218T200000
DTSTAMP:20260424T135329
CREATED:20160203T143817Z
LAST-MODIFIED:20160203T143817Z
UID:678-1455822000-1455825600@goodshepherdsarasota.org
SUMMARY:Choir Rehearsal
DESCRIPTION:
URL:https://goodshepherdsarasota.org/event/choir-rehearsal-6/
END:VEVENT
BEGIN:VEVENT
DTSTART;TZID=UTC:20160217T190000
DTEND;TZID=UTC:20160217T200000
DTSTAMP:20260424T135329
CREATED:20160203T143749Z
LAST-MODIFIED:20160203T143749Z
UID:677-1455735600-1455739200@goodshepherdsarasota.org
SUMMARY:Lent Midweek Worship
DESCRIPTION:
URL:https://goodshepherdsarasota.org/event/lent-midweek-worship/
END:VEVENT
BEGIN:VEVENT
DTSTART;TZID=UTC:20160217T103000
DTEND;TZID=UTC:20160217T113000
DTSTAMP:20260424T135329
CREATED:20160203T143719Z
LAST-MODIFIED:20160203T143719Z
UID:676-1455705000-1455708600@goodshepherdsarasota.org
SUMMARY:Wednesday morning Bible study
DESCRIPTION:The Book of Job
URL:https://goodshepherdsarasota.org/event/wednesday-morning-bible-study-32/
END:VEVENT
BEGIN:VEVENT
DTSTART;TZID=UTC:20160216T103000
DTEND;TZID=UTC:20160216T113000
DTSTAMP:20260424T135329
CREATED:20160203T143629Z
LAST-MODIFIED:20160203T143629Z
UID:675-1455618600-1455622200@goodshepherdsarasota.org
SUMMARY:Hope Seeds packing event
DESCRIPTION:
URL:https://goodshepherdsarasota.org/event/hope-seeds-packing-event/
END:VEVENT
BEGIN:VEVENT
DTSTART;TZID=UTC:20160214T091500
DTEND;TZID=UTC:20160214T103000
DTSTAMP:20260424T135329
CREATED:20160203T143529Z
LAST-MODIFIED:20160203T143529Z
UID:674-1455441300-1455445800@goodshepherdsarasota.org
SUMMARY:Worship
DESCRIPTION:
URL:https://goodshepherdsarasota.org/event/worship-4/
END:VEVENT
BEGIN:VEVENT
DTSTART;TZID=UTC:20160213T173000
DTEND;TZID=UTC:20160213T183000
DTSTAMP:20260424T135329
CREATED:20160203T143502Z
LAST-MODIFIED:20160203T143502Z
UID:673-1455384600-1455388200@goodshepherdsarasota.org
SUMMARY:Worship
DESCRIPTION:
URL:https://goodshepherdsarasota.org/event/worship-3/
END:VEVENT
BEGIN:VEVENT
DTSTART;TZID=UTC:20160210T190000
DTEND;TZID=UTC:20160210T200000
DTSTAMP:20260424T135329
CREATED:20160203T143427Z
LAST-MODIFIED:20160203T143427Z
UID:672-1455130800-1455134400@goodshepherdsarasota.org
SUMMARY:Ash Wednesday worship
DESCRIPTION:
URL:https://goodshepherdsarasota.org/event/ash-wednesday-worship/
END:VEVENT
BEGIN:VEVENT
DTSTART;TZID=UTC:20160210T103000
DTEND;TZID=UTC:20160210T113000
DTSTAMP:20260424T135329
CREATED:20160203T143401Z
LAST-MODIFIED:20160203T143401Z
UID:671-1455100200-1455103800@goodshepherdsarasota.org
SUMMARY:Wednesday morning Bible study
DESCRIPTION:The Book of Job
URL:https://goodshepherdsarasota.org/event/wednesday-morning-bible-study-31/
END:VEVENT
BEGIN:VEVENT
DTSTART;TZID=UTC:20160209T173000
DTEND;TZID=UTC:20160209T183000
DTSTAMP:20260424T135329
CREATED:20160203T143319Z
LAST-MODIFIED:20160203T143319Z
UID:670-1455039000-1455042600@goodshepherdsarasota.org
SUMMARY:School Board meeting
DESCRIPTION:
URL:https://goodshepherdsarasota.org/event/school-board-meeting-5/
END:VEVENT
BEGIN:VEVENT
DTSTART;TZID=UTC:20160208T180000
DTEND;TZID=UTC:20160208T190000
DTSTAMP:20260424T135329
CREATED:20160203T143235Z
LAST-MODIFIED:20160203T143235Z
UID:669-1454954400-1454958000@goodshepherdsarasota.org
SUMMARY:School staff meeting
DESCRIPTION:
URL:https://goodshepherdsarasota.org/event/school-staff-meeting-2/
END:VEVENT
BEGIN:VEVENT
DTSTART;TZID=UTC:20160207T091500
DTEND;TZID=UTC:20160207T103000
DTSTAMP:20260424T135329
CREATED:20160203T143158Z
LAST-MODIFIED:20160203T143158Z
UID:668-1454836500-1454841000@goodshepherdsarasota.org
SUMMARY:Worship
DESCRIPTION:New member reception
URL:https://goodshepherdsarasota.org/event/worship-2/
END:VEVENT
BEGIN:VEVENT
DTSTART;TZID=UTC:20160206T173000
DTEND;TZID=UTC:20160206T183000
DTSTAMP:20260424T135329
CREATED:20160203T143117Z
LAST-MODIFIED:20160203T143117Z
UID:667-1454779800-1454783400@goodshepherdsarasota.org
SUMMARY:Worship
DESCRIPTION:
URL:https://goodshepherdsarasota.org/event/worship/
END:VEVENT
BEGIN:VEVENT
DTSTART;TZID=UTC:20160204T190000
DTEND;TZID=UTC:20160204T200000
DTSTAMP:20260424T135329
CREATED:20160203T143041Z
LAST-MODIFIED:20160203T143041Z
UID:666-1454612400-1454616000@goodshepherdsarasota.org
SUMMARY:Choir Rehearsal
DESCRIPTION:
URL:https://goodshepherdsarasota.org/event/choir-rehearsal-5/
END:VEVENT
BEGIN:VEVENT
DTSTART;TZID=UTC:20160204T100000
DTEND;TZID=UTC:20160204T113000
DTSTAMP:20260424T135329
CREATED:20160203T143010Z
LAST-MODIFIED:20160203T143010Z
UID:665-1454580000-1454585400@goodshepherdsarasota.org
SUMMARY:LWML meeting
DESCRIPTION:
URL:https://goodshepherdsarasota.org/event/lwml-meeting-2/
END:VEVENT
BEGIN:VEVENT
DTSTART;TZID=UTC:20160203T103000
DTEND;TZID=UTC:20160203T113000
DTSTAMP:20260424T135329
CREATED:20160203T142934Z
LAST-MODIFIED:20160203T142934Z
UID:664-1454495400-1454499000@goodshepherdsarasota.org
SUMMARY:Wednesday morning Bible Study
DESCRIPTION:The Book of Job
URL:https://goodshepherdsarasota.org/event/wednesday-morning-bible-study-30/
END:VEVENT
BEGIN:VEVENT
DTSTART;TZID=UTC:20160131T091500
DTEND;TZID=UTC:20160131T103000
DTSTAMP:20260424T135329
CREATED:20160106T200437Z
LAST-MODIFIED:20160106T200437Z
UID:602-1454231700-1454236200@goodshepherdsarasota.org
SUMMARY:Sunday Morning Worship
DESCRIPTION:
URL:https://goodshepherdsarasota.org/event/sunday-morning-worship-32/
END:VEVENT
BEGIN:VEVENT
DTSTART;TZID=UTC:20160130T173000
DTEND;TZID=UTC:20160130T183000
DTSTAMP:20260424T135329
CREATED:20160106T200345Z
LAST-MODIFIED:20160106T200345Z
UID:601-1454175000-1454178600@goodshepherdsarasota.org
SUMMARY:Saturday Night Worship
DESCRIPTION:
URL:https://goodshepherdsarasota.org/event/saturday-night-worship-38/
END:VEVENT
BEGIN:VEVENT
DTSTART;TZID=UTC:20160127T103000
DTEND;TZID=UTC:20160127T113000
DTSTAMP:20260424T135329
CREATED:20160106T200259Z
LAST-MODIFIED:20160106T200259Z
UID:600-1453890600-1453894200@goodshepherdsarasota.org
SUMMARY:Wednesday Morning Bible Study
DESCRIPTION:The Book of Job
URL:https://goodshepherdsarasota.org/event/wednesday-morning-bible-study-29/
END:VEVENT
BEGIN:VEVENT
DTSTART;TZID=UTC:20160124T091500
DTEND;TZID=UTC:20160124T103000
DTSTAMP:20260424T135329
CREATED:20160106T200205Z
LAST-MODIFIED:20160106T200205Z
UID:599-1453626900-1453631400@goodshepherdsarasota.org
SUMMARY:Sunday Morning Worship
DESCRIPTION:Gideon International Sunday with Pancake Breakfast to follow!
URL:https://goodshepherdsarasota.org/event/sunday-morning-worship-31/
END:VEVENT
BEGIN:VEVENT
DTSTART;TZID=UTC:20160123T173000
DTEND;TZID=UTC:20160123T183000
DTSTAMP:20260424T135329
CREATED:20160106T200113Z
LAST-MODIFIED:20160106T200113Z
UID:598-1453570200-1453573800@goodshepherdsarasota.org
SUMMARY:Saturday Night Worship
DESCRIPTION:
URL:https://goodshepherdsarasota.org/event/saturday-night-worship-37/
END:VEVENT
BEGIN:VEVENT
DTSTART;TZID=UTC:20160121T190000
DTEND;TZID=UTC:20160121T200000
DTSTAMP:20260424T135329
CREATED:20160106T200027Z
LAST-MODIFIED:20160106T200027Z
UID:597-1453402800-1453406400@goodshepherdsarasota.org
SUMMARY:Choir Rehearsal
DESCRIPTION:
URL:https://goodshepherdsarasota.org/event/choir-rehearsal-4/
END:VEVENT
BEGIN:VEVENT
DTSTART;TZID=UTC:20160121T180000
DTEND;TZID=UTC:20160121T190000
DTSTAMP:20260424T135329
CREATED:20160106T200003Z
LAST-MODIFIED:20160106T200003Z
UID:596-1453399200-1453402800@goodshepherdsarasota.org
SUMMARY:Church Council Meeting
DESCRIPTION:
URL:https://goodshepherdsarasota.org/event/church-council-meeting-4/
END:VEVENT
BEGIN:VEVENT
DTSTART;TZID=UTC:20160120T103000
DTEND;TZID=UTC:20160120T113000
DTSTAMP:20260424T135329
CREATED:20160106T195922Z
LAST-MODIFIED:20160106T195922Z
UID:595-1453285800-1453289400@goodshepherdsarasota.org
SUMMARY:Wednesday Morning Bible Study
DESCRIPTION:The Book of Job
URL:https://goodshepherdsarasota.org/event/wednesday-morning-bible-study-28/
END:VEVENT
BEGIN:VEVENT
DTSTART;TZID=UTC:20160119T190000
DTEND;TZID=UTC:20160119T200000
DTSTAMP:20260424T135329
CREATED:20160106T195821Z
LAST-MODIFIED:20160106T195821Z
UID:594-1453230000-1453233600@goodshepherdsarasota.org
SUMMARY:Altar Guild Meeting
DESCRIPTION:
URL:https://goodshepherdsarasota.org/event/altar-guild-meeting-5/
END:VEVENT
END:VCALENDAR