BEGIN:VCALENDAR
VERSION:2.0
PRODID:-//Good Shepherd Lutheran Church and School - ECPv6.11.2//NONSGML v1.0//EN
CALSCALE:GREGORIAN
METHOD:PUBLISH
X-WR-CALNAME:Good Shepherd Lutheran Church and School
X-ORIGINAL-URL:https://goodshepherdsarasota.org
X-WR-CALDESC:Events for Good Shepherd Lutheran Church and School
REFRESH-INTERVAL;VALUE=DURATION:PT1H
X-Robots-Tag:noindex
X-PUBLISHED-TTL:PT1H
BEGIN:VTIMEZONE
TZID:UTC
BEGIN:STANDARD
TZOFFSETFROM:+0000
TZOFFSETTO:+0000
TZNAME:UTC
DTSTART:20150101T000000
END:STANDARD
END:VTIMEZONE
BEGIN:VEVENT
DTSTART;TZID=UTC:20151119T190000
DTEND;TZID=UTC:20151119T200000
DTSTAMP:20260425T145901
CREATED:20151102T151756Z
LAST-MODIFIED:20151102T151756Z
UID:483-1447959600-1447963200@goodshepherdsarasota.org
SUMMARY:Choir Practice
DESCRIPTION:
URL:https://goodshepherdsarasota.org/event/choir-practice/
END:VEVENT
BEGIN:VEVENT
DTSTART;TZID=UTC:20151119T180000
DTEND;TZID=UTC:20151119T200000
DTSTAMP:20260425T145901
CREATED:20151102T151725Z
LAST-MODIFIED:20151102T151725Z
UID:482-1447956000-1447963200@goodshepherdsarasota.org
SUMMARY:Church Council Meeting
DESCRIPTION:
URL:https://goodshepherdsarasota.org/event/church-council-meeting-2/
END:VEVENT
BEGIN:VEVENT
DTSTART;TZID=UTC:20151118T103000
DTEND;TZID=UTC:20151118T113000
DTSTAMP:20260425T145901
CREATED:20151102T151645Z
LAST-MODIFIED:20151102T151645Z
UID:481-1447842600-1447846200@goodshepherdsarasota.org
SUMMARY:Wednesday Morning Bible Study
DESCRIPTION:
URL:https://goodshepherdsarasota.org/event/wednesday-morning-bible-study-21/
END:VEVENT
BEGIN:VEVENT
DTSTART;TZID=UTC:20151117T190000
DTEND;TZID=UTC:20151117T200000
DTSTAMP:20260425T145901
CREATED:20151108T133356Z
LAST-MODIFIED:20151108T133356Z
UID:491-1447786800-1447790400@goodshepherdsarasota.org
SUMMARY:Altar Guild Meeting
DESCRIPTION:
URL:https://goodshepherdsarasota.org/event/altar-guild-meeting-4/
END:VEVENT
BEGIN:VEVENT
DTSTART;TZID=UTC:20151115T091500
DTEND;TZID=UTC:20151115T101500
DTSTAMP:20260425T145901
CREATED:20151102T150908Z
LAST-MODIFIED:20151102T150908Z
UID:478-1447578900-1447582500@goodshepherdsarasota.org
SUMMARY:Sunday Morning Worship
DESCRIPTION:Bible study follows at 10:30 AM
URL:https://goodshepherdsarasota.org/event/sunday-morning-worship-21/
END:VEVENT
BEGIN:VEVENT
DTSTART;TZID=UTC:20151114T173000
DTEND;TZID=UTC:20151114T183000
DTSTAMP:20260425T145901
CREATED:20151102T150819Z
LAST-MODIFIED:20151102T150819Z
UID:477-1447522200-1447525800@goodshepherdsarasota.org
SUMMARY:Saturday Night Worship
DESCRIPTION:
URL:https://goodshepherdsarasota.org/event/saturday-night-worship-27/
END:VEVENT
BEGIN:VEVENT
DTSTART;TZID=UTC:20151111T103000
DTEND;TZID=UTC:20151111T113000
DTSTAMP:20260425T145901
CREATED:20151102T150738Z
LAST-MODIFIED:20151102T150738Z
UID:476-1447237800-1447241400@goodshepherdsarasota.org
SUMMARY:Wednesday Morning Bible Study
DESCRIPTION:
URL:https://goodshepherdsarasota.org/event/wednesday-morning-bible-study-20/
END:VEVENT
BEGIN:VEVENT
DTSTART;TZID=UTC:20151108T193000
DTEND;TZID=UTC:20151108T203000
DTSTAMP:20260425T145901
CREATED:20151102T151202Z
LAST-MODIFIED:20151102T151559Z
UID:479-1447011000-1447014600@goodshepherdsarasota.org
SUMMARY:Youth Group Meeting
DESCRIPTION:
URL:https://goodshepherdsarasota.org/event/youth-group-meeting/
END:VEVENT
BEGIN:VEVENT
DTSTART;TZID=UTC:20151108T091500
DTEND;TZID=UTC:20151108T101500
DTSTAMP:20260425T145901
CREATED:20151102T150654Z
LAST-MODIFIED:20151102T150654Z
UID:475-1446974100-1446977700@goodshepherdsarasota.org
SUMMARY:Sunday Morning Worship
DESCRIPTION:Bible study follows at 10:30 AM
URL:https://goodshepherdsarasota.org/event/sunday-morning-worship-20/
END:VEVENT
BEGIN:VEVENT
DTSTART;TZID=UTC:20151107T173000
DTEND;TZID=UTC:20151107T183000
DTSTAMP:20260425T145901
CREATED:20151102T150556Z
LAST-MODIFIED:20151102T150556Z
UID:474-1446917400-1446921000@goodshepherdsarasota.org
SUMMARY:Saturday Night Worship
DESCRIPTION:
URL:https://goodshepherdsarasota.org/event/saturday-night-worship-26/
END:VEVENT
BEGIN:VEVENT
DTSTART;TZID=UTC:20151104T103000
DTEND;TZID=UTC:20151104T113000
DTSTAMP:20260425T145901
CREATED:20151102T150516Z
LAST-MODIFIED:20151102T150516Z
UID:473-1446633000-1446636600@goodshepherdsarasota.org
SUMMARY:Wednesday Morning Bible Study
DESCRIPTION:
URL:https://goodshepherdsarasota.org/event/wednesday-morning-bible-study-19/
END:VEVENT
BEGIN:VEVENT
DTSTART;TZID=UTC:20151103T180000
DTEND;TZID=UTC:20151103T190000
DTSTAMP:20260425T145901
CREATED:20151102T150428Z
LAST-MODIFIED:20151102T150428Z
UID:472-1446573600-1446577200@goodshepherdsarasota.org
SUMMARY:School Board Meeting
DESCRIPTION:
URL:https://goodshepherdsarasota.org/event/school-board-meeting-2/
END:VEVENT
BEGIN:VEVENT
DTSTART;TZID=UTC:20151102T181500
DTEND;TZID=UTC:20151102T190000
DTSTAMP:20260425T145901
CREATED:20151102T150352Z
LAST-MODIFIED:20151102T150352Z
UID:471-1446488100-1446490800@goodshepherdsarasota.org
SUMMARY:Elders Meeting
DESCRIPTION:
URL:https://goodshepherdsarasota.org/event/elders-meeting-5/
END:VEVENT
BEGIN:VEVENT
DTSTART;TZID=UTC:20151101T091500
DTEND;TZID=UTC:20151101T101500
DTSTAMP:20260425T145901
CREATED:20151005T134242Z
LAST-MODIFIED:20151005T134242Z
UID:446-1446369300-1446372900@goodshepherdsarasota.org
SUMMARY:Sunday Morning Worship
DESCRIPTION:All Saints Day \nBible study after church = “Human Life Issues.” \n 
URL:https://goodshepherdsarasota.org/event/sunday-morning-worship-19/
END:VEVENT
BEGIN:VEVENT
DTSTART;TZID=UTC:20151031T173000
DTEND;TZID=UTC:20151031T183000
DTSTAMP:20260425T145901
CREATED:20151005T134116Z
LAST-MODIFIED:20151005T134116Z
UID:445-1446312600-1446316200@goodshepherdsarasota.org
SUMMARY:Saturday Night Worship
DESCRIPTION:
URL:https://goodshepherdsarasota.org/event/saturday-night-worship-25/
END:VEVENT
BEGIN:VEVENT
DTSTART;TZID=UTC:20151030T173000
DTEND;TZID=UTC:20151030T193000
DTSTAMP:20260425T145901
CREATED:20151005T134032Z
LAST-MODIFIED:20151005T134032Z
UID:444-1446226200-1446233400@goodshepherdsarasota.org
SUMMARY:GSLCS Fall Fest - "Trunk or Treat"
DESCRIPTION:
URL:https://goodshepherdsarasota.org/event/gslcs-fall-fest-trunk-or-treat/
END:VEVENT
BEGIN:VEVENT
DTSTART;TZID=UTC:20151028T103000
DTEND;TZID=UTC:20151028T113000
DTSTAMP:20260425T145901
CREATED:20151005T133932Z
LAST-MODIFIED:20151005T133932Z
UID:443-1446028200-1446031800@goodshepherdsarasota.org
SUMMARY:Wednesday Morning Bible Study
DESCRIPTION:Sermon on the Mount
URL:https://goodshepherdsarasota.org/event/wednesday-morning-bible-study-18/
END:VEVENT
BEGIN:VEVENT
DTSTART;TZID=UTC:20151027T180000
DTEND;TZID=UTC:20151027T190000
DTSTAMP:20260425T145901
CREATED:20151005T133837Z
LAST-MODIFIED:20151005T133837Z
UID:442-1445968800-1445972400@goodshepherdsarasota.org
SUMMARY:GSLCS School Board Meeting
DESCRIPTION:
URL:https://goodshepherdsarasota.org/event/gslcs-school-board-meeting/
END:VEVENT
BEGIN:VEVENT
DTSTART;TZID=UTC:20151025T160000
DTEND;TZID=UTC:20151025T170000
DTSTAMP:20260425T145901
CREATED:20151005T133746Z
LAST-MODIFIED:20151005T133746Z
UID:441-1445788800-1445792400@goodshepherdsarasota.org
SUMMARY:Reformation Festival
DESCRIPTION:Sarasota Circuit-wide Reformation Festival! Lakeside Lutheran Church\, Venice\, FL.
URL:https://goodshepherdsarasota.org/event/reformation-festival/
END:VEVENT
BEGIN:VEVENT
DTSTART;TZID=UTC:20151025T091500
DTEND;TZID=UTC:20151025T101500
DTSTAMP:20260425T145901
CREATED:20151005T133643Z
LAST-MODIFIED:20151005T133643Z
UID:440-1445764500-1445768100@goodshepherdsarasota.org
SUMMARY:Sunday Morning Worship
DESCRIPTION:Bible study after church = “Human Life Issues.”
URL:https://goodshepherdsarasota.org/event/sunday-morning-worship-18/
END:VEVENT
BEGIN:VEVENT
DTSTART;TZID=UTC:20151024T173000
DTEND;TZID=UTC:20151024T183000
DTSTAMP:20260425T145901
CREATED:20151005T133552Z
LAST-MODIFIED:20151005T133552Z
UID:439-1445707800-1445711400@goodshepherdsarasota.org
SUMMARY:Saturday Night Worship
DESCRIPTION:
URL:https://goodshepherdsarasota.org/event/saturday-night-worship-24/
END:VEVENT
BEGIN:VEVENT
DTSTART;TZID=UTC:20151021T103000
DTEND;TZID=UTC:20151021T113000
DTSTAMP:20260425T145901
CREATED:20151005T133453Z
LAST-MODIFIED:20151005T133453Z
UID:438-1445423400-1445427000@goodshepherdsarasota.org
SUMMARY:Wednesday Morning Bible Study
DESCRIPTION:Sermon on the Mount
URL:https://goodshepherdsarasota.org/event/wednesday-morning-bible-study-17/
END:VEVENT
BEGIN:VEVENT
DTSTART;TZID=UTC:20151019T190000
DTEND;TZID=UTC:20151019T200000
DTSTAMP:20260425T145901
CREATED:20151005T133350Z
LAST-MODIFIED:20151005T133350Z
UID:437-1445281200-1445284800@goodshepherdsarasota.org
SUMMARY:Altar Guild Meeting
DESCRIPTION:
URL:https://goodshepherdsarasota.org/event/altar-guild-meeting-3/
END:VEVENT
BEGIN:VEVENT
DTSTART;TZID=UTC:20151018T180000
DTEND;TZID=UTC:20151018T190000
DTSTAMP:20260425T145901
CREATED:20151005T133316Z
LAST-MODIFIED:20151005T133316Z
UID:436-1445191200-1445194800@goodshepherdsarasota.org
SUMMARY:GSLCS Youth Group Event
DESCRIPTION:
URL:https://goodshepherdsarasota.org/event/gslcs-youth-group-event/
END:VEVENT
BEGIN:VEVENT
DTSTART;TZID=UTC:20151018T091500
DTEND;TZID=UTC:20151018T101500
DTSTAMP:20260425T145901
CREATED:20151005T133242Z
LAST-MODIFIED:20151005T133242Z
UID:435-1445159700-1445163300@goodshepherdsarasota.org
SUMMARY:Sunday Morning Worship
DESCRIPTION:Bible study after church = “Human Life Issues.”
URL:https://goodshepherdsarasota.org/event/sunday-morning-worship-17/
END:VEVENT
BEGIN:VEVENT
DTSTART;TZID=UTC:20151017T173000
DTEND;TZID=UTC:20151017T183000
DTSTAMP:20260425T145901
CREATED:20151005T133150Z
LAST-MODIFIED:20151005T133150Z
UID:434-1445103000-1445106600@goodshepherdsarasota.org
SUMMARY:Saturday Night Worship
DESCRIPTION:
URL:https://goodshepherdsarasota.org/event/saturday-night-worship-23/
END:VEVENT
BEGIN:VEVENT
DTSTART;TZID=UTC:20151015T190000
DTEND;TZID=UTC:20151015T203000
DTSTAMP:20260425T145901
CREATED:20151005T133103Z
LAST-MODIFIED:20151005T133103Z
UID:433-1444935600-1444941000@goodshepherdsarasota.org
SUMMARY:POP Parenting Seminar
DESCRIPTION:
URL:https://goodshepherdsarasota.org/event/pop-parenting-seminar/
END:VEVENT
BEGIN:VEVENT
DTSTART;TZID=UTC:20151014T103000
DTEND;TZID=UTC:20151014T113000
DTSTAMP:20260425T145901
CREATED:20151005T133028Z
LAST-MODIFIED:20151005T133028Z
UID:432-1444818600-1444822200@goodshepherdsarasota.org
SUMMARY:Wednesday Morning Bible Study
DESCRIPTION:Sermon on the Mount
URL:https://goodshepherdsarasota.org/event/wednesday-morning-bible-study-16/
END:VEVENT
BEGIN:VEVENT
DTSTART;TZID=UTC:20151011T091500
DTEND;TZID=UTC:20151011T101500
DTSTAMP:20260425T145901
CREATED:20151005T132926Z
LAST-MODIFIED:20151005T132926Z
UID:431-1444554900-1444558500@goodshepherdsarasota.org
SUMMARY:Sunday Morning Worship
DESCRIPTION:Bible study after church = “Human Life Issues.”
URL:https://goodshepherdsarasota.org/event/sunday-morning-worship-16/
END:VEVENT
BEGIN:VEVENT
DTSTART;TZID=UTC:20151010T053000
DTEND;TZID=UTC:20151010T183000
DTSTAMP:20260425T145901
CREATED:20151005T132812Z
LAST-MODIFIED:20151005T132812Z
UID:430-1444455000-1444501800@goodshepherdsarasota.org
SUMMARY:Saturday Night Worship
DESCRIPTION:
URL:https://goodshepherdsarasota.org/event/saturday-night-worship-22/
END:VEVENT
END:VCALENDAR