BEGIN:VCALENDAR
VERSION:2.0
PRODID:-//Good Shepherd Lutheran Church and School - ECPv6.11.2//NONSGML v1.0//EN
CALSCALE:GREGORIAN
METHOD:PUBLISH
X-ORIGINAL-URL:https://goodshepherdsarasota.org
X-WR-CALDESC:Events for Good Shepherd Lutheran Church and School
REFRESH-INTERVAL;VALUE=DURATION:PT1H
X-Robots-Tag:noindex
X-PUBLISHED-TTL:PT1H
BEGIN:VTIMEZONE
TZID:UTC
BEGIN:STANDARD
TZOFFSETFROM:+0000
TZOFFSETTO:+0000
TZNAME:UTC
DTSTART:20150101T000000
END:STANDARD
END:VTIMEZONE
BEGIN:VEVENT
DTSTART;TZID=UTC:20151024T173000
DTEND;TZID=UTC:20151024T183000
DTSTAMP:20260425T021841
CREATED:20151005T133552Z
LAST-MODIFIED:20151005T133552Z
UID:439-1445707800-1445711400@goodshepherdsarasota.org
SUMMARY:Saturday Night Worship
DESCRIPTION:
URL:https://goodshepherdsarasota.org/event/saturday-night-worship-24/
END:VEVENT
BEGIN:VEVENT
DTSTART;TZID=UTC:20151021T103000
DTEND;TZID=UTC:20151021T113000
DTSTAMP:20260425T021841
CREATED:20151005T133453Z
LAST-MODIFIED:20151005T133453Z
UID:438-1445423400-1445427000@goodshepherdsarasota.org
SUMMARY:Wednesday Morning Bible Study
DESCRIPTION:Sermon on the Mount
URL:https://goodshepherdsarasota.org/event/wednesday-morning-bible-study-17/
END:VEVENT
BEGIN:VEVENT
DTSTART;TZID=UTC:20151019T190000
DTEND;TZID=UTC:20151019T200000
DTSTAMP:20260425T021841
CREATED:20151005T133350Z
LAST-MODIFIED:20151005T133350Z
UID:437-1445281200-1445284800@goodshepherdsarasota.org
SUMMARY:Altar Guild Meeting
DESCRIPTION:
URL:https://goodshepherdsarasota.org/event/altar-guild-meeting-3/
END:VEVENT
BEGIN:VEVENT
DTSTART;TZID=UTC:20151018T180000
DTEND;TZID=UTC:20151018T190000
DTSTAMP:20260425T021841
CREATED:20151005T133316Z
LAST-MODIFIED:20151005T133316Z
UID:436-1445191200-1445194800@goodshepherdsarasota.org
SUMMARY:GSLCS Youth Group Event
DESCRIPTION:
URL:https://goodshepherdsarasota.org/event/gslcs-youth-group-event/
END:VEVENT
BEGIN:VEVENT
DTSTART;TZID=UTC:20151018T091500
DTEND;TZID=UTC:20151018T101500
DTSTAMP:20260425T021841
CREATED:20151005T133242Z
LAST-MODIFIED:20151005T133242Z
UID:435-1445159700-1445163300@goodshepherdsarasota.org
SUMMARY:Sunday Morning Worship
DESCRIPTION:Bible study after church = “Human Life Issues.”
URL:https://goodshepherdsarasota.org/event/sunday-morning-worship-17/
END:VEVENT
BEGIN:VEVENT
DTSTART;TZID=UTC:20151017T173000
DTEND;TZID=UTC:20151017T183000
DTSTAMP:20260425T021841
CREATED:20151005T133150Z
LAST-MODIFIED:20151005T133150Z
UID:434-1445103000-1445106600@goodshepherdsarasota.org
SUMMARY:Saturday Night Worship
DESCRIPTION:
URL:https://goodshepherdsarasota.org/event/saturday-night-worship-23/
END:VEVENT
BEGIN:VEVENT
DTSTART;TZID=UTC:20151015T190000
DTEND;TZID=UTC:20151015T203000
DTSTAMP:20260425T021841
CREATED:20151005T133103Z
LAST-MODIFIED:20151005T133103Z
UID:433-1444935600-1444941000@goodshepherdsarasota.org
SUMMARY:POP Parenting Seminar
DESCRIPTION:
URL:https://goodshepherdsarasota.org/event/pop-parenting-seminar/
END:VEVENT
BEGIN:VEVENT
DTSTART;TZID=UTC:20151014T103000
DTEND;TZID=UTC:20151014T113000
DTSTAMP:20260425T021841
CREATED:20151005T133028Z
LAST-MODIFIED:20151005T133028Z
UID:432-1444818600-1444822200@goodshepherdsarasota.org
SUMMARY:Wednesday Morning Bible Study
DESCRIPTION:Sermon on the Mount
URL:https://goodshepherdsarasota.org/event/wednesday-morning-bible-study-16/
END:VEVENT
BEGIN:VEVENT
DTSTART;TZID=UTC:20151011T091500
DTEND;TZID=UTC:20151011T101500
DTSTAMP:20260425T021841
CREATED:20151005T132926Z
LAST-MODIFIED:20151005T132926Z
UID:431-1444554900-1444558500@goodshepherdsarasota.org
SUMMARY:Sunday Morning Worship
DESCRIPTION:Bible study after church = “Human Life Issues.”
URL:https://goodshepherdsarasota.org/event/sunday-morning-worship-16/
END:VEVENT
BEGIN:VEVENT
DTSTART;TZID=UTC:20151010T053000
DTEND;TZID=UTC:20151010T183000
DTSTAMP:20260425T021841
CREATED:20151005T132812Z
LAST-MODIFIED:20151005T132812Z
UID:430-1444455000-1444501800@goodshepherdsarasota.org
SUMMARY:Saturday Night Worship
DESCRIPTION:
URL:https://goodshepherdsarasota.org/event/saturday-night-worship-22/
END:VEVENT
BEGIN:VEVENT
DTSTART;TZID=UTC:20151007T103000
DTEND;TZID=UTC:20151007T113000
DTSTAMP:20260425T021841
CREATED:20151005T132709Z
LAST-MODIFIED:20151005T132709Z
UID:429-1444213800-1444217400@goodshepherdsarasota.org
SUMMARY:Wednesday Morning Bible Study
DESCRIPTION:Sermon on the Mount
URL:https://goodshepherdsarasota.org/event/wednesday-morning-bible-study-15/
END:VEVENT
BEGIN:VEVENT
DTSTART;TZID=UTC:20151005T181500
DTEND;TZID=UTC:20151005T190000
DTSTAMP:20260425T021841
CREATED:20151005T132606Z
LAST-MODIFIED:20151005T132606Z
UID:428-1444068900-1444071600@goodshepherdsarasota.org
SUMMARY:Elders Meeting
DESCRIPTION:
URL:https://goodshepherdsarasota.org/event/elders-meeting-4/
END:VEVENT
BEGIN:VEVENT
DTSTART;TZID=UTC:20150923T183000
DTEND;TZID=UTC:20150923T193000
DTSTAMP:20260425T021841
CREATED:20150906T162658Z
LAST-MODIFIED:20150906T162658Z
UID:413-1443033000-1443036600@goodshepherdsarasota.org
SUMMARY:GSLCS Youth Group meeting
DESCRIPTION:
URL:https://goodshepherdsarasota.org/event/gslcs-youth-group-meeting/
END:VEVENT
BEGIN:VEVENT
DTSTART;TZID=UTC:20150923T103000
DTEND;TZID=UTC:20150923T113000
DTSTAMP:20260425T021841
CREATED:20150906T162619Z
LAST-MODIFIED:20150906T162619Z
UID:412-1443004200-1443007800@goodshepherdsarasota.org
SUMMARY:Wednesday Morning Bible Study
DESCRIPTION:“The Sermon on the Mount”
URL:https://goodshepherdsarasota.org/event/wednesday-morning-bible-study-14/
END:VEVENT
BEGIN:VEVENT
DTSTART;TZID=UTC:20150920T091500
DTEND;TZID=UTC:20150920T103000
DTSTAMP:20260425T021841
CREATED:20150906T162522Z
LAST-MODIFIED:20150906T162522Z
UID:411-1442740500-1442745000@goodshepherdsarasota.org
SUMMARY:Sunday Morning Worship
DESCRIPTION:Bible study after worship = Human Life Issues
URL:https://goodshepherdsarasota.org/event/sunday-morning-worship-15/
END:VEVENT
BEGIN:VEVENT
DTSTART;TZID=UTC:20150919T173000
DTEND;TZID=UTC:20150919T183000
DTSTAMP:20260425T021841
CREATED:20150906T162404Z
LAST-MODIFIED:20150906T162404Z
UID:410-1442683800-1442687400@goodshepherdsarasota.org
SUMMARY:Saturday Night Worship
DESCRIPTION:
URL:https://goodshepherdsarasota.org/event/saturday-night-worship-21/
END:VEVENT
BEGIN:VEVENT
DTSTART;TZID=UTC:20150916T190000
DTEND;TZID=UTC:20150916T200000
DTSTAMP:20260425T021841
CREATED:20150906T162056Z
LAST-MODIFIED:20150906T162056Z
UID:409-1442430000-1442433600@goodshepherdsarasota.org
SUMMARY:Altar Guild Meeting
DESCRIPTION:
URL:https://goodshepherdsarasota.org/event/altar-guild-meeting-2/
END:VEVENT
BEGIN:VEVENT
DTSTART;TZID=UTC:20150916T190000
DTEND;TZID=UTC:20150916T200000
DTSTAMP:20260425T021841
CREATED:20150727T191058Z
LAST-MODIFIED:20150727T191058Z
UID:371-1442430000-1442433600@goodshepherdsarasota.org
SUMMARY:Altar Guild Meeting
DESCRIPTION:
URL:https://goodshepherdsarasota.org/event/altar-guild-meeting/
END:VEVENT
BEGIN:VEVENT
DTSTART;TZID=UTC:20150916T103000
DTEND;TZID=UTC:20150916T113000
DTSTAMP:20260425T021841
CREATED:20150906T162026Z
LAST-MODIFIED:20150906T162026Z
UID:408-1442399400-1442403000@goodshepherdsarasota.org
SUMMARY:Wednesday Morning Bible Study
DESCRIPTION:“The Sermon on the Mount”
URL:https://goodshepherdsarasota.org/event/wednesday-morning-bible-study-13/
END:VEVENT
BEGIN:VEVENT
DTSTART;TZID=UTC:20150915T180000
DTEND;TZID=UTC:20150915T200000
DTSTAMP:20260425T021841
CREATED:20150906T161941Z
LAST-MODIFIED:20150906T161941Z
UID:407-1442340000-1442347200@goodshepherdsarasota.org
SUMMARY:Church Council meeting
DESCRIPTION:
URL:https://goodshepherdsarasota.org/event/church-council-meeting/
END:VEVENT
BEGIN:VEVENT
DTSTART;TZID=UTC:20150914T181500
DTEND;TZID=UTC:20150914T191500
DTSTAMP:20260425T021841
CREATED:20150906T161904Z
LAST-MODIFIED:20150906T161904Z
UID:406-1442254500-1442258100@goodshepherdsarasota.org
SUMMARY:GSLCS Board of Elders meeting
DESCRIPTION:
URL:https://goodshepherdsarasota.org/event/gslcs-board-of-elders-meeting/
END:VEVENT
BEGIN:VEVENT
DTSTART;TZID=UTC:20150913T091500
DTEND;TZID=UTC:20150913T103000
DTSTAMP:20260425T021841
CREATED:20150906T161815Z
LAST-MODIFIED:20150906T161815Z
UID:405-1442135700-1442140200@goodshepherdsarasota.org
SUMMARY:Sunday Morning Worship
DESCRIPTION:Following worship\, there will be a reception for the 1-year anniversary for Pastor Anderson’s ministry at Good Shepherd!
URL:https://goodshepherdsarasota.org/event/sunday-morning-worship-14/
END:VEVENT
BEGIN:VEVENT
DTSTART;TZID=UTC:20150912T173000
DTEND;TZID=UTC:20150912T183000
DTSTAMP:20260425T021841
CREATED:20150906T161618Z
LAST-MODIFIED:20150906T161618Z
UID:404-1442079000-1442082600@goodshepherdsarasota.org
SUMMARY:Saturday Night Worship
DESCRIPTION:Live Music with School Staff Installation
URL:https://goodshepherdsarasota.org/event/saturday-night-worship-20/
END:VEVENT
BEGIN:VEVENT
DTSTART;TZID=UTC:20150909T103000
DTEND;TZID=UTC:20150909T113000
DTSTAMP:20260425T021841
CREATED:20150906T161523Z
LAST-MODIFIED:20150906T161523Z
UID:403-1441794600-1441798200@goodshepherdsarasota.org
SUMMARY:Wednesday Morning Bible Study
DESCRIPTION:“The Sermon on the Mount”
URL:https://goodshepherdsarasota.org/event/wednesday-morning-bible-study-12/
END:VEVENT
BEGIN:VEVENT
DTSTART;TZID=UTC:20150908T181500
DTEND;TZID=UTC:20150908T200000
DTSTAMP:20260425T021841
CREATED:20150906T161354Z
LAST-MODIFIED:20150906T161354Z
UID:400-1441736100-1441742400@goodshepherdsarasota.org
SUMMARY:School Board Meeting
DESCRIPTION:
URL:https://goodshepherdsarasota.org/event/school-board-meeting/
END:VEVENT
BEGIN:VEVENT
DTSTART;TZID=UTC:20150830T091500
DTEND;TZID=UTC:20150830T101500
DTSTAMP:20260425T021841
CREATED:20150727T190922Z
LAST-MODIFIED:20150727T190922Z
UID:370-1440926100-1440929700@goodshepherdsarasota.org
SUMMARY:Sunday Morning worship
DESCRIPTION:Sermon – “We’re at War!”
URL:https://goodshepherdsarasota.org/event/sunday-morning-worship-13/
END:VEVENT
BEGIN:VEVENT
DTSTART;TZID=UTC:20150829T173000
DTEND;TZID=UTC:20150829T183000
DTSTAMP:20260425T021841
CREATED:20150727T190807Z
LAST-MODIFIED:20150727T190807Z
UID:369-1440869400-1440873000@goodshepherdsarasota.org
SUMMARY:Saturday Night worship
DESCRIPTION:
URL:https://goodshepherdsarasota.org/event/saturday-night-worship-19/
END:VEVENT
BEGIN:VEVENT
DTSTART;TZID=UTC:20150824T080000
DTEND;TZID=UTC:20150824T150000
DTSTAMP:20260425T021841
CREATED:20150727T190654Z
LAST-MODIFIED:20150727T190654Z
UID:368-1440403200-1440428400@goodshepherdsarasota.org
SUMMARY:First Day of School at Good Shepherd Lutheran School
DESCRIPTION:Welcome back friends and new students/staff! Have a blessed school year!
URL:https://goodshepherdsarasota.org/event/first-day-of-school-at-good-shepherd-lutheran-school/
END:VEVENT
BEGIN:VEVENT
DTSTART;TZID=UTC:20150823T160000
DTEND;TZID=UTC:20150823T190000
DTSTAMP:20260425T021841
CREATED:20150727T190409Z
LAST-MODIFIED:20150727T190514Z
UID:367-1440345600-1440356400@goodshepherdsarasota.org
SUMMARY:Good Shepherd Lutheran School Orientation
DESCRIPTION:
URL:https://goodshepherdsarasota.org/event/good-shepherd-lutheran-school-orientation/
END:VEVENT
BEGIN:VEVENT
DTSTART;TZID=UTC:20150823T091500
DTEND;TZID=UTC:20150823T101500
DTSTAMP:20260425T021841
CREATED:20150727T190313Z
LAST-MODIFIED:20150727T190313Z
UID:366-1440321300-1440324900@goodshepherdsarasota.org
SUMMARY:Sunday Morning worship
DESCRIPTION:Sermon – “”Cleaning Day”
URL:https://goodshepherdsarasota.org/event/sunday-morning-worship-12/
END:VEVENT
END:VCALENDAR