BEGIN:VCALENDAR
VERSION:2.0
PRODID:-//Good Shepherd Lutheran Church and School - ECPv6.11.2//NONSGML v1.0//EN
CALSCALE:GREGORIAN
METHOD:PUBLISH
X-WR-CALNAME:Good Shepherd Lutheran Church and School
X-ORIGINAL-URL:https://goodshepherdsarasota.org
X-WR-CALDESC:Events for Good Shepherd Lutheran Church and School
REFRESH-INTERVAL;VALUE=DURATION:PT1H
X-Robots-Tag:noindex
X-PUBLISHED-TTL:PT1H
BEGIN:VTIMEZONE
TZID:UTC
BEGIN:STANDARD
TZOFFSETFROM:+0000
TZOFFSETTO:+0000
TZNAME:UTC
DTSTART:20150101T000000
END:STANDARD
END:VTIMEZONE
BEGIN:VEVENT
DTSTART;TZID=UTC:20150822T173000
DTEND;TZID=UTC:20150822T183000
DTSTAMP:20260425T135911
CREATED:20150727T190157Z
LAST-MODIFIED:20150727T190157Z
UID:365-1440264600-1440268200@goodshepherdsarasota.org
SUMMARY:Saturday Night worship
DESCRIPTION:
URL:https://goodshepherdsarasota.org/event/saturday-night-worship-18/
END:VEVENT
BEGIN:VEVENT
DTSTART;TZID=UTC:20150816T091500
DTEND;TZID=UTC:20150816T101500
DTSTAMP:20260425T135911
CREATED:20150727T190039Z
LAST-MODIFIED:20150727T190039Z
UID:364-1439716500-1439720100@goodshepherdsarasota.org
SUMMARY:Sunday Morning worship
DESCRIPTION:Sermon – “Are You Afraid of God?”
URL:https://goodshepherdsarasota.org/event/sunday-morning-worship-11/
END:VEVENT
BEGIN:VEVENT
DTSTART;TZID=UTC:20150815T173000
DTEND;TZID=UTC:20150815T183000
DTSTAMP:20260425T135911
CREATED:20150727T185656Z
LAST-MODIFIED:20150727T185656Z
UID:361-1439659800-1439663400@goodshepherdsarasota.org
SUMMARY:Saturday Night worship
DESCRIPTION:
URL:https://goodshepherdsarasota.org/event/saturday-night-worship-17/
END:VEVENT
BEGIN:VEVENT
DTSTART;TZID=UTC:20150815T150000
DTEND;TZID=UTC:20150815T190000
DTSTAMP:20260425T135911
CREATED:20150727T185834Z
LAST-MODIFIED:20150727T185834Z
UID:362-1439650800-1439665200@goodshepherdsarasota.org
SUMMARY:Blessing of the Backpacks
DESCRIPTION:This annual event begins at 3:00 PM with bounce houses\, wet and dry\, Sarasota Community Blood Bank will be here accepting donations as well as All Faith’s Food Bank. Robb Wolf will be cooking some of his famous BBQ it will be a great family afternoon! Our 5:30 contemporary worship service will be held on the pavilion led by Pastor and once again we are blessed to have a live band (same as last year). During the service all are welcome to bring their backpacks\, diaper bags\, brief cases\, or lunch boxes to be blessed for the upcoming year. Please plan to attend!
URL:https://goodshepherdsarasota.org/event/blessing-of-the-backpacks/
END:VEVENT
BEGIN:VEVENT
DTSTART;TZID=UTC:20150809T091500
DTEND;TZID=UTC:20150809T221500
DTSTAMP:20260425T135911
CREATED:20150727T185530Z
LAST-MODIFIED:20150727T185530Z
UID:360-1439111700-1439158500@goodshepherdsarasota.org
SUMMARY:Sunday Morning worship
DESCRIPTION:Sermon – “House of our Dreams”
URL:https://goodshepherdsarasota.org/event/sunday-morning-worship-10/
END:VEVENT
BEGIN:VEVENT
DTSTART;TZID=UTC:20150808T173000
DTEND;TZID=UTC:20150808T183000
DTSTAMP:20260425T135911
CREATED:20150727T185418Z
LAST-MODIFIED:20150727T185418Z
UID:359-1439055000-1439058600@goodshepherdsarasota.org
SUMMARY:Saturday Night worship
DESCRIPTION:
URL:https://goodshepherdsarasota.org/event/saturday-night-worship-16/
END:VEVENT
BEGIN:VEVENT
DTSTART;TZID=UTC:20150803T180000
DTEND;TZID=UTC:20150803T190000
DTSTAMP:20260425T135911
CREATED:20150727T185310Z
LAST-MODIFIED:20150727T185310Z
UID:358-1438624800-1438628400@goodshepherdsarasota.org
SUMMARY:Elders Meeting
DESCRIPTION:
URL:https://goodshepherdsarasota.org/event/elders-meeting-3/
END:VEVENT
BEGIN:VEVENT
DTSTART;TZID=UTC:20150802T091500
DTEND;TZID=UTC:20150802T101500
DTSTAMP:20260425T135911
CREATED:20150727T185219Z
LAST-MODIFIED:20150727T185219Z
UID:357-1438506900-1438510500@goodshepherdsarasota.org
SUMMARY:Sunday Morning worship
DESCRIPTION:Sermon – “See Jonah Pout”
URL:https://goodshepherdsarasota.org/event/sunday-morning-worship-9/
END:VEVENT
BEGIN:VEVENT
DTSTART;TZID=UTC:20150801T173000
DTEND;TZID=UTC:20150801T183000
DTSTAMP:20260425T135911
CREATED:20150727T185013Z
LAST-MODIFIED:20150727T185013Z
UID:356-1438450200-1438453800@goodshepherdsarasota.org
SUMMARY:Saturday Night worship
DESCRIPTION:
URL:https://goodshepherdsarasota.org/event/saturday-night-worship-15/
END:VEVENT
BEGIN:VEVENT
DTSTART;TZID=UTC:20150719T091500
DTEND;TZID=UTC:20150719T103000
DTSTAMP:20260425T135911
CREATED:20150616T150216Z
LAST-MODIFIED:20150616T150216Z
UID:340-1437297300-1437301800@goodshepherdsarasota.org
SUMMARY:Sunday Morning Worship
DESCRIPTION:
URL:https://goodshepherdsarasota.org/event/sunday-morning-worship-8/
END:VEVENT
BEGIN:VEVENT
DTSTART;TZID=UTC:20150718T173000
DTEND;TZID=UTC:20150718T183000
DTSTAMP:20260425T135911
CREATED:20150616T150124Z
LAST-MODIFIED:20150616T150124Z
UID:339-1437240600-1437244200@goodshepherdsarasota.org
SUMMARY:Saturday Night Worship
DESCRIPTION:
URL:https://goodshepherdsarasota.org/event/saturday-night-worship-14/
END:VEVENT
BEGIN:VEVENT
DTSTART;TZID=UTC:20150717T120000
DTEND;TZID=UTC:20150717T150000
DTSTAMP:20260425T135911
CREATED:20150616T150033Z
LAST-MODIFIED:20150616T150033Z
UID:338-1437134400-1437145200@goodshepherdsarasota.org
SUMMARY:Camp Discovery - VBS Day 5
DESCRIPTION:
URL:https://goodshepherdsarasota.org/event/camp-discovery-vbs-day-5/
END:VEVENT
BEGIN:VEVENT
DTSTART;TZID=UTC:20150716T120000
DTEND;TZID=UTC:20150716T150000
DTSTAMP:20260425T135911
CREATED:20150616T145931Z
LAST-MODIFIED:20150616T145931Z
UID:337-1437048000-1437058800@goodshepherdsarasota.org
SUMMARY:Camp Discovery - VBS Day 4
DESCRIPTION:
URL:https://goodshepherdsarasota.org/event/camp-discovery-vbs-day-4/
END:VEVENT
BEGIN:VEVENT
DTSTART;TZID=UTC:20150715T120000
DTEND;TZID=UTC:20150715T150000
DTSTAMP:20260425T135911
CREATED:20150616T145811Z
LAST-MODIFIED:20150616T145811Z
UID:335-1436961600-1436972400@goodshepherdsarasota.org
SUMMARY:Camp Discovery - VBS Day 3
DESCRIPTION:
URL:https://goodshepherdsarasota.org/event/camp-discovery-vbs-day-3/
END:VEVENT
BEGIN:VEVENT
DTSTART;TZID=UTC:20150715T103000
DTEND;TZID=UTC:20150715T113000
DTSTAMP:20260425T135911
CREATED:20150616T145855Z
LAST-MODIFIED:20150616T145855Z
UID:336-1436956200-1436959800@goodshepherdsarasota.org
SUMMARY:Wednesday Morning Bible Study
DESCRIPTION:
URL:https://goodshepherdsarasota.org/event/wednesday-morning-bible-study-11/
END:VEVENT
BEGIN:VEVENT
DTSTART;TZID=UTC:20150714T120000
DTEND;TZID=UTC:20150714T150000
DTSTAMP:20260425T135911
CREATED:20150616T145717Z
LAST-MODIFIED:20150616T145717Z
UID:334-1436875200-1436886000@goodshepherdsarasota.org
SUMMARY:Camp Discovery - VBS Day 2
DESCRIPTION:
URL:https://goodshepherdsarasota.org/event/camp-discovery-vbs-day-2/
END:VEVENT
BEGIN:VEVENT
DTSTART;TZID=UTC:20150713T120000
DTEND;TZID=UTC:20150717T150000
DTSTAMP:20260425T135911
CREATED:20150519T144846Z
LAST-MODIFIED:20150519T144948Z
UID:284-1436788800-1437145200@goodshepherdsarasota.org
SUMMARY:"Camp Discovery" - VBS 2015
DESCRIPTION:At Camp Discovery children will explore five Bible stories that show how God works in His people to save them – and how He works through His people to serve others! Come discover His plan! Come discover His purpose! \nVBS each day will start at 12:00 PM and finish at 3:00 PM.
URL:https://goodshepherdsarasota.org/event/camp-discovery-vbs-2015/
END:VEVENT
BEGIN:VEVENT
DTSTART;TZID=UTC:20150713T120000
DTEND;TZID=UTC:20150713T150000
DTSTAMP:20260425T135911
CREATED:20150616T145637Z
LAST-MODIFIED:20150616T145637Z
UID:333-1436788800-1436799600@goodshepherdsarasota.org
SUMMARY:Camp Discovery - VBS Day 1
DESCRIPTION:
URL:https://goodshepherdsarasota.org/event/camp-discovery-vbs-day-1/
END:VEVENT
BEGIN:VEVENT
DTSTART;TZID=UTC:20150712T091500
DTEND;TZID=UTC:20150712T103000
DTSTAMP:20260425T135911
CREATED:20150616T145550Z
LAST-MODIFIED:20150616T145550Z
UID:332-1436692500-1436697000@goodshepherdsarasota.org
SUMMARY:Sunday Morning Worship
DESCRIPTION:
URL:https://goodshepherdsarasota.org/event/sunday-morning-worship-7/
END:VEVENT
BEGIN:VEVENT
DTSTART;TZID=UTC:20150711T173000
DTEND;TZID=UTC:20150711T183000
DTSTAMP:20260425T135911
CREATED:20150616T145504Z
LAST-MODIFIED:20150616T145504Z
UID:331-1436635800-1436639400@goodshepherdsarasota.org
SUMMARY:Saturday Night Worship
DESCRIPTION:
URL:https://goodshepherdsarasota.org/event/saturday-night-worship-13/
END:VEVENT
BEGIN:VEVENT
DTSTART;TZID=UTC:20150709T091500
DTEND;TZID=UTC:20150709T103000
DTSTAMP:20260425T135911
CREATED:20150616T145237Z
LAST-MODIFIED:20150616T145237Z
UID:328-1436433300-1436437800@goodshepherdsarasota.org
SUMMARY:Sunday Morning Worship
DESCRIPTION:
URL:https://goodshepherdsarasota.org/event/sunday-morning-worship-6/
END:VEVENT
BEGIN:VEVENT
DTSTART;TZID=UTC:20150708T103000
DTEND;TZID=UTC:20150708T113000
DTSTAMP:20260425T135911
CREATED:20150616T145405Z
LAST-MODIFIED:20150616T145405Z
UID:330-1436351400-1436355000@goodshepherdsarasota.org
SUMMARY:Wednesday Morning Bible Study
DESCRIPTION:
URL:https://goodshepherdsarasota.org/event/wednesday-morning-bible-study-10/
END:VEVENT
BEGIN:VEVENT
DTSTART;TZID=UTC:20150706T180000
DTEND;TZID=UTC:20150706T190000
DTSTAMP:20260425T135911
CREATED:20150616T145311Z
LAST-MODIFIED:20150616T145311Z
UID:329-1436205600-1436209200@goodshepherdsarasota.org
SUMMARY:Elder's Meeting
DESCRIPTION:
URL:https://goodshepherdsarasota.org/event/elders-meeting-2/
END:VEVENT
BEGIN:VEVENT
DTSTART;TZID=UTC:20150704T173000
DTEND;TZID=UTC:20150704T183000
DTSTAMP:20260425T135911
CREATED:20150616T145120Z
LAST-MODIFIED:20150616T145120Z
UID:327-1436031000-1436034600@goodshepherdsarasota.org
SUMMARY:Saturday Night Worship
DESCRIPTION:
URL:https://goodshepherdsarasota.org/event/saturday-night-worship-12/
END:VEVENT
BEGIN:VEVENT
DTSTART;TZID=UTC:20150701T103000
DTEND;TZID=UTC:20150701T113000
DTSTAMP:20260425T135911
CREATED:20150616T145027Z
LAST-MODIFIED:20150616T145027Z
UID:326-1435746600-1435750200@goodshepherdsarasota.org
SUMMARY:Wednesday Morning Bible Study
DESCRIPTION:
URL:https://goodshepherdsarasota.org/event/wednesday-morning-bible-study-9/
END:VEVENT
BEGIN:VEVENT
DTSTART;TZID=UTC:20150628T091500
DTEND;TZID=UTC:20150628T103000
DTSTAMP:20260425T135911
CREATED:20150616T144926Z
LAST-MODIFIED:20150616T144926Z
UID:325-1435482900-1435487400@goodshepherdsarasota.org
SUMMARY:Sunday Morning Worship
DESCRIPTION:
URL:https://goodshepherdsarasota.org/event/sunday-morning-worship-5/
END:VEVENT
BEGIN:VEVENT
DTSTART;TZID=UTC:20150627T173000
DTEND;TZID=UTC:20150627T183000
DTSTAMP:20260425T135911
CREATED:20150616T144833Z
LAST-MODIFIED:20150616T144833Z
UID:324-1435426200-1435429800@goodshepherdsarasota.org
SUMMARY:Saturday Night Worship
DESCRIPTION:
URL:https://goodshepherdsarasota.org/event/saturday-night-worship-11/
END:VEVENT
BEGIN:VEVENT
DTSTART;TZID=UTC:20150624T103000
DTEND;TZID=UTC:20150624T113000
DTSTAMP:20260425T135911
CREATED:20150616T144740Z
LAST-MODIFIED:20150616T144740Z
UID:323-1435141800-1435145400@goodshepherdsarasota.org
SUMMARY:Wednesday Morning Bible Study
DESCRIPTION:Using Your Lutheran Lenses
URL:https://goodshepherdsarasota.org/event/wednesday-morning-bible-study-8/
END:VEVENT
BEGIN:VEVENT
DTSTART;TZID=UTC:20150621T091500
DTEND;TZID=UTC:20150621T103000
DTSTAMP:20260425T135911
CREATED:20150616T144635Z
LAST-MODIFIED:20150616T144635Z
UID:322-1434878100-1434882600@goodshepherdsarasota.org
SUMMARY:Sunday Morning Worship
DESCRIPTION:
URL:https://goodshepherdsarasota.org/event/sunday-morning-worship-4/
END:VEVENT
BEGIN:VEVENT
DTSTART;TZID=UTC:20150620T173000
DTEND;TZID=UTC:20150620T183000
DTSTAMP:20260425T135911
CREATED:20150616T144543Z
LAST-MODIFIED:20150616T144543Z
UID:321-1434821400-1434825000@goodshepherdsarasota.org
SUMMARY:Saturday Night Worship
DESCRIPTION:
URL:https://goodshepherdsarasota.org/event/saturday-night-worship-10/
END:VEVENT
END:VCALENDAR