BEGIN:VCALENDAR
VERSION:2.0
PRODID:-//Good Shepherd Lutheran Church and School - ECPv6.11.2//NONSGML v1.0//EN
CALSCALE:GREGORIAN
METHOD:PUBLISH
X-WR-CALNAME:Good Shepherd Lutheran Church and School
X-ORIGINAL-URL:https://goodshepherdsarasota.org
X-WR-CALDESC:Events for Good Shepherd Lutheran Church and School
REFRESH-INTERVAL;VALUE=DURATION:PT1H
X-Robots-Tag:noindex
X-PUBLISHED-TTL:PT1H
BEGIN:VTIMEZONE
TZID:UTC
BEGIN:STANDARD
TZOFFSETFROM:+0000
TZOFFSETTO:+0000
TZNAME:UTC
DTSTART:20150101T000000
END:STANDARD
END:VTIMEZONE
BEGIN:VEVENT
DTSTART;TZID=UTC:20150704T173000
DTEND;TZID=UTC:20150704T183000
DTSTAMP:20260425T135733
CREATED:20150616T145120Z
LAST-MODIFIED:20150616T145120Z
UID:327-1436031000-1436034600@goodshepherdsarasota.org
SUMMARY:Saturday Night Worship
DESCRIPTION:
URL:https://goodshepherdsarasota.org/event/saturday-night-worship-12/
END:VEVENT
BEGIN:VEVENT
DTSTART;TZID=UTC:20150701T103000
DTEND;TZID=UTC:20150701T113000
DTSTAMP:20260425T135733
CREATED:20150616T145027Z
LAST-MODIFIED:20150616T145027Z
UID:326-1435746600-1435750200@goodshepherdsarasota.org
SUMMARY:Wednesday Morning Bible Study
DESCRIPTION:
URL:https://goodshepherdsarasota.org/event/wednesday-morning-bible-study-9/
END:VEVENT
BEGIN:VEVENT
DTSTART;TZID=UTC:20150628T091500
DTEND;TZID=UTC:20150628T103000
DTSTAMP:20260425T135733
CREATED:20150616T144926Z
LAST-MODIFIED:20150616T144926Z
UID:325-1435482900-1435487400@goodshepherdsarasota.org
SUMMARY:Sunday Morning Worship
DESCRIPTION:
URL:https://goodshepherdsarasota.org/event/sunday-morning-worship-5/
END:VEVENT
BEGIN:VEVENT
DTSTART;TZID=UTC:20150627T173000
DTEND;TZID=UTC:20150627T183000
DTSTAMP:20260425T135733
CREATED:20150616T144833Z
LAST-MODIFIED:20150616T144833Z
UID:324-1435426200-1435429800@goodshepherdsarasota.org
SUMMARY:Saturday Night Worship
DESCRIPTION:
URL:https://goodshepherdsarasota.org/event/saturday-night-worship-11/
END:VEVENT
BEGIN:VEVENT
DTSTART;TZID=UTC:20150624T103000
DTEND;TZID=UTC:20150624T113000
DTSTAMP:20260425T135733
CREATED:20150616T144740Z
LAST-MODIFIED:20150616T144740Z
UID:323-1435141800-1435145400@goodshepherdsarasota.org
SUMMARY:Wednesday Morning Bible Study
DESCRIPTION:Using Your Lutheran Lenses
URL:https://goodshepherdsarasota.org/event/wednesday-morning-bible-study-8/
END:VEVENT
BEGIN:VEVENT
DTSTART;TZID=UTC:20150621T091500
DTEND;TZID=UTC:20150621T103000
DTSTAMP:20260425T135733
CREATED:20150616T144635Z
LAST-MODIFIED:20150616T144635Z
UID:322-1434878100-1434882600@goodshepherdsarasota.org
SUMMARY:Sunday Morning Worship
DESCRIPTION:
URL:https://goodshepherdsarasota.org/event/sunday-morning-worship-4/
END:VEVENT
BEGIN:VEVENT
DTSTART;TZID=UTC:20150620T173000
DTEND;TZID=UTC:20150620T183000
DTSTAMP:20260425T135733
CREATED:20150616T144543Z
LAST-MODIFIED:20150616T144543Z
UID:321-1434821400-1434825000@goodshepherdsarasota.org
SUMMARY:Saturday Night Worship
DESCRIPTION:
URL:https://goodshepherdsarasota.org/event/saturday-night-worship-10/
END:VEVENT
BEGIN:VEVENT
DTSTART;TZID=UTC:20150617T103000
DTEND;TZID=UTC:20150617T113000
DTSTAMP:20260425T135733
CREATED:20150616T144426Z
LAST-MODIFIED:20150616T144450Z
UID:320-1434537000-1434540600@goodshepherdsarasota.org
SUMMARY:Wednesday morning Bible study
DESCRIPTION:“Using Your Lutheran Lenses”
URL:https://goodshepherdsarasota.org/event/wednesday-morning-bible-study-7/
END:VEVENT
BEGIN:VEVENT
DTSTART;TZID=UTC:20150614T091500
DTEND;TZID=UTC:20150614T101500
DTSTAMP:20260425T135733
CREATED:20150601T212232Z
LAST-MODIFIED:20150601T212232Z
UID:309-1434273300-1434276900@goodshepherdsarasota.org
SUMMARY:Sunday Morning Worship
DESCRIPTION:
URL:https://goodshepherdsarasota.org/event/sunday-morning-worship-3/
END:VEVENT
BEGIN:VEVENT
DTSTART;TZID=UTC:20150613T173000
DTEND;TZID=UTC:20150613T183000
DTSTAMP:20260425T135733
CREATED:20150601T212142Z
LAST-MODIFIED:20150601T212142Z
UID:308-1434216600-1434220200@goodshepherdsarasota.org
SUMMARY:Saturday Night Worship
DESCRIPTION:
URL:https://goodshepherdsarasota.org/event/saturday-night-worship-9/
END:VEVENT
BEGIN:VEVENT
DTSTART;TZID=UTC:20150610T103000
DTEND;TZID=UTC:20150610T113000
DTSTAMP:20260425T135733
CREATED:20150601T212025Z
LAST-MODIFIED:20150601T212316Z
UID:307-1433932200-1433935800@goodshepherdsarasota.org
SUMMARY:Wednesday morning Bible Study
DESCRIPTION:“Using Your Lutheran Lenses”
URL:https://goodshepherdsarasota.org/event/wednesday-morning-bible-study-6/
END:VEVENT
BEGIN:VEVENT
DTSTART;VALUE=DATE:20150608
DTEND;VALUE=DATE:20150815
DTSTAMP:20260425T135733
CREATED:20150421T193939Z
LAST-MODIFIED:20150422T194440Z
UID:226-1433721600-1439596799@goodshepherdsarasota.org
SUMMARY:Good Shepherd Lutheran School Summer Camp
DESCRIPTION:Summer is time for playing and exploration. In our program\, weekly themes give us a focus to rotate around. Hands-on activities that touch on important subjects like literature\, math\, science\, social studies\, and art give us opportunity to explore themes that may not fit in the traditional school year curriculum. \nGood Shepherd Lutheran School’s Summer Camp Program is available for ten weeks June 8 through August 14\, from 9:00 AM to 12:00 PM\, Monday through Friday. Camp will be closed on July 3rd in observance of the holiday. The fees for camp are $60 per child\, per week\, and there is no registration fee. Childcare is available from the hours of 7:30 AM to 6:00 PM for $45 per week (K-5 grades) Summer camp is open to students who have completed VPK (ages 5 years) through 5th grade. \nThe weekly themes  for June are as follows:  June 8 – Dinosaur Week\, June 15 – Robots and Rivets\, June 22- From Outer Space\, June 29 – Superheros\, Oh\, My!  With more fun to come for July and August. \nMore information is available by contacting the school office at 941.922.9168 \napplication
URL:https://goodshepherdsarasota.org/event/good-shepherd-lutheran-school-summer-camp/
END:VEVENT
BEGIN:VEVENT
DTSTART;TZID=UTC:20150607T091500
DTEND;TZID=UTC:20150607T101500
DTSTAMP:20260425T135733
CREATED:20150521T145411Z
LAST-MODIFIED:20150521T145411Z
UID:296-1433668500-1433672100@goodshepherdsarasota.org
SUMMARY:Sunday Morning Worship
DESCRIPTION:Bible study follows worship at 10:30 AM.
URL:https://goodshepherdsarasota.org/event/sunday-morning-worship-2/
END:VEVENT
BEGIN:VEVENT
DTSTART;TZID=UTC:20150606T173000
DTEND;TZID=UTC:20150606T183000
DTSTAMP:20260425T135733
CREATED:20150521T145251Z
LAST-MODIFIED:20150521T145251Z
UID:295-1433611800-1433615400@goodshepherdsarasota.org
SUMMARY:Saturday Night Worship
DESCRIPTION:
URL:https://goodshepherdsarasota.org/event/saturday-night-worship-8/
END:VEVENT
BEGIN:VEVENT
DTSTART;TZID=UTC:20150603T103000
DTEND;TZID=UTC:20150603T113000
DTSTAMP:20260425T135733
CREATED:20150521T145031Z
LAST-MODIFIED:20150601T212410Z
UID:293-1433327400-1433331000@goodshepherdsarasota.org
SUMMARY:Bible Study
DESCRIPTION:“Using Your Lutheran Lenses”
URL:https://goodshepherdsarasota.org/event/bible-study/
END:VEVENT
BEGIN:VEVENT
DTSTART;VALUE=DATE:20150603
DTEND;VALUE=DATE:20150604
DTSTAMP:20260425T135733
CREATED:20150521T145203Z
LAST-MODIFIED:20150521T145203Z
UID:294-1433289600-1433375999@goodshepherdsarasota.org
SUMMARY:LAST DAY OF SCHOOL
DESCRIPTION:
URL:https://goodshepherdsarasota.org/event/last-day-of-school/
END:VEVENT
BEGIN:VEVENT
DTSTART;TZID=UTC:20150601T180000
DTEND;TZID=UTC:20150601T190000
DTSTAMP:20260425T135733
CREATED:20150521T144905Z
LAST-MODIFIED:20150521T144905Z
UID:292-1433181600-1433185200@goodshepherdsarasota.org
SUMMARY:Elder's Meeting
DESCRIPTION:
URL:https://goodshepherdsarasota.org/event/elders-meeting/
END:VEVENT
BEGIN:VEVENT
DTSTART;TZID=UTC:20150529T183000
DTEND;TZID=UTC:20150529T203000
DTSTAMP:20260425T135733
CREATED:20150420T133123Z
LAST-MODIFIED:20150420T133123Z
UID:202-1432924200-1432931400@goodshepherdsarasota.org
SUMMARY:Trivia Night
DESCRIPTION:A night of fellowship\, food\, and friendly competition at the GSLCS Trivia Night!
URL:https://goodshepherdsarasota.org/event/trivia-night/
END:VEVENT
BEGIN:VEVENT
DTSTART;TZID=UTC:20150524T091500
DTEND;TZID=UTC:20150524T101500
DTSTAMP:20260425T135733
CREATED:20150420T132954Z
LAST-MODIFIED:20150420T132954Z
UID:201-1432458900-1432462500@goodshepherdsarasota.org
SUMMARY:Sunday morning worship - Pentecost
DESCRIPTION:
URL:https://goodshepherdsarasota.org/event/sunday-morning-worship-pentecost/
END:VEVENT
BEGIN:VEVENT
DTSTART;TZID=UTC:20150523T173000
DTEND;TZID=UTC:20150523T183000
DTSTAMP:20260425T135733
CREATED:20150420T132855Z
LAST-MODIFIED:20150420T132855Z
UID:200-1432402200-1432405800@goodshepherdsarasota.org
SUMMARY:Saturday night worship
DESCRIPTION:
URL:https://goodshepherdsarasota.org/event/saturday-night-worship-7/
END:VEVENT
BEGIN:VEVENT
DTSTART;TZID=UTC:20150520T180000
DTEND;TZID=UTC:20150520T190000
DTSTAMP:20260425T135733
CREATED:20150429T132029Z
LAST-MODIFIED:20150429T132029Z
UID:269-1432144800-1432148400@goodshepherdsarasota.org
SUMMARY:Lay Assistant Training
DESCRIPTION:A session to refresh volunteers with procedures at Good Shepherd for those who read lessons and assist with Communion distribution.
URL:https://goodshepherdsarasota.org/event/lay-assistant-training/
END:VEVENT
BEGIN:VEVENT
DTSTART;TZID=UTC:20150520T103000
DTEND;TZID=UTC:20150520T113000
DTSTAMP:20260425T135733
CREATED:20150420T132700Z
LAST-MODIFIED:20150420T132700Z
UID:199-1432117800-1432121400@goodshepherdsarasota.org
SUMMARY:Wednesday morning Bible study
DESCRIPTION:
URL:https://goodshepherdsarasota.org/event/wednesday-morning-bible-study-5/
END:VEVENT
BEGIN:VEVENT
DTSTART;TZID=UTC:20150517T091500
DTEND;TZID=UTC:20150517T101500
DTSTAMP:20260425T135733
CREATED:20150420T132550Z
LAST-MODIFIED:20150420T132550Z
UID:198-1431854100-1431857700@goodshepherdsarasota.org
SUMMARY:Confirmation Sunday
DESCRIPTION:
URL:https://goodshepherdsarasota.org/event/confirmation-sunday/
END:VEVENT
BEGIN:VEVENT
DTSTART;TZID=UTC:20150516T173000
DTEND;TZID=UTC:20150516T183000
DTSTAMP:20260425T135733
CREATED:20150420T132438Z
LAST-MODIFIED:20150420T132438Z
UID:197-1431797400-1431801000@goodshepherdsarasota.org
SUMMARY:Saturday night worship
DESCRIPTION:
URL:https://goodshepherdsarasota.org/event/saturday-night-worship-6/
END:VEVENT
BEGIN:VEVENT
DTSTART;TZID=UTC:20150513T180000
DTEND;TZID=UTC:20150513T193000
DTSTAMP:20260425T135733
CREATED:20150420T132332Z
LAST-MODIFIED:20150420T132332Z
UID:196-1431540000-1431545400@goodshepherdsarasota.org
SUMMARY:Confirmation - final class session
DESCRIPTION:
URL:https://goodshepherdsarasota.org/event/confirmation-final-class-session/
END:VEVENT
BEGIN:VEVENT
DTSTART;TZID=UTC:20150513T103000
DTEND;TZID=UTC:20150513T113000
DTSTAMP:20260425T135733
CREATED:20150420T132256Z
LAST-MODIFIED:20150420T132256Z
UID:195-1431513000-1431516600@goodshepherdsarasota.org
SUMMARY:Wednesday morning Bible study
DESCRIPTION:
URL:https://goodshepherdsarasota.org/event/wednesday-morning-bible-study-4/
END:VEVENT
BEGIN:VEVENT
DTSTART;TZID=UTC:20150510T091500
DTEND;TZID=UTC:20150510T101500
DTSTAMP:20260425T135733
CREATED:20150420T132112Z
LAST-MODIFIED:20150420T132112Z
UID:194-1431249300-1431252900@goodshepherdsarasota.org
SUMMARY:"Faith Sunday"
DESCRIPTION:
URL:https://goodshepherdsarasota.org/event/faith-sunday/
END:VEVENT
BEGIN:VEVENT
DTSTART;TZID=UTC:20150509T173000
DTEND;TZID=UTC:20150509T183000
DTSTAMP:20260425T135733
CREATED:20150420T131524Z
LAST-MODIFIED:20150420T131524Z
UID:193-1431192600-1431196200@goodshepherdsarasota.org
SUMMARY:Saturday night worship
DESCRIPTION:
URL:https://goodshepherdsarasota.org/event/saturday-night-worship-5/
END:VEVENT
BEGIN:VEVENT
DTSTART;TZID=UTC:20150506T180000
DTEND;TZID=UTC:20150506T193000
DTSTAMP:20260425T135733
CREATED:20150420T131427Z
LAST-MODIFIED:20150420T131427Z
UID:192-1430935200-1430940600@goodshepherdsarasota.org
SUMMARY:Confirmation
DESCRIPTION:
URL:https://goodshepherdsarasota.org/event/confirmation-3/
END:VEVENT
BEGIN:VEVENT
DTSTART;TZID=UTC:20150506T103000
DTEND;TZID=UTC:20150506T113000
DTSTAMP:20260425T135733
CREATED:20150420T131354Z
LAST-MODIFIED:20150420T131354Z
UID:191-1430908200-1430911800@goodshepherdsarasota.org
SUMMARY:Wednesday morning Bible study
DESCRIPTION:
URL:https://goodshepherdsarasota.org/event/wednesday-morning-bible-study-3/
END:VEVENT
END:VCALENDAR