BEGIN:VCALENDAR
VERSION:2.0
PRODID:-//Good Shepherd Lutheran Church and School - ECPv6.11.2//NONSGML v1.0//EN
CALSCALE:GREGORIAN
METHOD:PUBLISH
X-ORIGINAL-URL:https://goodshepherdsarasota.org
X-WR-CALDESC:Events for Good Shepherd Lutheran Church and School
REFRESH-INTERVAL;VALUE=DURATION:PT1H
X-Robots-Tag:noindex
X-PUBLISHED-TTL:PT1H
BEGIN:VTIMEZONE
TZID:UTC
BEGIN:STANDARD
TZOFFSETFROM:+0000
TZOFFSETTO:+0000
TZNAME:UTC
DTSTART:20150101T000000
END:STANDARD
END:VTIMEZONE
BEGIN:VEVENT
DTSTART;TZID=UTC:20150422T180000
DTEND;TZID=UTC:20150422T193000
DTSTAMP:20260425T141626
CREATED:20150420T130438Z
LAST-MODIFIED:20150420T130438Z
UID:185-1429725600-1429731000@goodshepherdsarasota.org
SUMMARY:Confirmation
DESCRIPTION:
URL:https://goodshepherdsarasota.org/event/confirmation/
END:VEVENT
BEGIN:VEVENT
DTSTART;TZID=UTC:20150422T103000
DTEND;TZID=UTC:20150422T113000
DTSTAMP:20260425T141626
CREATED:20150420T130348Z
LAST-MODIFIED:20150420T130348Z
UID:184-1429698600-1429702200@goodshepherdsarasota.org
SUMMARY:Wednesday morning Bible study
DESCRIPTION:
URL:https://goodshepherdsarasota.org/event/wednesday-morning-bible-study/
END:VEVENT
BEGIN:VEVENT
DTSTART;TZID=UTC:20150417T191000
DTEND;TZID=UTC:20150417T220000
DTSTAMP:20260425T141626
CREATED:20150326T151630Z
LAST-MODIFIED:20150326T151630Z
UID:173-1429297800-1429308000@goodshepherdsarasota.org
SUMMARY:Good Shepherd Lutheran School Night with the Tampa Bay Rays
DESCRIPTION:Rays vs. Yankees \nDoors open at 5:10 PM; First Pitch at 7:10 PM \n$24 for Lower level; $19 for Upper level
URL:https://goodshepherdsarasota.org/event/good-shepherd-lutheran-school-night-with-the-tampa-bay-rays/
END:VEVENT
BEGIN:VEVENT
DTSTART;TZID=UTC:20150413T101500
DTEND;TZID=UTC:20150413T110000
DTSTAMP:20260425T141626
CREATED:20150404T223714Z
LAST-MODIFIED:20150404T223714Z
UID:180-1428920100-1428922800@goodshepherdsarasota.org
SUMMARY:Pancake Breakfast
DESCRIPTION:Come for worship and stay for Pancakes! Plain and Blueberry. Free-will offering.
URL:https://goodshepherdsarasota.org/event/pancake-breakfast-2/
END:VEVENT
BEGIN:VEVENT
DTSTART;TZID=UTC:20150413T091500
DTEND;TZID=UTC:20150413T103000
DTSTAMP:20260425T141626
CREATED:20150407T133116Z
LAST-MODIFIED:20150407T133203Z
UID:181-1428916500-1428921000@goodshepherdsarasota.org
SUMMARY:Sunday Morning Worship
DESCRIPTION:
URL:https://goodshepherdsarasota.org/event/saturday-night-worship/
END:VEVENT
BEGIN:VEVENT
DTSTART;TZID=UTC:20150411T173000
DTEND;TZID=UTC:20150411T183000
DTSTAMP:20260425T141626
CREATED:20150407T133306Z
LAST-MODIFIED:20150407T133306Z
UID:182-1428773400-1428777000@goodshepherdsarasota.org
SUMMARY:Saturday Night Worship
DESCRIPTION:
URL:https://goodshepherdsarasota.org/event/saturday-night-worship-2/
END:VEVENT
BEGIN:VEVENT
DTSTART;TZID=UTC:20150406T091500
DTEND;TZID=UTC:20150406T101500
DTSTAMP:20260425T141626
CREATED:20150404T220248Z
LAST-MODIFIED:20150404T220248Z
UID:178-1428311700-1428315300@goodshepherdsarasota.org
SUMMARY:Easter Morning worship
DESCRIPTION:Come celebrate the resurrection of our Lord Jesus Christ\, for He is Risen! He is Risen Indeed!
URL:https://goodshepherdsarasota.org/event/easter-morning-worship/
END:VEVENT
BEGIN:VEVENT
DTSTART;TZID=UTC:20150405T070000
DTEND;TZID=UTC:20150405T080000
DTSTAMP:20260425T141626
CREATED:20150325T125323Z
LAST-MODIFIED:20150325T125555Z
UID:157-1428217200-1428220800@goodshepherdsarasota.org
SUMMARY:Easter Sunrise Worship
DESCRIPTION:
URL:https://goodshepherdsarasota.org/event/holy-saturday-or-the-easter-vigil/
END:VEVENT
BEGIN:VEVENT
DTSTART;TZID=UTC:20150403T190000
DTEND;TZID=UTC:20150403T200000
DTSTAMP:20260425T141626
CREATED:20150325T125209Z
LAST-MODIFIED:20150325T125209Z
UID:156-1428087600-1428091200@goodshepherdsarasota.org
SUMMARY:Good Friday Worship
DESCRIPTION:
URL:https://goodshepherdsarasota.org/event/good-friday-worship/
END:VEVENT
BEGIN:VEVENT
DTSTART;TZID=UTC:20150403T100000
DTEND;TZID=UTC:20150403T230000
DTSTAMP:20260425T141626
CREATED:20150325T125141Z
LAST-MODIFIED:20150325T125141Z
UID:155-1428055200-1428102000@goodshepherdsarasota.org
SUMMARY:Easter Egg Hunt
DESCRIPTION:
URL:https://goodshepherdsarasota.org/event/easter-egg-hunt/
END:VEVENT
BEGIN:VEVENT
DTSTART;TZID=UTC:20150402T070000
DTEND;TZID=UTC:20150402T200000
DTSTAMP:20260425T141626
CREATED:20150325T125113Z
LAST-MODIFIED:20150325T125113Z
UID:154-1427958000-1428004800@goodshepherdsarasota.org
SUMMARY:Maundy Thursday Worship
DESCRIPTION:
URL:https://goodshepherdsarasota.org/event/maundy-thursday-worship/
END:VEVENT
BEGIN:VEVENT
DTSTART;TZID=UTC:20150330T190000
DTEND;TZID=UTC:20150330T200000
DTSTAMP:20260425T141626
CREATED:20150325T125031Z
LAST-MODIFIED:20150325T200552Z
UID:153-1427742000-1427745600@goodshepherdsarasota.org
SUMMARY:Christ in the Passover
DESCRIPTION:Jews for Jesus missionary Doug Drake will present on the Jewish Passover Seder and the significance of Jesus’ fulfillment of this meal.
URL:https://goodshepherdsarasota.org/event/christ-in-the-passover/
END:VEVENT
BEGIN:VEVENT
DTSTART;TZID=UTC:20150329T091500
DTEND;TZID=UTC:20150329T101500
DTSTAMP:20260425T141626
CREATED:20150325T124923Z
LAST-MODIFIED:20150325T124923Z
UID:152-1427620500-1427624100@goodshepherdsarasota.org
SUMMARY:Sunday Morning Worship
DESCRIPTION:
URL:https://goodshepherdsarasota.org/event/sunday-morning-worship/
END:VEVENT
BEGIN:VEVENT
DTSTART;TZID=UTC:20150328T173000
DTEND;TZID=UTC:20150328T183000
DTSTAMP:20260425T141626
CREATED:20150325T124811Z
LAST-MODIFIED:20150325T124811Z
UID:151-1427563800-1427567400@goodshepherdsarasota.org
SUMMARY:Contemporary Worship
DESCRIPTION:
URL:https://goodshepherdsarasota.org/event/contemporary-worship/
END:VEVENT
END:VCALENDAR